BEGIN:VCALENDAR
VERSION:2.0
PRODID:-//Matrix - ECPv6.15.20//NONSGML v1.0//EN
CALSCALE:GREGORIAN
METHOD:PUBLISH
X-ORIGINAL-URL:https://matrixni.org
X-WR-CALDESC:Events for Matrix
REFRESH-INTERVAL;VALUE=DURATION:PT1H
X-Robots-Tag:noindex
X-PUBLISHED-TTL:PT1H
BEGIN:VTIMEZONE
TZID:Europe/London
BEGIN:DAYLIGHT
TZOFFSETFROM:+0000
TZOFFSETTO:+0100
TZNAME:BST
DTSTART:20230326T010000
END:DAYLIGHT
BEGIN:STANDARD
TZOFFSETFROM:+0100
TZOFFSETTO:+0000
TZNAME:GMT
DTSTART:20231029T010000
END:STANDARD
BEGIN:DAYLIGHT
TZOFFSETFROM:+0000
TZOFFSETTO:+0100
TZNAME:BST
DTSTART:20240331T010000
END:DAYLIGHT
BEGIN:STANDARD
TZOFFSETFROM:+0100
TZOFFSETTO:+0000
TZNAME:GMT
DTSTART:20241027T010000
END:STANDARD
BEGIN:DAYLIGHT
TZOFFSETFROM:+0000
TZOFFSETTO:+0100
TZNAME:BST
DTSTART:20250330T010000
END:DAYLIGHT
BEGIN:STANDARD
TZOFFSETFROM:+0100
TZOFFSETTO:+0000
TZNAME:GMT
DTSTART:20251026T010000
END:STANDARD
END:VTIMEZONE
BEGIN:VEVENT
DTSTART;TZID=Europe/London:20241021T130000
DTEND;TZID=Europe/London:20241021T163000
DTSTAMP:20260425T050948
CREATED:20241009T132034Z
LAST-MODIFIED:20241009T132034Z
UID:27786-1729515600-1729528200@matrixni.org
SUMMARY:Digital Catapult Day of Photonics
DESCRIPTION:Smart Nano NI Innovation Programme Launch \n\n\n\n\n\nFlummoxed by photonics and what it means? Join us at Queen’s Film Theatre to mark the globally celebrated Day of Photonics\, in partnership with the Smart Nano NI consortium. As we accelerate the practical application of deep tech in manufacturing\, it’s time to highlight how industrial photonics can help optimise production\, improve efficiency and resilience\, and facilitate greater automation. \nThis event will see the launch of the latest Smart Nano NI Innovation Programme – a Technology Access Programme that will connect industry to a unique combination of experts\, cutting-edge equipment and facilities in photonics and future networks. \nAttendees will hear how the programme can accelerate their manufacturing projects\, improve supply chain resilience\, and bring their technological visions to life through deep tech solutions. \nTo shine a light on the application of photonics\, attendees will also learn more about the benefits of deep tech innovations from manufacturers and technology providers across Northern Ireland—ranging from the use of technologies such as machine vision\, optical sensors and laser scanners to inspect products\, refine designs and monitor water quality. \nAttendees will also hear how members of Smart Nano consortium are developing the latest in integrated photonic technologies to enable a range of groundbreaking applications. \nWe look forward to seeing you there! \nSmart Nano NI is a Northern Ireland consortium collaborating to develop game-changing advanced prototyping and smart manufacturing methods to deliver new technologies. The consortium shares a niche capability around nano manufacturing and world-leading knowledge in photonics. The consortium has been awarded £42.4m UK Research and Innovation’s Strength in Places Fund. The total project value including leveraged funding from other sources is £63.9m. Our collaboration is aimed at driving self-sustaining local industry and economic growth through research and innovation. \n\n\n\n\n\n\n\n\n\n\n\nWho should attend? \n\nEstablished startups or SMEs seeking to upskill in industrial photonics.\nThose working with photonics technology\, together with businesses looking to learn more about photonics.\nPolicy makers and government representatives.\nAcademics and researchers.\n\nWhy attend? \n\nLearn about the upcoming photonics and future networks Technology Access Programme.\nHear from past programme participants on the benefits of the programme.\nGain insights on how photonics technologies can drive value and boost sustainability efforts across various industries.\nNetwork with peers and industry experts.
URL:https://matrixni.org/event/digital-catapult-day-of-photonics/
LOCATION:Queens Film Theatre\, 20 University Square\, Belfast\, BT7 1PA\, United Kingdom
CATEGORIES:Technology
ATTACH;FMTTYPE=image/jpeg:https://matrixni.org/wp-content/uploads/2024/10/AdobeStock_299913718-e1728479966274.jpeg
END:VEVENT
BEGIN:VEVENT
DTSTART;TZID=Europe/London:20241022T093000
DTEND;TZID=Europe/London:20241022T110000
DTSTAMP:20260425T050948
CREATED:20241011T103132Z
LAST-MODIFIED:20241011T103132Z
UID:27800-1729589400-1729594800@matrixni.org
SUMMARY:SBRI: Ending Violence Against Women and Girls Phase 1 Information Event
DESCRIPTION:Ending Violence Against Women and Girls SBRI Phase 1 Challenges launch \nRegister for this online information session on 22nd October and hear about the launch of two concurrent and complementary SBRI challenges being issued by Ending Violence Against Women and Girls (EVAWG) within The Executive Office (TEO). \nEnding all forms of violence\, abuse\, and harm against women and girls is one of the most pressing challenges facing our society today. Violence\, abuse and harm against women and girls happens everywhere\, every day and affects how women and girls live\, work\, and socialise. It cuts across all generations\, all communities\, and all spheres of our society. \nEVAWG is a priority for the NI Executive\, which has recently launched a Strategic Framework 2024-31 and first Delivery Plan 2024-2026. There is something everyone can do to help and we want to see how innovative ideas\, and new solutions can influence change. \nAs part of the response to this\, two phase 1 SBRI challenges have been launched to explore potential solutions to assist in the eradication of this prevalent issue. These challenges are open to private companies\, professionals and social enterprises alike. Consortium bids are welcome. \nChallenge 1 invites suppliers to identify ways in which digital platforms can be used to improve the detection and reporting of violence against women and girls. Suppliers will also be asked to explore how digital platforms can be used to counter misinformation on this subject. \nFull challenge details can be found here. \nChallenge 2 invites suppliers to use innovative methods to increase and improve the physical and psychological safety from violence\, abuse and harm of women and girls in all settings. \nFull challenge details can be found here. \nFunding \nUp to 3 applicants will be selected to develop proofs of concept for each challenge. \nA total funding package of £225K per challenge has been secured via the Department for Economy (DfE). It is expected that each supplier will receive funding of up to £75k for phase 1. \nThe competition process is being managed on behalf of The Executive Office (TEO) by the Small Business Research Initiative (SBRI)\, part of Strategic Investment Board (SIB) and TEO is the contracting body in this procurement. \nThe application process for phase 1 is now open and will close on Monday 4th November at 5pm (GMT). \nIt is anticipated that phase 1 will run through to 31st March 2025. \nThe online information event aims to provide potential suppliers with further detail on: \n\nContext and details of the SBRI challenges\nChallenge timelines\nOverview of the SBRI process\nExplanations of eligibility requirements and how to apply\nQ&A session for potential suppliers\n\nFull competition details\, criteria and application form are available on the SimplyDo platform
URL:https://matrixni.org/event/sbri-ending-violence-against-women-and-girls-phase-1-information-event/
LOCATION:Online
ATTACH;FMTTYPE=image/jpeg:https://matrixni.org/wp-content/uploads/2024/10/https___cdn.evbuc_.com_images_868772979_1607333672843_1_original.jpg
END:VEVENT
BEGIN:VEVENT
DTSTART;TZID=Europe/London:20241024T093000
DTEND;TZID=Europe/London:20241024T163000
DTSTAMP:20260425T050948
CREATED:20240925T125823Z
LAST-MODIFIED:20240925T125823Z
UID:27775-1729762200-1729787400@matrixni.org
SUMMARY:Horizon Europe Roadshow: Information\, Networking and Collaboration for Success – Northern Ireland
DESCRIPTION:Horizon Europe is the world’s largest collaborative research programme worth £80bn+ over 7 years (from 2021). It is aimed at driving research excellence\, fostering innovation and tackling global challenges through collaborative projects and funding opportunities. As an associated country\, all UK organisations can benefit from Horizon Europe funding. \nJoin Innovate UK in collaboration with the Department for the Economy\, Invest NI\, Ulster University\, Queens University Belfast\, the Agri-Food and Biosciences Institute (AFBI)\, and the Department for Science Innovation and Technology (DSIT)  for an exciting in-person networking and information event to learn\, connect and discuss the Horizon Europe collaborative research and innovation opportunities that can accelerate your innovative projects. Discover how Horizon Europe has transformed ideas into successful projects across various sectors\, and how yours could be next. \nFeaturing speakers from across government\, academia and industry\, this event will highlight the importance of Horizon Europe to both the public and private sectors while showcasing firsthand experiences from those who have been through the process. \nWho should attend?\nThis event is aimed at researchers and innovative businesses from all sectors seeking to collaborate and realise their research ambitions with Horizon Europe funding. The event focus will be on information for newcomers to the Horizon Europe programme with more in-depth insights for more experienced participants. \nWhy should you attend?\nThe event will offer you the opportunity to: \n\nEngage with Horizon Europe experts\, and get first-hand information\nAsk direct questions to the National Contact Points (NCPs) and Northern Ireland Contact Points (NICPs) in breakout sessions\nHear from successful participants\nConnect and share your ideas with potential partners via in-person networking\nLearn the most up to date news and opportunities on Horizon Europe\nWe will follow-up with further dedicated activities and events to continue directly engaging with our European stakeholder audience.\n\nReserve your place now so you don’t miss this exciting event! We look forward to seeing you in-person.
URL:https://matrixni.org/event/horizon-europe-roadshow-information-networking-and-collaboration-for-success-northern-ireland/
LOCATION:lagan valley island\, 1\, The Island\, Lisburn\, bt27 4rl\, United Kingdom
CATEGORIES:Agrifood,Climate Change,Innovation
ATTACH;FMTTYPE=image/jpeg:https://matrixni.org/wp-content/uploads/2024/09/InnovateUK_LinkedInTwitterPosts_Lisburn-scaled.jpg
END:VEVENT
END:VCALENDAR