BEGIN:VCALENDAR
VERSION:2.0
PRODID:-//Matrix - ECPv6.15.20//NONSGML v1.0//EN
CALSCALE:GREGORIAN
METHOD:PUBLISH
X-WR-CALNAME:Matrix
X-ORIGINAL-URL:https://matrixni.org
X-WR-CALDESC:Events for Matrix
REFRESH-INTERVAL;VALUE=DURATION:PT1H
X-Robots-Tag:noindex
X-PUBLISHED-TTL:PT1H
BEGIN:VTIMEZONE
TZID:Europe/London
BEGIN:DAYLIGHT
TZOFFSETFROM:+0000
TZOFFSETTO:+0100
TZNAME:BST
DTSTART:20230326T010000
END:DAYLIGHT
BEGIN:STANDARD
TZOFFSETFROM:+0100
TZOFFSETTO:+0000
TZNAME:GMT
DTSTART:20231029T010000
END:STANDARD
BEGIN:DAYLIGHT
TZOFFSETFROM:+0000
TZOFFSETTO:+0100
TZNAME:BST
DTSTART:20240331T010000
END:DAYLIGHT
BEGIN:STANDARD
TZOFFSETFROM:+0100
TZOFFSETTO:+0000
TZNAME:GMT
DTSTART:20241027T010000
END:STANDARD
BEGIN:DAYLIGHT
TZOFFSETFROM:+0000
TZOFFSETTO:+0100
TZNAME:BST
DTSTART:20250330T010000
END:DAYLIGHT
BEGIN:STANDARD
TZOFFSETFROM:+0100
TZOFFSETTO:+0000
TZNAME:GMT
DTSTART:20251026T010000
END:STANDARD
END:VTIMEZONE
BEGIN:VEVENT
DTSTART;TZID=Europe/London:20240417T120000
DTEND;TZID=Europe/London:20240417T130000
DTSTAMP:20260424T193625
CREATED:20240328T113306Z
LAST-MODIFIED:20240328T113306Z
UID:27514-1713355200-1713358800@matrixni.org
SUMMARY:Data Sharing for Sustainable Transport
DESCRIPTION:Working towards a greener planet with data-driven approaches. \nJoin Anaeko for their next webinar as they discuss the strategies and approaches through data discovery and data analytics that can help achieve your transport sustainability goals. \nExplore the transformative power of data in the transport industry. Discover real-world success stories of risk reduction\, enhanced services\, & cost savings through rapid data discovery. Join Anaeko to unlock a new era of transportation innovation. \nAnaeko welcomes David Crangle\, from Simplicity Group\, as joint speaker for this webinar. David will speak around using vehicle CCTV and telematics to drive sustainability and achieve cost efficiencies. \nAbout Simplicity Group \nSimplicity Group is Ireland’s Premium Provider for award-winning fleet management software Bridgestone Webfleet Telematics and MANTIS vehicle cameras. The connected system provides real-time data\, in one centrally located platform\, alerting users to various factors such as: \n– Driver behaviour \n– Vehicle Incidents \n– Proactive vehicle maintenance checks \n– Tachograph compliance \n– CO2 monitoring \n– And more \nIt is the industry-leading approach to streamline operations\, enhance security\, and reduce administrative time for fleets in transportation.
URL:https://matrixni.org/event/data-sharing-for-sustainable-transport/
LOCATION:Online
CATEGORIES:Circular Green,Climate Change,Innovation,STEM skills,Technology,Transport
ATTACH;FMTTYPE=image/jpeg:https://matrixni.org/wp-content/uploads/2024/03/Anaeko-event-01.jpg
END:VEVENT
BEGIN:VEVENT
DTSTART;TZID=Europe/London:20240429T133000
DTEND;TZID=Europe/London:20240430T173000
DTSTAMP:20260424T193625
CREATED:20240329T103438Z
LAST-MODIFIED:20240329T103438Z
UID:27518-1714397400-1714498200@matrixni.org
SUMMARY:Health Tech Spring Conference
DESCRIPTION:Hosted by the Health Innovation and Research Alliance NI (HIRANI)\, Health Tech Spring is a two-day conference taking place in Belfast on 29 & 30 April 2024. \n\n\n\n\nWith local and global partners\, the conference will focus on two strands; digital ecosystems to integrate diagnostics and therapeutics; and community people-centred design to accelerate innovation and adoption of health technology. \nFollowing on from a sold-out summit last year\, HIRANI have expanded the event into a two-day conference which will include a “Life Sciences\, Life Support” event for businesses who provide support services to the life science industry. With Innovation zones and pitching events\, global keynotes and local thought leaders\, Health Tech Spring promises to be an iconic conference hosted in the Titanic Building.
URL:https://matrixni.org/event/health-tech-spring-conference/
LOCATION:Titanic Belfast Building\, 1 Olympic Way\, Queen's Road\, Titanic Quarter\, Belfast\, Northern Ireland\, BT3 9EP\, United Kingdom
CATEGORIES:Artificial Intelligence,Careers,Digital,Health,Technology
ATTACH;FMTTYPE=image/jpeg:https://matrixni.org/wp-content/uploads/2024/03/Spring-health-tech-01.jpg
END:VEVENT
END:VCALENDAR