BEGIN:VCALENDAR
VERSION:2.0
PRODID:-//Matrix - ECPv6.15.20//NONSGML v1.0//EN
CALSCALE:GREGORIAN
METHOD:PUBLISH
X-WR-CALNAME:Matrix
X-ORIGINAL-URL:https://matrixni.org
X-WR-CALDESC:Events for Matrix
REFRESH-INTERVAL;VALUE=DURATION:PT1H
X-Robots-Tag:noindex
X-PUBLISHED-TTL:PT1H
BEGIN:VTIMEZONE
TZID:Europe/London
BEGIN:DAYLIGHT
TZOFFSETFROM:+0000
TZOFFSETTO:+0100
TZNAME:BST
DTSTART:20230326T010000
END:DAYLIGHT
BEGIN:STANDARD
TZOFFSETFROM:+0100
TZOFFSETTO:+0000
TZNAME:GMT
DTSTART:20231029T010000
END:STANDARD
BEGIN:DAYLIGHT
TZOFFSETFROM:+0000
TZOFFSETTO:+0100
TZNAME:BST
DTSTART:20240331T010000
END:DAYLIGHT
BEGIN:STANDARD
TZOFFSETFROM:+0100
TZOFFSETTO:+0000
TZNAME:GMT
DTSTART:20241027T010000
END:STANDARD
BEGIN:DAYLIGHT
TZOFFSETFROM:+0000
TZOFFSETTO:+0100
TZNAME:BST
DTSTART:20250330T010000
END:DAYLIGHT
BEGIN:STANDARD
TZOFFSETFROM:+0100
TZOFFSETTO:+0000
TZNAME:GMT
DTSTART:20251026T010000
END:STANDARD
END:VTIMEZONE
BEGIN:VEVENT
DTSTART;TZID=Europe/London:20240215T170000
DTEND;TZID=Europe/London:20240217T210000
DTSTAMP:20260424T164334
CREATED:20240129T154500Z
LAST-MODIFIED:20240205T104008Z
UID:27299-1708016400-1708203600@matrixni.org
SUMMARY:The Compass
DESCRIPTION:Matrix is delighted to be sponsoring the launch of the 10th annual NI Sciencefest \n“Prepare for spellbinding projections\, bringing to life how we navigate knowledge\, as well as the epic stories of our own researchers\, and the science that shapes the world around us.”
URL:https://matrixni.org/event/the-compass/
LOCATION:2 Royal Avenue\, 2 Royal Avenue\, Belfast\, Northern Ireland\, BT1 1DA\, United Kingdom
CATEGORIES:Innovation,R&D,Space technology,Technology
ATTACH;FMTTYPE=image/jpeg:https://matrixni.org/wp-content/uploads/2024/01/Compass-01-01.jpg
ORGANIZER;CN="Northern Ireland Science Festival":MAILTO:info@nisciencefestival.com
END:VEVENT
BEGIN:VEVENT
DTSTART;TZID=Europe/London:20240216T110000
DTEND;TZID=Europe/London:20240216T170000
DTSTAMP:20260424T164334
CREATED:20240130T102748Z
LAST-MODIFIED:20240205T102027Z
UID:27309-1708081200-1708102800@matrixni.org
SUMMARY:Grace's Green Gadgets (Belfast)
DESCRIPTION:Matrix is proud to be sponsoring Grace’s Green Gadgets at this years NI Science Festival. \nGrace Webb is the amazing host of the award-winning CBeebies show Grace’s Amazing Machines where she explores some of the biggest\, fastest and most amazing machines in the world.
URL:https://matrixni.org/event/graces-green-gadgets-belfast/
LOCATION:The Mac\, 10 Exchange Street\, West\, Belfast\, Northern Ireland\, BT1 2NJ\, United Kingdom
CATEGORIES:Engineering,General,STEM skills,Technology,Women in STEM
ATTACH;FMTTYPE=image/jpeg:https://matrixni.org/wp-content/uploads/2024/02/Grace-webb-01.jpg
ORGANIZER;CN="Northern Ireland Science Festival":MAILTO:info@nisciencefestival.com
END:VEVENT
BEGIN:VEVENT
DTSTART;TZID=Europe/London:20240217T110000
DTEND;TZID=Europe/London:20240217T170000
DTSTAMP:20260424T164334
CREATED:20240130T103958Z
LAST-MODIFIED:20240205T102159Z
UID:27312-1708167600-1708189200@matrixni.org
SUMMARY:Grace's Green Gadgets (Derry/Londonderry)
DESCRIPTION:Matrix is proud to be sponsoring Grace’s Green Gadgets at this years NI Science Festival. \nGrace Webb is the amazing host of the award-winning CBeebies show Grace’s Amazing Machines where she explores some of the biggest\, fastest and most amazing machines in the world.
URL:https://matrixni.org/event/graces-green-gadgets-derry-londonderry/
LOCATION:waterside theatre\, Glendermott Road\, Derry/Londonderry\, bt47 6bg\, United Kingdom
CATEGORIES:Careers,Creative technology,Engineering,STEM skills,Technology,Transport,Women in STEM
ATTACH;FMTTYPE=image/jpeg:https://matrixni.org/wp-content/uploads/2024/02/Grace-webb-01.jpg
ORGANIZER;CN="Northern Ireland Science Festival":MAILTO:info@nisciencefestival.com
END:VEVENT
BEGIN:VEVENT
DTSTART;TZID=Europe/London:20240217T140000
DTEND;TZID=Europe/London:20240217T150000
DTSTAMP:20260424T164334
CREATED:20240130T105216Z
LAST-MODIFIED:20240205T103857Z
UID:27317-1708178400-1708182000@matrixni.org
SUMMARY:The Secret Lives of the Elements with Kathyrn Harkup
DESCRIPTION:Kathryn Harkup is a former chemist turned vampirologist and science communicator. She writes and gives regular public talks on the disgusting and dangerous side of science. \nKathryn’s first book was the international best-seller A is for Arsenic: The Poisons of Agatha Christie\, which was shortlisted for a Mystery Readers International Macavity Award and a BMA Book Award. She has also written books on Frankenstein\, vampires\, Shakespeare\, James Bond and chemistry.
URL:https://matrixni.org/event/the-secret-lives-of-the-elements-with-kathyrn-harkup/
LOCATION:Ulster Museum\, Stranmillis Road\, Belfast\, Northern Ireland\, BT7 1NG\, United Kingdom
CATEGORIES:General,Health,Women in STEM
ATTACH;FMTTYPE=image/jpeg:https://matrixni.org/wp-content/uploads/2024/01/Secret-life-01.jpg
ORGANIZER;CN="Northern Ireland Science Festival":MAILTO:info@nisciencefestival.com
END:VEVENT
BEGIN:VEVENT
DTSTART;TZID=Europe/London:20240217T200000
DTEND;TZID=Europe/London:20240217T213000
DTSTAMP:20260424T164334
CREATED:20240130T105655Z
LAST-MODIFIED:20240130T105655Z
UID:27320-1708200000-1708205400@matrixni.org
SUMMARY:Lieven Scheire - A.I.
DESCRIPTION:In this show\, Lieven Scheire will introduce you to this new superhero of technology in an entertaining and accessible way. You’ll get a glimpse of how it all works\, what it can already do and what it will be capable of in the future. It’s a first encounter with something that might soon become your new friend\, butler\, advisor\, psychologist\, personal trainer or guardian angel: Artificial Intelligence.
URL:https://matrixni.org/event/lieven-scheire-a-i/
LOCATION:The Black Box\, 18-22 Hill Street\, Belfast\, Northern Ireland\, BT1 2LA\, United Kingdom
CATEGORIES:Artificial Intelligence,Creative technology,Digital,Innovation,Technology
ATTACH;FMTTYPE=image/jpeg:https://matrixni.org/wp-content/uploads/2024/01/Lieven-Scheire-A.I.jpg
ORGANIZER;CN="Northern Ireland Science Festival":MAILTO:info@nisciencefestival.com
END:VEVENT
BEGIN:VEVENT
DTSTART;TZID=Europe/London:20240221T190000
DTEND;TZID=Europe/London:20240221T220000
DTSTAMP:20260424T164334
CREATED:20240131T093307Z
LAST-MODIFIED:20240219T135006Z
UID:27323-1708542000-1708552800@matrixni.org
SUMMARY:Famelab - Northern Ireland Final
DESCRIPTION:Experience the thrilling showcase of scientific talent and communication at FameLab Northern Ireland’s live final\, featuring ten finalists competing with charm\, scientific expertise\, and innovation in a three-minute window. \nThe format of FameLab is deceptively simple; on the competition stage\, participants are given just three minutes to share their scientific research or work with a general audience\, armed with just simple props. This live event takes place in front of a panel of expert judges\, as entrants compete for the title of the UK’s best science communicator.
URL:https://matrixni.org/event/famelab-northern-ireland-final/
LOCATION:Ulster Sports Club\, 96-98 High Street\, Belfast\, BT1 2BG\, United Kingdom
CATEGORIES:Careers,Creative technology,Digital,General,Innovation,STEM skills,Technology,Telecommunications
ATTACH;FMTTYPE=image/jpeg:https://matrixni.org/wp-content/uploads/2024/02/famelab-01.jpg
ORGANIZER;CN="Northern Ireland Science Festival":MAILTO:info@nisciencefestival.com
END:VEVENT
BEGIN:VEVENT
DTSTART;TZID=Europe/London:20240222T193000
DTEND;TZID=Europe/London:20240222T210000
DTSTAMP:20260424T164334
CREATED:20240205T095126Z
LAST-MODIFIED:20240205T101801Z
UID:27331-1708630200-1708635600@matrixni.org
SUMMARY:What’s the blooming problem with Lough Neagh?
DESCRIPTION:Lough Neagh\, a vital freshwater resource\, is facing an unprecedented challenge. To address this critical environmental concern\, we have brought together scientists and local professionals who will share their knowledge\, research findings\, and potential solutions\, and who will delve into the intricate science behind the alarming proliferation of blue-green algae in one of Northern Ireland’s most significant water bodies. \nTake this chance to gain a deeper understanding of the science behind the Lough Neagh blue-green algae crisis. Together\, we can explore solutions and work towards safeguarding this precious natural resource.
URL:https://matrixni.org/event/whats-the-blooming-problem-with-lough-neagh/
LOCATION:Seamus Heaney HomePlace\, 45 Main Street\, Bellaghy\, Magherafelt\, BT45 8HT\, United Kingdom
CATEGORIES:Agrifood,Circular Green,Climate Change,Innovation,Technology
ATTACH;FMTTYPE=image/jpeg:https://matrixni.org/wp-content/uploads/2024/02/Featured-Image-01.jpg
ORGANIZER;CN="Northern Ireland Science Festival":MAILTO:info@nisciencefestival.com
END:VEVENT
BEGIN:VEVENT
DTSTART;TZID=Europe/London:20240223T100000
DTEND;TZID=Europe/London:20240223T160000
DTSTAMP:20260424T164334
CREATED:20240205T103302Z
LAST-MODIFIED:20240205T103302Z
UID:27352-1708682400-1708704000@matrixni.org
SUMMARY:Foyle Science Showcase - Schools Edition!
DESCRIPTION:Prepare for a day of excitement and exploration at the Foyle Science Showcase! Delight in mind-bending science shows\, immersive exhibits\, and interactive activities that promise to inspire the next generation of scientists and innovators. From captivating illusions to virtual reality experiences\, this event is a celebration of curiosity and discovery. \nScience Shows: \n\n\nThat’s Non-Sense by Braintastic: Witness the magic of multi-sensory tricks and visual illusions. \n\n\nThe Magical Science and Engineering Show: Join Scientific Sue for a funny and thought-provoking ‘Magic Show’ with a wacky combination of science and drama. \n\n\n Interactive Exhibits: \n\n\nDive into a geothermal world with Geoenergy NI’s Virtual Reality experience. \n\n\nMaster the art of weather forecasting with Barra Best and try your own greenscreen weather presentation. \n\n\nAnimate yourself using AI with Kainos. \n\n\nExplore the cosmos in Armagh Planetarium’s mobile planetarium. \n\n\nEngage with Nerve Centre\, Ulster University\, Water NI\, Wild Ireland\, Bat Conservation Ireland\, OCN\, Food Standards Agency\, and Sperrin Metal through hands-on activities that showcase the diverse facets of science and technology. \n\n\nDon’t miss this opportunity to bring science to life in a fun and engaging way! The Foyle Science Showcase is where curiosity meets discovery.
URL:https://matrixni.org/event/foyle-science-showcase-schools-edition/
LOCATION:Foyle Arena\, 2\, Limavady Rd\,\, Derry Londonderry\, Northern Ireland\, BT47 6JY\, United Kingdom
CATEGORIES:Artificial Intelligence,Careers,Creative technology,Engineering,Innovation,STEM skills,Technology
ATTACH;FMTTYPE=image/jpeg:https://matrixni.org/wp-content/uploads/2024/02/NISF-7101-01.jpg
ORGANIZER;CN="Northern Ireland Science Festival":MAILTO:info@nisciencefestival.com
END:VEVENT
BEGIN:VEVENT
DTSTART;TZID=Europe/London:20240224T100000
DTEND;TZID=Europe/London:20240224T160000
DTSTAMP:20260424T164334
CREATED:20240205T095719Z
LAST-MODIFIED:20240205T095719Z
UID:27336-1708768800-1708790400@matrixni.org
SUMMARY:The Foyle Science Showcase
DESCRIPTION:Prepare for a day of excitement and exploration at the Foyle Science Showcase! Delight in mind-bending science shows\, immersive exhibits\, and interactive activities that promise to inspire the next generation of scientists and innovators. From captivating illusions to virtual reality experiences\, this event is a celebration of curiosity and discovery. \n Science Shows: \n\n\nThat’s Non-Sense by Braintastic: Witness the magic of multi-sensory tricks and visual illusions. \n\n\nThe Magical Science and Engineering Show: Join Scientific Sue for a funny and thought-provoking ‘Magic Show’ with a wacky combination of science and drama. \n\n\nInteractive Exhibits: \n\n\nDive into a geothermal world with Geoenergy NI’s Virtual Reality experience. \n\n\nMaster the art of weather forecasting with Barra Best and try your own greenscreen weather presentation. \n\n\nAnimate yourself using AI with Kainos. \n\n\nExplore the cosmos in Armagh Planetarium’s mobile planetarium. \n\n\nEngage with Nerve Centre\, Ulster University\, Water NI\, Wild Ireland\, Bat Conservation Ireland\, OCN\, Food Standards Agency\, and Sperrin Metal through hands-on activities that showcase the diverse facets of science and technology. \n\n\nDon’t miss this opportunity to bring science to life in a fun and engaging way! The Foyle Science Showcase is where curiosity meets discovery
URL:https://matrixni.org/event/the-foyle-science-showcase/
LOCATION:Foyle Arena\, 2\, Limavady Rd\,\, Derry Londonderry\, Northern Ireland\, BT47 6JY\, United Kingdom
CATEGORIES:Artificial Intelligence,Careers,Creative technology,Digital,Engineering,General,Innovation,Space technology,STEM skills,Technology
ATTACH;FMTTYPE=image/jpeg:https://matrixni.org/wp-content/uploads/2024/02/NISF-7101-01.jpg
ORGANIZER;CN="Northern Ireland Science Festival":MAILTO:info@nisciencefestival.com
END:VEVENT
BEGIN:VEVENT
DTSTART;TZID=Europe/London:20240224T140000
DTEND;TZID=Europe/London:20240224T150000
DTSTAMP:20260424T164334
CREATED:20240205T100218Z
LAST-MODIFIED:20240205T101217Z
UID:27339-1708783200-1708786800@matrixni.org
SUMMARY:Yasmin Ali - #IntroduceAGirlToEngineeringDay
DESCRIPTION:Yasmin Ali\, an award-winning chartered engineer in the energy industry\, champions renewable technologies\, excels in science communication\, and acknowledged as one of the top 50 female engineers for her impactful engagement efforts. \nYasmin is a chemical engineer and has worked in coal and gas fired power stations\, oil and gas\, district heating systems\, and energy innovation\, including production of hydrogen and energy efficiency in industry. Yasmin ‘fell’ into the field of chemical engineering by accident\, and is now passionate about promoting engineering stories and careers to the public and young people.
URL:https://matrixni.org/event/yasmin-ali-introduceagirltoengineeringday/
LOCATION:Ulster Museum\, Stranmillis Road\, Belfast\, Northern Ireland\, BT7 1NG\, United Kingdom
CATEGORIES:Careers,General,Innovation,STEM skills,Technology,Women in STEM
ATTACH;FMTTYPE=image/jpeg:https://matrixni.org/wp-content/uploads/2024/02/Yasmin-01.jpg
ORGANIZER;CN="Northern Ireland Science Festival":MAILTO:info@nisciencefestival.com
END:VEVENT
BEGIN:VEVENT
DTSTART;TZID=Europe/London:20240225T133000
DTEND;TZID=Europe/London:20240225T143000
DTSTAMP:20260424T164334
CREATED:20240205T100957Z
LAST-MODIFIED:20240205T100957Z
UID:27345-1708867800-1708871400@matrixni.org
SUMMARY:Power Up - An Engineer's Adventure into Sustainable Energy
DESCRIPTION:We rarely think about the energy systems that prop up our existence. With hot water\, lighting and digital entertainment all available at the flick of a switch\, it’s easy to underestimate the vast global network that makes these things possible. \nGrowing up in Iraq\, Yasmin Ali regularly experienced power cuts – ironic for a country rich in oil and sunshine. Now as an engineer working in energy\, Yasmin has a deep appreciation for what these resources mean for our lives. \nIn Power Up she takes us on a journey across the globe to reveal the bigger picture\, from solar panel farms shimmering in the desert to power stations hidden deep in the mountains. We discover where we get energy from\, how it is moved and used around the world – and why we need to understand the whole system if we want to transition towards a clean\, green future. \nPower Up is a definitive picture of the intricate world that humanity has built\, and a rallying cry to face the challenges of climate change using the power at our fingertips.
URL:https://matrixni.org/event/power-up-an-engineers-adventure-into-sustainable-energy/
LOCATION:Ulster Museum\, Stranmillis Road\, Belfast\, Northern Ireland\, BT7 1NG\, United Kingdom
CATEGORIES:Climate Change,Creative technology,Engineering,Innovation,STEM skills,Technology,Women in STEM
ATTACH;FMTTYPE=image/jpeg:https://matrixni.org/wp-content/uploads/2024/02/Yasmin-2-01.jpg
ORGANIZER;CN="Northern Ireland Science Festival":MAILTO:info@nisciencefestival.com
END:VEVENT
BEGIN:VEVENT
DTSTART;TZID=Europe/London:20240225T143000
DTEND;TZID=Europe/London:20240225T153000
DTSTAMP:20260424T164334
CREATED:20240205T100614Z
LAST-MODIFIED:20240205T101343Z
UID:27342-1708871400-1708875000@matrixni.org
SUMMARY:Marcus Du Sautoy - Around The World in 80 Games
DESCRIPTION:Spanning millennia\, oceans and continents\, countries and cultures\, Around the World in 80 Games gleefully explores how mathematics and games have always been deeply intertwined. Marcus du Sautoy investigates how games provided the first opportunities for deep mathematical insight into the world\, how understanding maths can help us play games better\, and how both maths and games are integral to human psychology and culture. \nFor as long as there have been people\, there have been games\, and for nearly as long\, we have been exploring and discovering mathematics. A grand adventure\, Around the World in 80 Games teaches us not just how games are won\, but how they\, and the maths behind them\, shape who we are. \nAbout\nMarcus du Sautoy has been named by the Independent on Sunday as one of the UK’s leading scientists\, has written extensively for the Guardian\, The Times and the Daily Telegraph and has appeared on Radio 4 on numerous occasions. In 2008 he was appointed to Oxford University’s prestigious professorship as the Simonyi Chair for the Public Understanding of Science\, a post previously held by Richard Dawkins.
URL:https://matrixni.org/event/marcus-du-sautoy-around-the-world-in-80-games/
LOCATION:Whitla Hall\, QUB\, Belfast\, BT7 1NN
ATTACH;FMTTYPE=image/jpeg:https://matrixni.org/wp-content/uploads/2024/02/Marcus-01.jpg
END:VEVENT
END:VCALENDAR