BEGIN:VCALENDAR
VERSION:2.0
PRODID:-//Matrix - ECPv6.15.20//NONSGML v1.0//EN
CALSCALE:GREGORIAN
METHOD:PUBLISH
X-ORIGINAL-URL:https://matrixni.org
X-WR-CALDESC:Events for Matrix
REFRESH-INTERVAL;VALUE=DURATION:PT1H
X-Robots-Tag:noindex
X-PUBLISHED-TTL:PT1H
BEGIN:VTIMEZONE
TZID:Europe/London
BEGIN:DAYLIGHT
TZOFFSETFROM:+0000
TZOFFSETTO:+0100
TZNAME:BST
DTSTART:20220327T010000
END:DAYLIGHT
BEGIN:STANDARD
TZOFFSETFROM:+0100
TZOFFSETTO:+0000
TZNAME:GMT
DTSTART:20221030T010000
END:STANDARD
BEGIN:DAYLIGHT
TZOFFSETFROM:+0000
TZOFFSETTO:+0100
TZNAME:BST
DTSTART:20230326T010000
END:DAYLIGHT
BEGIN:STANDARD
TZOFFSETFROM:+0100
TZOFFSETTO:+0000
TZNAME:GMT
DTSTART:20231029T010000
END:STANDARD
BEGIN:DAYLIGHT
TZOFFSETFROM:+0000
TZOFFSETTO:+0100
TZNAME:BST
DTSTART:20240331T010000
END:DAYLIGHT
BEGIN:STANDARD
TZOFFSETFROM:+0100
TZOFFSETTO:+0000
TZNAME:GMT
DTSTART:20241027T010000
END:STANDARD
END:VTIMEZONE
BEGIN:VEVENT
DTSTART;VALUE=DATE:20230511
DTEND;VALUE=DATE:20230513
DTSTAMP:20260424T115303
CREATED:20230424T104625Z
LAST-MODIFIED:20230424T104645Z
UID:27117-1683763200-1683935999@matrixni.org
SUMMARY:Innovators Under 35 Europe Festival 2023
DESCRIPTION:Innovators Under 35 Europe Festival 2023 is a unique opportunity to meet the shapers of our future\, transforming our lives through their technological advances. Our festival will bring together young European visionaries pursuing the same objective: innovation\, ingenuity\, and advances toward addressing the world’s most pressing challenges. \n35 entrepreneurs\, inventors\, visionaries\, pioneers and humanitarians will be selected for their outstanding technological achievements. Brilliant men and women are recognised for their advancements in diverse technical fields such as biotechnology and medicine\, computer and electronics\, hardware\, software\, Internet\, artificial intelligence\, robotics\, telecommunications\, nanotechnology and materials\, energy and transportation. \nA committee of judges\, made up of experts from leading universities and companies will select the 35 candidates. In addition to this\, the competition recognizes five different categories of innovators: Inventors\, Entrepreneurs\, Visionaries\, Humanitarians and pioneers.\nNOMINATIONS HAVE NOW CLOSED
URL:https://matrixni.org/event/innovators-under-35-europe-festival-2023/
LOCATION:Gaoth Dobhair\, Ireland
ATTACH;FMTTYPE=image/jpeg:https://matrixni.org/wp-content/uploads/2023/04/innovators-under-35-e1682333110815.jpg
END:VEVENT
BEGIN:VEVENT
DTSTART;TZID=Europe/London:20230517T103000
DTEND;TZID=Europe/London:20230517T141500
DTSTAMP:20260424T115303
CREATED:20230510T112620Z
LAST-MODIFIED:20230510T124350Z
UID:27141-1684319400-1684332900@matrixni.org
SUMMARY:From start-up to enterprise: Implementing an effective deployment strategy
DESCRIPTION:  \nAn event is being held to celebrate the technical partnership of Anaeko Data Engineering and Octopus Deploy. \nThe event comprising of a keynote and fireside panel will look at implementing an effective deployment strategy for any business from start-up to enterprise. The keynote will be presented by Michéle Johl\, IT Engineering Manager at Unily. \nMichéle will explore how Unily went from a start-up solution to an enterprise-level SaaS platform using Octopus to deploy Unily for clients\, with lessons learnt. He will also look into how the operations team at Unily took challenges and turned them into opportunities like automation of deployments and self-service solutions using Octopus. \nAnaeko will showcase their technical expertise\, and will invite partners to join for a follow-up fireside chat to discuss the points raised in Michéle’s keynote address. The Panel will consist of experts in tech DevOps including Mike Nguyen ( Octopus Deploy) and Glenn Russell ( Qarik). \nThe event promises to be both educational and informative\, with the opportunity to network with a first-class audience of innovative minds from across Northern Ireland’s technical landscape.
URL:https://matrixni.org/event/from-start-up-to-enterprise-implementing-an-effective-deployment-strategy/
LOCATION:Hilton Belfast\, 4 Lanyon Place\, Belfast\, Northern Ireland\, BT1 3LP\, United Kingdom
CATEGORIES:Digital,Technology
ATTACH;FMTTYPE=image/jpeg:https://matrixni.org/wp-content/uploads/2023/05/Annotation-2023-05-10-132816.jpg
END:VEVENT
BEGIN:VEVENT
DTSTART;TZID=Europe/London:20230525T180000
DTEND;TZID=Europe/London:20230525T235500
DTSTAMP:20260424T115303
CREATED:20230424T132237Z
LAST-MODIFIED:20230510T112848Z
UID:27125-1685037600-1685058900@matrixni.org
SUMMARY:Women in Tech Awards 2023
DESCRIPTION:The Women in Tech Awards will recognise women who innovate\, challenge and embrace technology\, showcasing inspirational individuals who have achieved great success within the sector. \nThe gala awards evening\, sponsored by VANRATH\, takes place on Thursday 25th May at The Europa Hotel\, Belfast.
URL:https://matrixni.org/event/women-in-tech-awards-2023/
LOCATION:The Europa Hotel\, Great Victoria Street\, Belfast\, BT2 7AP\, United Kingdom
ATTACH;FMTTYPE=image/jpeg:https://matrixni.org/wp-content/uploads/2023/04/New-Website-Events-Programme-template-72-e1683718088549.jpg
END:VEVENT
END:VCALENDAR