BEGIN:VCALENDAR
VERSION:2.0
PRODID:-//Matrix - ECPv6.15.20//NONSGML v1.0//EN
CALSCALE:GREGORIAN
METHOD:PUBLISH
X-ORIGINAL-URL:https://matrixni.org
X-WR-CALDESC:Events for Matrix
REFRESH-INTERVAL;VALUE=DURATION:PT1H
X-Robots-Tag:noindex
X-PUBLISHED-TTL:PT1H
BEGIN:VTIMEZONE
TZID:Europe/London
BEGIN:DAYLIGHT
TZOFFSETFROM:+0000
TZOFFSETTO:+0100
TZNAME:BST
DTSTART:20200329T010000
END:DAYLIGHT
BEGIN:STANDARD
TZOFFSETFROM:+0100
TZOFFSETTO:+0000
TZNAME:GMT
DTSTART:20201025T010000
END:STANDARD
BEGIN:DAYLIGHT
TZOFFSETFROM:+0000
TZOFFSETTO:+0100
TZNAME:BST
DTSTART:20210328T010000
END:DAYLIGHT
BEGIN:STANDARD
TZOFFSETFROM:+0100
TZOFFSETTO:+0000
TZNAME:GMT
DTSTART:20211031T010000
END:STANDARD
BEGIN:DAYLIGHT
TZOFFSETFROM:+0000
TZOFFSETTO:+0100
TZNAME:BST
DTSTART:20220327T010000
END:DAYLIGHT
BEGIN:STANDARD
TZOFFSETFROM:+0100
TZOFFSETTO:+0000
TZNAME:GMT
DTSTART:20221030T010000
END:STANDARD
BEGIN:DAYLIGHT
TZOFFSETFROM:+0000
TZOFFSETTO:+0100
TZNAME:BST
DTSTART:20230326T010000
END:DAYLIGHT
BEGIN:STANDARD
TZOFFSETFROM:+0100
TZOFFSETTO:+0000
TZNAME:GMT
DTSTART:20231029T010000
END:STANDARD
END:VTIMEZONE
BEGIN:VEVENT
DTSTART;TZID=Europe/London:20211122T100000
DTEND;TZID=Europe/London:20220223T170000
DTSTAMP:20260424T032039
CREATED:20211111T140141Z
LAST-MODIFIED:20211111T140141Z
UID:25321-1637575200-1645635600@matrixni.org
SUMMARY:Immerse UK x Imagination Virtual Production Series
DESCRIPTION:Between November 2021 and February 2022\, Immerse UK and Imagination will be joined by industry experts in a series of panel discussions and thought-leadership pieces exploring the impact of virtual production and real time content production\, each from a different perspective. \nJoin the organisers as they explore virtual production through three different lenses\, including; \nThe Future of Content\nThe benefits and impact of using a real time workflow to create content. \nThe Future of Live Experiences\nThe emerging advantages\, and challenges\, of using real time content for live experiences. \nDigital Transformation in real time\nExploring what is required to embrace realtime technologies and workflows into your organisation. \nAbout Virtual Production\nVirtual Production is more accurately described as real time content production; The process by which digital objects and environments are generated in real time using video games engines such as Unreal and Unity. The same technology that immerses you in living\, breathing\, photorealistic gaming worlds\, is now being used by filmmakers\, storytellers\, marketers and even product designers\, opening up limitless creative possibilities. \nAbout the Series\nThis series aims to demystify the technology and dig into the practical applications\, and structural\, business and cultural impact of this incredible new world\, which is and will continue to transform industries in much the same way that cloud computing and the Internet before it. \nHear from industry experts and thought leaders at the forefront of Virtual Production\, as they guide you through the latest techniques and possibilities in this exciting new space.
URL:https://matrixni.org/event/immerse-uk-x-imagination-virtual-production-series/
LOCATION:Online
CATEGORIES:Creative technology
ATTACH;FMTTYPE=image/png:https://matrixni.org/wp-content/uploads/2021/11/IMMERSE-UK-HERO-3-768x437-1-e1636639142342.png
END:VEVENT
BEGIN:VEVENT
DTSTART;TZID=Europe/London:20220113T100000
DTEND;TZID=Europe/London:20220113T120000
DTSTAMP:20260424T032039
CREATED:20220107T150731Z
LAST-MODIFIED:20220107T150731Z
UID:25555-1642068000-1642075200@matrixni.org
SUMMARY:Female Founders Access to Finance ~ Information Session
DESCRIPTION:Techstart Ventures and Women in Business will partner together to invite Females across Northern Ireland\, with an innovative Business Idea\, to apply for a Grant of up to £35k to help kickstart their Business. \nIf you want to apply for the fully funded Female Founders grant competition? Come along to this information session to find out all that you need to know on why and how to apply! \nThis event will be free of charge for all to attend\, as the perfect opportunity to ask any questions you may have on: \n– How to enter\n– The competition schedule\n– Grant application criteria\n– How the grant can/ cannot be used\n– The next steps after a successful application!
URL:https://matrixni.org/event/female-founders-access-to-finance-information-session/
LOCATION:Online
CATEGORIES:Women in STEM
ATTACH;FMTTYPE=image/jpeg:https://matrixni.org/wp-content/uploads/2022/01/Matrix-Picture-12.jpg
END:VEVENT
BEGIN:VEVENT
DTSTART;TZID=Europe/London:20220113T130000
DTEND;TZID=Europe/London:20220113T140000
DTSTAMP:20260424T032039
CREATED:20211223T134146Z
LAST-MODIFIED:20211223T134359Z
UID:25524-1642078800-1642082400@matrixni.org
SUMMARY:Heat Pump Ready: How to apply to Stream 1
DESCRIPTION:Following the opening of opportunities under the Heat Pump Ready Programme\, this session will detail the application process for Stream 1 \nThe Heat Pump Ready Programme forms part of BEIS’s £1 billion Net Zero Innovation Portfolio (NZIP)\, which aims to accelerate the commercialisation of innovative clean energy technologies and processes through the 2020s and 2030s. A key solution for decarbonising homes\, heat pumps will be critical for meeting the UK’s legally binding commitment to achieve net zero by 2050. \nFull details of the funding opportunities available under Heat Pump Ready are detailed on the Heat Pump Ready webpage. \nThe Heat Pump Ready Programme is made up of three\, separate streams: \n\nWorkstream 1: Solutions for High-Density Heat Pump Deployment.\nWorkstream 2: Developing Tools and Technology.\nWorkstream 3: Trial Support and Learning.\n\nSign up to this online event for guidance on how to apply for Stream 1 of the funding. \nAll questions associated to the eligibility\, scope and assessment criteria for this funding opportunity should be submitted to heatinnovation@beis.gov.uk as responses will be included in the formal Q&A response to the competition. \nPlease note a recording of this event will not be available post-event. Copies of the slides will be made available shortly after the event.
URL:https://matrixni.org/event/heat-pump-ready-how-to-apply-to-stream-1/
LOCATION:Online
CATEGORIES:Energy,Innovation
ATTACH;FMTTYPE=image/jpeg:https://matrixni.org/wp-content/uploads/2021/12/512a79c6b669c86a283a57b710f28472.jpg
END:VEVENT
BEGIN:VEVENT
DTSTART;TZID=Europe/London:20220113T143000
DTEND;TZID=Europe/London:20220126T153000
DTSTAMP:20260424T032039
CREATED:20211223T134149Z
LAST-MODIFIED:20211223T134558Z
UID:25527-1642084200-1643211000@matrixni.org
SUMMARY:Heat Pump Ready: How to apply to Stream 2
DESCRIPTION:Following the opening of opportunities under the Heat Pump Ready Programme\, this session will detail the application process for Stream 2\nThe Heat Pump Ready Programme forms part of BEIS’s £1 billion Net Zero Innovation Portfolio (NZIP)\, which aims to accelerate the commercialisation of innovative clean energy technologies and processes through the 2020s and 2030s. A key solution for decarbonising homes\, heat pumps will be critical for meeting the UK’s legally binding commitment to achieve net zero by 2050. \nFull details of the funding opportunities available under Heat Pump Ready are detailed on the Heat Pump Ready webpage. \nThe Heat Pump Ready Programme is made up of three\, separate streams: \n\nWorkstream 1: Solutions for High-Density Heat Pump Deployment.\nWorkstream 2: Developing Tools and Technology.\nWorkstream 3: Trial Support and Learning.\n\nSign up to this online event for guidance on how to apply for Stream 2 of the funding. \nAll questions associated to the eligibility\, scope and assessment criteria for this funding opportunity should be submitted to heatinnovation@beis.gov.uk as responses will be included in the formal Q&A response to the competition. \nPlease note a recording of this event will not be available post-event. Copies of the slides will be made available shortly after the event.
URL:https://matrixni.org/event/heat-pump-ready-how-to-apply-to-stream-2/
LOCATION:Online
CATEGORIES:Energy,Innovation
ATTACH;FMTTYPE=image/jpeg:https://matrixni.org/wp-content/uploads/2021/12/ea071bc0f9741fa48495ef334d93199a.jpg
END:VEVENT
BEGIN:VEVENT
DTSTART;TZID=Europe/London:20220117T130000
DTEND;TZID=Europe/London:20220117T150000
DTSTAMP:20260424T032039
CREATED:20220104T143511Z
LAST-MODIFIED:20220104T143623Z
UID:25546-1642424400-1642431600@matrixni.org
SUMMARY:Innovation funding for the commercialisation of quantum technologies
DESCRIPTION:Innovate UK\, part of UK Research and Innovation\, will invest up to £6 million in innovation projects. This funding is from the ISCF Commercialising quantum technologies challenge. \nA new funding opportunity is being launched on the 17 January 2022 to accelerate the commercialisation of quantum technologies in the UK\, which are set to enable transformative applications across a range of industry sectors. The feasibility studies round 3 competition is being delivered by the commercialising quantum technologies challenge\, as part of Innovate UK and UK Research & Innovation (UKRI). Organisations can apply for a share of £6m for projects\, of up to £500k in and up to 18 months in duration\, that exploit quantum technologies to address industrial challenges in: \n\nConnectivity\nSeeing the invisible\nPositioning\, navigation & timing\nComputing\n\nA virtual competition briefing event will be held on Monday 17 January 2022\, hosted by UKRI and Innovate UK KTN. Attendees will be able to hear more about the scope of the competition and the application process. There will also be opportunities for further discussion and consultations with the quantum team from Innovate UK and there will be networking opportunities for attendees. \n\n\n\n\n\n\nAgenda\n\n\n\n\n\n\n\n\n\n\n13:00 – Competitions briefing\n\n\n\n\n\n\n13:30 – Applications process briefing\n\n\n\n\n\n\n14:00 – Q&A
URL:https://matrixni.org/event/innovation-funding-for-the-commercialisation-of-quantum-technologies/
LOCATION:Online
CATEGORIES:Innovation
ATTACH;FMTTYPE=image/jpeg:https://matrixni.org/wp-content/uploads/2021/11/Matrix-Picture-32.jpg
END:VEVENT
BEGIN:VEVENT
DTSTART;TZID=Europe/London:20220118T100000
DTEND;TZID=Europe/London:20220118T111500
DTSTAMP:20260424T032039
CREATED:20211012T161436Z
LAST-MODIFIED:20211012T161436Z
UID:25042-1642500000-1642504500@matrixni.org
SUMMARY:Science & Technology to enable resilient Space domain capabilities
DESCRIPTION:This webinar will discuss Dstl’s Space research programme\, covering scope\, opportunities\, and how to work with us.\n\n\nDstl’s webinars are designed to help small and medium-sized enterprises work with the defence sector. They are free to attend and you do not need to have experience working with Dstl or in defence.\n \nSign up to hear from our experts discussing Dstl’s Space research programme. The session will include:\n \n\nScope of the programme and priority areas for future research and funding\n\nOpportunities to get involved\n\nHow to work with us
URL:https://matrixni.org/event/science-technology-to-enable-resilient-space-domain-capabilities/
LOCATION:Northern Ireland
CATEGORIES:Cybersecurity
ATTACH;FMTTYPE=image/jpeg:https://matrixni.org/wp-content/uploads/2021/10/559b92a6a567bea7862139a068589ddc.jpg
END:VEVENT
BEGIN:VEVENT
DTSTART;TZID=Europe/London:20220118T130000
DTEND;TZID=Europe/London:20220118T141500
DTSTAMP:20260424T032039
CREATED:20211013T152912Z
LAST-MODIFIED:20211013T152912Z
UID:25056-1642510800-1642515300@matrixni.org
SUMMARY:Stories From the Frontline: Let’s hear from our green home pioneers
DESCRIPTION:What can we learn from those at the cutting edge – the people already deep in the world of decarbonising homes? In this event\, you’ll hear from three carbon-cutting pioneers and have the opportunity to put your questions to them. What experiences can they share\, and how can we learn from each other to support the UK’s road to zero carbon? \nThis event is the fourth event in the Making the Switch Towards Cleaner\, Greener Homes event series.
URL:https://matrixni.org/event/stories-from-the-frontline-lets-hear-from-our-green-home-pioneers/
LOCATION:Online
CATEGORIES:Climate Change
ATTACH;FMTTYPE=image/jpeg:https://matrixni.org/wp-content/uploads/2021/10/Matrix-Picture-8.jpg
END:VEVENT
BEGIN:VEVENT
DTSTART;TZID=Europe/London:20220119T093000
DTEND;TZID=Europe/London:20220119T130000
DTSTAMP:20260424T032039
CREATED:20220110T140415Z
LAST-MODIFIED:20220110T140415Z
UID:25567-1642584600-1642597200@matrixni.org
SUMMARY:Sources of support for Belfast-based businesses seeking to innovate
DESCRIPTION:This business event has information on what support is available for business innovation. \nInnovation is crucial to the success of any organisation – doing things better\, more efficiently\, more profitably – whether it’s the products or services you offer\, or how your business operates. \nAt this online event\, Invest Northern Ireland\, InterTrade Ireland\, Belfast Met\, Catalyst and the Innovation Factory will discuss free and funded support they offer. Whether you’re a tech start-up or an established manufacturing business\, there’s definitely something to help you to improve your business. You’ll also hear from Richard Stewart-Maunder\, Managing Director of Value Stream Machinery about their innovation journey. There will be Q&A with all speakers. \nThis event is aimed at SMEs\, micro enterprises and social enterprises based in the Belfast City Council area\, employing fewer than 50 people.
URL:https://matrixni.org/event/sources-of-support-for-belfast-based-businesses-seeking-to-innovate/
LOCATION:Online
CATEGORIES:Innovation
ATTACH;FMTTYPE=image/jpeg:https://matrixni.org/wp-content/uploads/2021/12/Matrix-Picture-7.jpg
END:VEVENT
BEGIN:VEVENT
DTSTART;TZID=Europe/London:20220120T130000
DTEND;TZID=Europe/London:20220120T141500
DTSTAMP:20260424T032039
CREATED:20211012T161441Z
LAST-MODIFIED:20211012T161441Z
UID:25044-1642683600-1642688100@matrixni.org
SUMMARY:Delivering at machine speed - using AI to unlock information advantage
DESCRIPTION:This webinar will discuss Dstl’s  artificial intelligence (AI )research programme\, covering scope\, opportunities\, and how to work with us.\n\n\nDstl’s webinars are designed to help small and medium-sized enterprises work with the defence sector. They are free to attend and you do not need to have experience working with Dstl or in defence.\n \nSign up to hear from our experts discussing Dstl’s AI research programme. The session will include:\n \n\nScope of the programme and priority areas for future research and funding\n\nOpportunities to get involved\n\nHow to work with us
URL:https://matrixni.org/event/delivering-at-machine-speed-using-ai-to-unlock-information-advantage/
LOCATION:Northern Ireland
CATEGORIES:Cybersecurity
ATTACH;FMTTYPE=image/jpeg:https://matrixni.org/wp-content/uploads/2021/10/51670f543aaed6366704a6a0edbff971.jpg
END:VEVENT
BEGIN:VEVENT
DTSTART;TZID=Europe/London:20220125T093000
DTEND;TZID=Europe/London:20220125T110000
DTSTAMP:20260424T032039
CREATED:20220111T114734Z
LAST-MODIFIED:20220111T114734Z
UID:25570-1643103000-1643108400@matrixni.org
SUMMARY:Spotlight on Benelux: Data and Cyber Security
DESCRIPTION:Cyber and information security is an identified priority across the Benelux. Despite a steadily increasing security spend\, organisations are struggling to address all threats\, and there is a recognition that security and risk management is no longer solely an IT issue\, but a business-wide one. \n\nThis webinar will highlight what trends and opportunities there are in the security\, risk and governance space in the Benelux and how to best approach these opportunities. Belgium\, the Netherlands and Luxembourg are open and competitive economies\, and are excellent gateway markets for Northern Ireland businesses into wider Europe. \n\nAgenda: \n\nAn Introduction to the Benelux Markets: Security\, Risk and Governance – Amy Dalton and Emilien Thorin \nAreas of Priority and Opportunities in the Dutch Market – Martijn van Hoogenhuijze and Philip Meijer \nAngoka Case Study – Shadi Razak \nQ&A \n\n\nAmy Dalton and Emilien Thorin\, Invest Northern Ireland \nInvest NI’s in-market colleagues identify and facilitate trade and FDI opportunities between Northern Ireland and the Benelux markets. \n\nPhilip Meijer and Martijn van Hoogenhuijze\, Innovation Quarter \nInnovation Quarter supports collaboration and innovation in the Rotterdam-The Hague delta region\, with Security being a particular focus. \n\nShadi Razak\, Angoka \nBelfast based Angoka focuses on managing cyber security risks inherent in connected and autonomous vehicles\, industry 4.0\, smart cities and IoT devices.
URL:https://matrixni.org/event/spotlight-on-benelux-data-and-cyber-security/
LOCATION:Online
CATEGORIES:Cybersecurity
ATTACH;FMTTYPE=image/jpeg:https://matrixni.org/wp-content/uploads/2022/01/Matrix-Picture-15.jpg
END:VEVENT
BEGIN:VEVENT
DTSTART;TZID=Europe/London:20220125T100000
DTEND;TZID=Europe/London:20220125T120000
DTSTAMP:20260424T032039
CREATED:20211231T163705Z
LAST-MODIFIED:20211231T164211Z
UID:25536-1643104800-1643112000@matrixni.org
SUMMARY:What is Digital Security by Design?
DESCRIPTION:Introducing a new approach to blocking security vulnerabilities in modern computer systems. Expert-led presentations and panel discussion.\n\n\nJoin Digital Catapult to learn about a new transformative approach to block vulnerabilities in modern computer systems. Hear hardware and software experts from Arm\, the University of Cambridge and the National Cyber Security Centre (NCSC) discuss a radical update of the cyber secure design starting from the chip upwards and making the case for adoption. \nUK Research and Innovation’s (UKRI) Digital Security by Design (DSbD) Challenge aims to radically improve the foundation of the UK’s digital computing infrastructure\, securing next generation devices and critical infrastructure. The Technology Access Programme will give participating organisations an opportunity to access this early-stage software and prototype hardware technology to investigate in their own R&D teams. \nThe scope of the challenge includes implementing updated hardware architecture\, developing the software and system development tools that will run on it\, and demonstrating its application and value in different industry sectors. You will have opportunities to ask questions and be first to hear about how your organisation can access this early-stage prototype technology. \n\n\nWhy attend\nAt this virtual event you will: \n\nBe introduced to the Digital Security by Design programme by Prof. John Goodacre\, DSbD Challenge Director\, UKRI.\nLearn about the research and development project\, Morello from Richard Grisenthwaite\, SVP Chief Architect and Fellow\, Arm and CHERI from Professor\, Robert Watson Professor in Systems\, Security\, and Architecture at the University of Cambridge Computer Laboratory\nHear about the latest thinking of common vulnerabilities from Georgios Papadakis\, Senior Innovation Lead – DSbD\, UKRI\nAsk the panel experts questions about new cyber security technologies\, software development approaches\, and likely industry adoption\nDiscover how your organisation can access this new early-stage software and prototype hardware technology to investigate in your own R&D teams.\n\n\n\nWho should attend\nThis event is open to all and especially those involved in longer term strategic decisions on the use of digital technology as well as those that are interested in new technical approaches to block cyber vulnerabilities. \n\nC-level: CEO and business owner / CFO and Head of Procurement / Chief Information and Knowledge Officer / COO and Head of Operations / other C-suite\nR&D lead\, CTO\, Subject Matter Expert for Cybersecurity\, hardware and software development\nIndustries that will benefit from more secure computing platforms including: ​​aerospace\, defence\, healthcare\, financial services\, manufacturing\, telecoms\, energy infrastructure\, transport\, and education.\n\nAlso welcome are industry programme partners\, public sector partners\, government\, cyber security practitioners\, higher education researchers\, and media. \n\n\nAgenda\n10:00 – 10:05 – Welcome and introduction to Digital Catapult \nDana Elman\, Innovation Partner\, Digital Catapult \n10:05 – 10:15 – Welcome and introduction to Digital Security by Design \nProfessor John Goodacre\, DSbD Challenge Director\, UKRI \n10:15 – 10:25 – Presentation: Common vulnerabilities in modern computer systems \nGeorgios Papadakis\, Senior Innovation Lead – Digital Security by Design\, UKRI \n10:25 – 10:45 – Presentation: Introducing Morello and CHERI \nRichard Grisenthwaite\, SVP Chief Architect and Fellow\, Arm. \nProf. Robert Watson\, Professor in Systems\, Security\, and Architecture at the University of Cambridge Computer Laboratory \n10:45 – 10:55 – Q&A with Richard Grisenthwaite and Prof. Robert Watson \nFacilitated by Georgios Papadakis from UKRI \n10:55 – 11:45 – Panel discussion and Q&A: Why industry should care about secure by design and secure by default \nChair/Moderator – Georgios Papadakis from UKRI \nProf. John Goodacre\, UKRI \nRichard Grisenthwaite\, SVP Chief Architect and Fellow\, Arm \nPaul Waller\, Head of Research for National Cyber Security Centre (NCSC) \nProf Madeline Carr\, Professor of Global Politics and Cyber Security\, UCL \n11:45 – 11:55 – Presentation: Getting involved in the DSbD Access Programme \nKaty Ho\, Head of Innovation\, Digital Catapult \n11:55 – 12:00 – Q&A with Katy Ho \nFacilitated by Dana Elman\, Innovation Partner\, Digital Catapult \n12:00 – Thank you & close \nDana Elman\, Innovation Partner\, Digital Catapult
URL:https://matrixni.org/event/what-is-digital-security-by-design/
LOCATION:Online
CATEGORIES:Cybersecurity
ATTACH;FMTTYPE=image/jpeg:https://matrixni.org/wp-content/uploads/2021/12/c30584019162c43aa94d597112913baf.jpg
END:VEVENT
BEGIN:VEVENT
DTSTART;TZID=Europe/London:20220125T143000
DTEND;TZID=Europe/London:20220125T160000
DTSTAMP:20260424T032039
CREATED:20220104T135321Z
LAST-MODIFIED:20220104T135321Z
UID:25543-1643121000-1643126400@matrixni.org
SUMMARY:WEBINAR: Industrial Energy Transformation – Technologies and Solutions
DESCRIPTION:Industrial Energy Transformation – Technologies and Solutions \nThe Industrial Energy Transformation Fund (IETF) supports the development and deployment of technologies that enable businesses with high energy use to move to a low carbon future. \nDesigned to help businesses with high energy use to cut their energy bills and carbon emissions through investing in energy efficiency and low carbon technologies\, a new call is due early in 2022 to support SME’s and we need to highlight how to access this funding\, the technologies it will support and how we can bring forward successful projects. \nAgenda \n• Welcome – Grainne McVeigh\, Invest NI\n• Overview of IETF – Jenni McDonnell\, KTN\n• Technologies to be supported – Lily Tozer\, BEIS\n• Solutions (2 minute pitches from Invest NI Client Companies) – \n– Project Design – Adrian Watson\, Project Design Engineers\n– Energy Storage – Eddie McGoldrick\, The Electric Storage Company\n– Energy Efficiency through Monitoring and Targeting – Jessica Caldwell\, LoweConex\n– Heat Recovery – Brian Hood\, BHS \n• Support from Invest NI – Sam Knox\, Invest NI
URL:https://matrixni.org/event/webinar-industrial-energy-transformation-technologies-and-solutions/
LOCATION:Online
CATEGORIES:Energy
ATTACH;FMTTYPE=image/jpeg:https://matrixni.org/wp-content/uploads/2022/01/86979456_investni-e1641304355746.jpg
END:VEVENT
BEGIN:VEVENT
DTSTART;TZID=Europe/London:20220125T143000
DTEND;TZID=Europe/London:20220125T160000
DTSTAMP:20260424T032039
CREATED:20220111T125859Z
LAST-MODIFIED:20220111T125859Z
UID:25573-1643121000-1643126400@matrixni.org
SUMMARY:Industrial Energy Transformation – Technologies and Solutions
DESCRIPTION:The Industrial Energy Transformation Fund (IETF) supports the development and deployment of technologies that enable businesses with high energy use to move to a low carbon future. \nDesigned to help businesses with high energy use to cut their energy bills and carbon emissions through investing in energy efficiency and low carbon technologies\, a new call is due early in 2022 to support SME’s and we need to highlight how to access this funding\, the technologies it will support and how we can bring forward successful projects. \nAgenda \n• Welcome – Grainne McVeigh\, Invest NI\n• Overview of IETF – Jenni McDonnell\, KTN\n• Technologies to be supported – Lily Tozer\, BEIS\n• Solutions (2 minute pitches from Invest NI Client Companies) – \n– Project Design – Adrian Watson\, Project Design Engineers\n– Energy Storage – Eddie McGoldrick\, The Electric Storage Company\n– Energy Efficiency through Monitoring and Targeting – Jessica Caldwell\, LoweConex\n– Heat Recovery – Brian Hood\, BHS
URL:https://matrixni.org/event/industrial-energy-transformation-technologies-and-solutions/
LOCATION:Online
CATEGORIES:Energy
ATTACH;FMTTYPE=image/jpeg:https://matrixni.org/wp-content/uploads/2022/01/86979456_investni-e1641304355746.jpg
END:VEVENT
BEGIN:VEVENT
DTSTART;TZID=Europe/London:20220126T180000
DTEND;TZID=Europe/London:20220126T193000
DTSTAMP:20260424T032039
CREATED:20211221T100019Z
LAST-MODIFIED:20211221T100019Z
UID:25515-1643220000-1643225400@matrixni.org
SUMMARY:How can the National Science and Technology Council and the Office for Science and Technology Strategy direct S&T priorities?
DESCRIPTION:In June 2021\, the Prime Minister announced the creation of a new National Science and Technology Council (NSTC)\, to “provide strategic direction on the use of science and technology as the tools to tackle great societal challenges\, level up across the country and boost prosperity around the world.” He also announced the creation of a new Office for Science and Technology Strategy (OSTS)\, to be based in the Cabinet Office\, which would “drive forward the strategy of Whitehall’s science and technology priorities from the centre”. The OSTS would be headed up by a National Technology Adviser\, and Sir Patrick Vallance was appointed as the first person in that role. \nIn this event\, FST will discuss early progress in setting up the NSTC and OSTS\, and their emerging priorities. They will also examine how these bodies will work with other structures within the UK’s science\, technology and innovation ecosystem\, including UKRI and the Government Office for Science\, and how they will engage with UK industry.
URL:https://matrixni.org/event/how-can-the-national-science-and-technology-council-and-the-office-for-science-and-technology-strategy-direct-st-priorities/
LOCATION:Online
CATEGORIES:Innovation
ATTACH;FMTTYPE=image/jpeg:https://matrixni.org/wp-content/uploads/2021/12/Matrix-Picture-10.jpg
END:VEVENT
END:VCALENDAR