BEGIN:VCALENDAR
VERSION:2.0
PRODID:-//Matrix - ECPv6.15.20//NONSGML v1.0//EN
CALSCALE:GREGORIAN
METHOD:PUBLISH
X-ORIGINAL-URL:https://matrixni.org
X-WR-CALDESC:Events for Matrix
REFRESH-INTERVAL;VALUE=DURATION:PT1H
X-Robots-Tag:noindex
X-PUBLISHED-TTL:PT1H
BEGIN:VTIMEZONE
TZID:Europe/London
BEGIN:DAYLIGHT
TZOFFSETFROM:+0000
TZOFFSETTO:+0100
TZNAME:BST
DTSTART:20200329T010000
END:DAYLIGHT
BEGIN:STANDARD
TZOFFSETFROM:+0100
TZOFFSETTO:+0000
TZNAME:GMT
DTSTART:20201025T010000
END:STANDARD
BEGIN:DAYLIGHT
TZOFFSETFROM:+0000
TZOFFSETTO:+0100
TZNAME:BST
DTSTART:20210328T010000
END:DAYLIGHT
BEGIN:STANDARD
TZOFFSETFROM:+0100
TZOFFSETTO:+0000
TZNAME:GMT
DTSTART:20211031T010000
END:STANDARD
BEGIN:DAYLIGHT
TZOFFSETFROM:+0000
TZOFFSETTO:+0100
TZNAME:BST
DTSTART:20220327T010000
END:DAYLIGHT
BEGIN:STANDARD
TZOFFSETFROM:+0100
TZOFFSETTO:+0000
TZNAME:GMT
DTSTART:20221030T010000
END:STANDARD
END:VTIMEZONE
BEGIN:VEVENT
DTSTART;TZID=Europe/London:20210810T120000
DTEND;TZID=Europe/London:20210810T130000
DTSTAMP:20260423T013226
CREATED:20210715T125814Z
LAST-MODIFIED:20210715T130031Z
UID:24498-1628596800-1628600400@matrixni.org
SUMMARY:Future Tuesdays at Féile
DESCRIPTION:The Live and The Digital: Creativity After Covid-19\n\n\nProfessor Paul Moore of Future Screens NI will host “The Live and the Digital: Creativity After Covid-19” streamed live from Áras Uí Chonghaile on the Falls Road as part of Féile. The panel will consider the question of creativity after Covid-19. The panel will feature the following: \n• “Tsuru” by Deepa Mann-Kler \n• Titanic by Michael McGlade of Yellow Design \n• Experiments in Immersive Theatre by Zoe Seaton of Big Telly \n• The Future of Virtual Production by Dr Declan Keeney of Ulster University \nDon’t miss this unique experience which will consider the future of creativity and the city of Belfast.
URL:https://matrixni.org/event/future-tuesdays-at-feile/
LOCATION:Online
CATEGORIES:Creative technology
ATTACH;FMTTYPE=image/jpeg:https://matrixni.org/wp-content/uploads/2021/07/0cdc7346a414dc0b5937b38bbf9e6922-e1626353987405.jpg
END:VEVENT
BEGIN:VEVENT
DTSTART;TZID=Europe/London:20210809T190000
DTEND;TZID=Europe/London:20210809T200000
DTSTAMP:20260423T013226
CREATED:20210715T131128Z
LAST-MODIFIED:20210715T131541Z
UID:24503-1628535600-1628539200@matrixni.org
SUMMARY:Transforming the City through Creative Connectivity
DESCRIPTION:Future Screens NI Presents Transforming the City through Creativity at East Belfast Arts Festival\n\n\nThis event showcases examples of creative innovation across the city and examines the potential for City Wide Transformation and enhanced Connectivity. The panel will be chaired by Professor Paul Moore Director of Future Screens NI which is a £13mn Creative Cluster Programme investing the Creative Industries. The panel will feature the following innovative content: \n• Immersive Peace Wall installation “Tsuru” by Deepa Mann-Kler \nhttps://www.discoverneon.com/tsuru \n• AR 360 by Michael McGlade of Yellow Design \nhttps://www.yellowdesign.tv/ar-vr/tourism/ \n• The Future of Virtual Production by Dr Declan Keeney of Ulster University \nhttps://www.brcd-innovation.co.uk/projects/smil \nThe event will showcase innovations developed within the creative industries and ask what is next for the City of Belfast? \nFind out more about Future Screens NI here: \nhttps://www.futurescreens.org/
URL:https://matrixni.org/event/transforming-the-city-through-creative-connectivity/
CATEGORIES:Telecommunications
ATTACH;FMTTYPE=image/jpeg:https://matrixni.org/wp-content/uploads/2021/04/21770-scaled-e1617808467603.jpg
END:VEVENT
BEGIN:VEVENT
DTSTART;TZID=Europe/London:20210803T110000
DTEND;TZID=Europe/London:20210803T114000
DTSTAMP:20260423T013226
CREATED:20210727T094902Z
LAST-MODIFIED:20210727T100739Z
UID:24556-1627988400-1627990800@matrixni.org
SUMMARY:Defence Innovation Loans: Your questions answered
DESCRIPTION:Your chance to speak to the DASA Team behind Defence Innovation Loans \nThe Defence and Security Accelerator (DASA) are pleased to launch a new competition: the Defence Innovation Loan\, which has £10 million to lend for innovative defence solutions. \nAccessible to SMEs\, and with a below market interest rate of 7.4% per annum\, the Defence Innovation Loan provides an excellent opportunity to apply for affordable funds to help you bring your solutions into the hands of defence frontline services. \nThis short session will explain everything you need to know about Defence Innovation Loans – who is eligible\, how much money you can borrow and the terms of your Loan. Our experts will also provide their top tips for completing the application process and will be on hand to answer your questions. \nWhat will be covered in the event? \n\nWhat DASA does and how Defence Innovation Loans work\nWho can apply – is your business and innovation eligible ?\nWhat you can borrow – amounts and eligible cost\nUnderstanding the project and loan periods and terms – an explanation of the costs and how the loan works\nHow to apply – including top tips\nQ&A\n\nPlease note\n\nregistration will close Friday 30 July 2021 at 5pm\ninstructions on how to join the event will be sent to the email address you used when registering by midday Monday 2 August 2021. If you haven’t received anything by that time\, please check your junk folder\, or email accelerator@dstl.gov.uk.\nthe information you provide will be retained by DASA to contact you in regards to this event\, and any future DASA communications that may be relevant to you. Dstl will also have access to this information for this event. Please indicate on the registration if this is something you do not wish to do.
URL:https://matrixni.org/event/defence-innovation-loans-your-questions-answered/
LOCATION:Online
CATEGORIES:Innovation,R&D
ATTACH;FMTTYPE=image/jpeg:https://matrixni.org/wp-content/uploads/2021/07/0fa330768fa1162f73b835fc4ce1e8d0.jpg
ORGANIZER;CN="Defence and Security Accelerator":MAILTO:accelerator@dstl.gov.uk
END:VEVENT
END:VCALENDAR