BEGIN:VCALENDAR
VERSION:2.0
PRODID:-//Matrix - ECPv6.15.20//NONSGML v1.0//EN
CALSCALE:GREGORIAN
METHOD:PUBLISH
X-ORIGINAL-URL:https://matrixni.org
X-WR-CALDESC:Events for Matrix
REFRESH-INTERVAL;VALUE=DURATION:PT1H
X-Robots-Tag:noindex
X-PUBLISHED-TTL:PT1H
BEGIN:VTIMEZONE
TZID:Europe/London
BEGIN:DAYLIGHT
TZOFFSETFROM:+0000
TZOFFSETTO:+0100
TZNAME:BST
DTSTART:20240331T010000
END:DAYLIGHT
BEGIN:STANDARD
TZOFFSETFROM:+0100
TZOFFSETTO:+0000
TZNAME:GMT
DTSTART:20241027T010000
END:STANDARD
BEGIN:DAYLIGHT
TZOFFSETFROM:+0000
TZOFFSETTO:+0100
TZNAME:BST
DTSTART:20250330T010000
END:DAYLIGHT
BEGIN:STANDARD
TZOFFSETFROM:+0100
TZOFFSETTO:+0000
TZNAME:GMT
DTSTART:20251026T010000
END:STANDARD
BEGIN:DAYLIGHT
TZOFFSETFROM:+0000
TZOFFSETTO:+0100
TZNAME:BST
DTSTART:20260329T010000
END:DAYLIGHT
BEGIN:STANDARD
TZOFFSETFROM:+0100
TZOFFSETTO:+0000
TZNAME:GMT
DTSTART:20261025T010000
END:STANDARD
END:VTIMEZONE
BEGIN:VEVENT
DTSTART;TZID=Europe/London:20250212T100000
DTEND;TZID=Europe/London:20250223T170000
DTSTAMP:20260425T133909
CREATED:20250210T140042Z
LAST-MODIFIED:20250210T140042Z
UID:27959-1739354400-1740330000@matrixni.org
SUMMARY:Maths Mile - Belfast
DESCRIPTION:Maths is everywhere! Join us for a maths filled mile around Belfast City Centre stopping at the perfect spots to do some problem solving with your family. Explore the city centre through your mathematical minds any time during the festival. \nWe’ve worked with clever mathematicians to make sure that these problems are perfect for primary school children. Take a picture of your completed map and email it to belfastmathsmile@gmail.com to be in for a chance to win a prize!
URL:https://matrixni.org/event/maths-mile-belfast/
LOCATION:Belfast
ATTACH;FMTTYPE=image/png:https://matrixni.org/wp-content/uploads/2025/02/Maths-Mile-e1739196017960.png
ORGANIZER;CN="Northern Ireland Science Festival":MAILTO:info@nisciencefestival.com
END:VEVENT
BEGIN:VEVENT
DTSTART;TZID=Europe/London:20250222T100000
DTEND;TZID=Europe/London:20250222T130000
DTSTAMP:20260425T133909
CREATED:20250210T144659Z
LAST-MODIFIED:20250210T144659Z
UID:27982-1740218400-1740229200@matrixni.org
SUMMARY:Foyle Science Showcase
DESCRIPTION:Join us at the Foyle Arena\, Derry for an exhilarating day of discovery at the NI Science Festival 2025! \nWitness the incredible “Big Maths Gameshow” with Kyle D. Evans\, where humour meets the wonders of mathematics in an interactive spectacle for families. \nDive into the extremes of our planet with Mark Langtry in the enthralling “Limitless” science show. \nWander through interactive exhibits from the Nerve Centre\, CCA\, Food Standards Agency\, W5’s Star Dome\, Ulster University\, Kainos\, Loughs Agency\, NI Water and more\, including hands-on activities like invertebrate identification and digital game design. \nExperience cutting-edge virtual reality\, dive into water cycle experiments\, and explore hidden sounds with sonic workshops. \nIt’s a perfect day for curious minds of all ages\, packed with educational fun and inspirational activities! \nFREE ENTRY
URL:https://matrixni.org/event/foyle-science-showcase/
LOCATION:Foyle Arena\, 2\, Limavady Rd\,\, Derry Londonderry\, Northern Ireland\, BT47 6JY\, United Kingdom
ATTACH;FMTTYPE=image/jpeg:https://matrixni.org/wp-content/uploads/2025/02/Foyle-Science-Showcase-e1739198804838.jpg
ORGANIZER;CN="Northern Ireland Science Festival":MAILTO:info@nisciencefestival.com
END:VEVENT
BEGIN:VEVENT
DTSTART;TZID=Europe/London:20250222T200000
DTEND;TZID=Europe/London:20250222T223000
DTSTAMP:20260425T133909
CREATED:20250210T144500Z
LAST-MODIFIED:20250210T144500Z
UID:27979-1740254400-1740263400@matrixni.org
SUMMARY:Robo Bingo (Belfast)
DESCRIPTION:Interactive Alt-Bingo For Introverts\nBingo meets tech. Join IT consultants\, Lloyd and Pete in their interactive show for introverts. Expect robots\, comedy and light-hearted gambling*. Put that dabber away! You play along on your (charged) phone\, but in a fun way! At first you’ll be searching for numbers in a grid but 40 minutes later you’ll be helping our bingo robot capture amphibians. \nIf you don’t like bingo – come to this. \n*Legally not real gambling\, nothing of value to win. You are paying to see the comedy show.
URL:https://matrixni.org/event/robo-bingo-belfast/
LOCATION:The Black Box\, 18-22 Hill Street\, Belfast\, Northern Ireland\, BT1 2LA\, United Kingdom
ATTACH;FMTTYPE=image/jpeg:https://matrixni.org/wp-content/uploads/2025/02/NISF25-Images-e1739198691157.jpg
ORGANIZER;CN="Northern Ireland Science Festival":MAILTO:info@nisciencefestival.com
END:VEVENT
END:VCALENDAR