BEGIN:VCALENDAR
VERSION:2.0
PRODID:-//Matrix - ECPv6.15.20//NONSGML v1.0//EN
CALSCALE:GREGORIAN
METHOD:PUBLISH
X-ORIGINAL-URL:https://matrixni.org
X-WR-CALDESC:Events for Matrix
REFRESH-INTERVAL;VALUE=DURATION:PT1H
X-Robots-Tag:noindex
X-PUBLISHED-TTL:PT1H
BEGIN:VTIMEZONE
TZID:Europe/London
BEGIN:DAYLIGHT
TZOFFSETFROM:+0000
TZOFFSETTO:+0100
TZNAME:BST
DTSTART:20240331T010000
END:DAYLIGHT
BEGIN:STANDARD
TZOFFSETFROM:+0100
TZOFFSETTO:+0000
TZNAME:GMT
DTSTART:20241027T010000
END:STANDARD
BEGIN:DAYLIGHT
TZOFFSETFROM:+0000
TZOFFSETTO:+0100
TZNAME:BST
DTSTART:20250330T010000
END:DAYLIGHT
BEGIN:STANDARD
TZOFFSETFROM:+0100
TZOFFSETTO:+0000
TZNAME:GMT
DTSTART:20251026T010000
END:STANDARD
BEGIN:DAYLIGHT
TZOFFSETFROM:+0000
TZOFFSETTO:+0100
TZNAME:BST
DTSTART:20260329T010000
END:DAYLIGHT
BEGIN:STANDARD
TZOFFSETFROM:+0100
TZOFFSETTO:+0000
TZNAME:GMT
DTSTART:20261025T010000
END:STANDARD
END:VTIMEZONE
BEGIN:VEVENT
DTSTART;TZID=Europe/London:20250212T100000
DTEND;TZID=Europe/London:20250223T170000
DTSTAMP:20260425T133906
CREATED:20250210T140042Z
LAST-MODIFIED:20250210T140042Z
UID:27959-1739354400-1740330000@matrixni.org
SUMMARY:Maths Mile - Belfast
DESCRIPTION:Maths is everywhere! Join us for a maths filled mile around Belfast City Centre stopping at the perfect spots to do some problem solving with your family. Explore the city centre through your mathematical minds any time during the festival. \nWe’ve worked with clever mathematicians to make sure that these problems are perfect for primary school children. Take a picture of your completed map and email it to belfastmathsmile@gmail.com to be in for a chance to win a prize!
URL:https://matrixni.org/event/maths-mile-belfast/
LOCATION:Belfast
ATTACH;FMTTYPE=image/png:https://matrixni.org/wp-content/uploads/2025/02/Maths-Mile-e1739196017960.png
ORGANIZER;CN="Northern Ireland Science Festival":MAILTO:info@nisciencefestival.com
END:VEVENT
BEGIN:VEVENT
DTSTART;TZID=Europe/London:20250218T103000
DTEND;TZID=Europe/London:20250218T123000
DTSTAMP:20260425T133906
CREATED:20250131T110932Z
LAST-MODIFIED:20250131T110932Z
UID:27928-1739874600-1739881800@matrixni.org
SUMMARY:NI Engineering Goes into Space
DESCRIPTION:Join the Institution of Mechanical Engineers\, The Armagh Observatory & Planetarium and Robert Hill\, Director of the NI Space Office\, in an exploration of some of the technology companies in Northern Ireland that are engineering components for space vehicles and systems; thereby supporting our quest for knowledge and understanding of our home planet and the Universe. \nAndor Technology and Space will showcase cutting edge cameras that are used in a wide range of astronomy applications from flying telescopes to solar astronomy; Springco will showcase the space exploration and research vehicles on which its products perform essential functions; Spirit Aerospace will showcase its Belfast and US Space programmes\, and its high temperature protection systems and Queen’s University Propulsion Lab will showcase its involvement in rocketry.
URL:https://matrixni.org/event/ni-engineering-goes-into-space/
LOCATION:Armagh Observatory & Planetarium
CATEGORIES:Space technology
ATTACH;FMTTYPE=image/jpeg:https://matrixni.org/wp-content/uploads/2025/01/space-engineering-e1738321762149.jpg
ORGANIZER;CN="Northern Ireland Science Festival":MAILTO:info@nisciencefestival.com
END:VEVENT
BEGIN:VEVENT
DTSTART;TZID=Europe/London:20250218T190000
DTEND;TZID=Europe/London:20250218T220000
DTSTAMP:20260425T133907
CREATED:20250210T144106Z
LAST-MODIFIED:20250210T144106Z
UID:27973-1739905200-1739916000@matrixni.org
SUMMARY:FameLab - Northern Ireland Final
DESCRIPTION:Experience the thrilling showcase of scientific talent and communication at FameLab Northern Ireland’s live final\, featuring finalists competing with charm\, scientific expertise\, and innovation in a three-minute window.\n \nThe night will be hosted by comedian and former FameLab Champion\, Emer Maguire! \nOur judging panel will be Professor Victoria Simms (Ulster University)\, Jonathan Stewart (British Council) Patricia O’Hagan (Deputy Chair of the MATRIX panel)\, Dr Aaron Monson (Previous FameLab NI winner) and Festival Director Sarah Jones!
URL:https://matrixni.org/event/famelab-northern-ireland-final-2/
LOCATION:The Black Box\, 18-22 Hill Street\, Belfast\, Northern Ireland\, BT1 2LA\, United Kingdom
ATTACH;FMTTYPE=image/jpeg:https://matrixni.org/wp-content/uploads/2025/02/FameLab-Northern-Ireland-Final-e1739198459241.jpg
ORGANIZER;CN="Northern Ireland Science Festival":MAILTO:info@nisciencefestival.com
END:VEVENT
END:VCALENDAR