BEGIN:VCALENDAR
VERSION:2.0
PRODID:-//Matrix - ECPv6.15.20//NONSGML v1.0//EN
CALSCALE:GREGORIAN
METHOD:PUBLISH
X-WR-CALNAME:Matrix
X-ORIGINAL-URL:https://matrixni.org
X-WR-CALDESC:Events for Matrix
REFRESH-INTERVAL;VALUE=DURATION:PT1H
X-Robots-Tag:noindex
X-PUBLISHED-TTL:PT1H
BEGIN:VTIMEZONE
TZID:Europe/London
BEGIN:DAYLIGHT
TZOFFSETFROM:+0000
TZOFFSETTO:+0100
TZNAME:BST
DTSTART:20240331T010000
END:DAYLIGHT
BEGIN:STANDARD
TZOFFSETFROM:+0100
TZOFFSETTO:+0000
TZNAME:GMT
DTSTART:20241027T010000
END:STANDARD
BEGIN:DAYLIGHT
TZOFFSETFROM:+0000
TZOFFSETTO:+0100
TZNAME:BST
DTSTART:20250330T010000
END:DAYLIGHT
BEGIN:STANDARD
TZOFFSETFROM:+0100
TZOFFSETTO:+0000
TZNAME:GMT
DTSTART:20251026T010000
END:STANDARD
BEGIN:DAYLIGHT
TZOFFSETFROM:+0000
TZOFFSETTO:+0100
TZNAME:BST
DTSTART:20260329T010000
END:DAYLIGHT
BEGIN:STANDARD
TZOFFSETFROM:+0100
TZOFFSETTO:+0000
TZNAME:GMT
DTSTART:20261025T010000
END:STANDARD
END:VTIMEZONE
BEGIN:VEVENT
DTSTART;TZID=Europe/London:20250212T100000
DTEND;TZID=Europe/London:20250223T170000
DTSTAMP:20260425T133757
CREATED:20250210T140042Z
LAST-MODIFIED:20250210T140042Z
UID:27959-1739354400-1740330000@matrixni.org
SUMMARY:Maths Mile - Belfast
DESCRIPTION:Maths is everywhere! Join us for a maths filled mile around Belfast City Centre stopping at the perfect spots to do some problem solving with your family. Explore the city centre through your mathematical minds any time during the festival. \nWe’ve worked with clever mathematicians to make sure that these problems are perfect for primary school children. Take a picture of your completed map and email it to belfastmathsmile@gmail.com to be in for a chance to win a prize!
URL:https://matrixni.org/event/maths-mile-belfast/
LOCATION:Belfast
ATTACH;FMTTYPE=image/png:https://matrixni.org/wp-content/uploads/2025/02/Maths-Mile-e1739196017960.png
ORGANIZER;CN="Northern Ireland Science Festival":MAILTO:info@nisciencefestival.com
END:VEVENT
BEGIN:VEVENT
DTSTART;TZID=Europe/London:20250213T110000
DTEND;TZID=Europe/London:20250213T140000
DTSTAMP:20260425T133757
CREATED:20250210T140910Z
LAST-MODIFIED:20250210T143846Z
UID:27962-1739444400-1739455200@matrixni.org
SUMMARY:Stuff! How is it Made? with Maddie Moate
DESCRIPTION:Straight off the pages of her book and onto the live stage\, Maddie Moate brings you incredible facts and fascinating stories about the remarkable ways people around the world make and re-use STUFF! \nDo you ever wonder where your stuff comes from\, and what happens to it when you’re finished with it? Did you know that you can make paper out of elephant poo? And plastic packaging out of seaweed?! \nWith readings from her book\, demos\, and lots of audience interaction\, Maddie will inspire young minds to think about the ingenious ways we can make\, use\, and reuse the stuff around us. \nAbout\nMaddie Moate is a BAFTA winning presenter and YouTuber\, passionate about curiosity and inspiring children with the wonders of the world. She is the host of the BAFTA nominated TV series “Maddie’s Do You Know?”\, Sony Music’s podcast “Maddie’s Sound Explorers” and presented BBC Earth’s “Earth Unplugged”. Maddie’s YouTube channel is full of fun\, family-focused science videos that have taken her on curious adventures around the world. Her channel is also home to the wildly popular series “Let’s Go Live with Maddie and Greg”\, a live family science show which helped countless families with homeschooling over lockdown.
URL:https://matrixni.org/event/stuff-how-is-it-made-with-maddie-moate/
LOCATION:The Mac\, 10 Exchange Street\, West\, Belfast\, Northern Ireland\, BT1 2NJ\, United Kingdom
ATTACH;FMTTYPE=image/jpeg:https://matrixni.org/wp-content/uploads/2025/02/Maddoe-Moate-e1739198283762.jpg
ORGANIZER;CN="Northern Ireland Science Festival":MAILTO:info@nisciencefestival.com
END:VEVENT
BEGIN:VEVENT
DTSTART;TZID=Europe/London:20250213T190000
DTEND;TZID=Europe/London:20250213T200000
DTSTAMP:20260425T133757
CREATED:20250210T141054Z
LAST-MODIFIED:20250210T141054Z
UID:27965-1739473200-1739476800@matrixni.org
SUMMARY:Artificial Imagination with Jocelyn Burnham
DESCRIPTION:Join AI expert Jocelyn Burnham for an energetic tour of ‘creative’ AI. Discover how AI merges with human creativity to revolutionise art\, music\, and learning. \nDrawing from work with Tate\, RADA\, and Shakespeare’s Globe\, Jocelyn showcases AI innovations and offers insights on starting your own AI experiments.
URL:https://matrixni.org/event/artificial-imagination-with-jocelyn-burnham/
LOCATION:Nerve Centre\, 7-8 Magazine St\, Derry\, Derry/Londonderry\, BT48 6HJ\, United Kingdom
ATTACH;FMTTYPE=image/jpeg:https://matrixni.org/wp-content/uploads/2025/02/Artificial-Imagination-with-Jocelyn-Burnham-e1739196645338.jpg
ORGANIZER;CN="Northern Ireland Science Festival":MAILTO:info@nisciencefestival.com
END:VEVENT
END:VCALENDAR