BEGIN:VCALENDAR
VERSION:2.0
PRODID:-//Matrix - ECPv6.15.20//NONSGML v1.0//EN
CALSCALE:GREGORIAN
METHOD:PUBLISH
X-WR-CALNAME:Matrix
X-ORIGINAL-URL:https://matrixni.org
X-WR-CALDESC:Events for Matrix
REFRESH-INTERVAL;VALUE=DURATION:PT1H
X-Robots-Tag:noindex
X-PUBLISHED-TTL:PT1H
BEGIN:VTIMEZONE
TZID:Europe/London
BEGIN:DAYLIGHT
TZOFFSETFROM:+0000
TZOFFSETTO:+0100
TZNAME:BST
DTSTART:20230326T010000
END:DAYLIGHT
BEGIN:STANDARD
TZOFFSETFROM:+0100
TZOFFSETTO:+0000
TZNAME:GMT
DTSTART:20231029T010000
END:STANDARD
BEGIN:DAYLIGHT
TZOFFSETFROM:+0000
TZOFFSETTO:+0100
TZNAME:BST
DTSTART:20240331T010000
END:DAYLIGHT
BEGIN:STANDARD
TZOFFSETFROM:+0100
TZOFFSETTO:+0000
TZNAME:GMT
DTSTART:20241027T010000
END:STANDARD
BEGIN:DAYLIGHT
TZOFFSETFROM:+0000
TZOFFSETTO:+0100
TZNAME:BST
DTSTART:20250330T010000
END:DAYLIGHT
BEGIN:STANDARD
TZOFFSETFROM:+0100
TZOFFSETTO:+0000
TZNAME:GMT
DTSTART:20251026T010000
END:STANDARD
END:VTIMEZONE
BEGIN:VEVENT
DTSTART;TZID=Europe/London:20240621T090000
DTEND;TZID=Europe/London:20240621T230000
DTSTAMP:20260425T002110
CREATED:20240509T125203Z
LAST-MODIFIED:20240509T131934Z
UID:27583-1718960400-1719010800@matrixni.org
SUMMARY:Devolution at 25: Productivity and skills
DESCRIPTION:The Economics Observatory is holding a series of events to mark 25 years of devolution. The chief aim of these events is to be forward looking and stimulate debate as to how we create prosperous Northern Irish\, Scottish\, and Welsh economies. \nThe theme of the Belfast event\, on Friday 21 June\, is productivity and skills. It will take place from 9am to 11am (with refreshments available from 8.30am) and will be hosted by the Northern Ireland Productivity Forum. \nThe event will consist of two roundtables focusing on skills and productivity in Northern Ireland and the two other devolved nations.
URL:https://matrixni.org/event/devolution-at-25-productivity-and-skills/
LOCATION:Mark Pigott Lecture Theatre\, Riddel Hall Student Hub\, Queens University\, 85 Stranmillis Road\, BELFAST\, BT9 5EE\, United Kingdom
CATEGORIES:General,Innovation,R&D,STEM skills
ATTACH;FMTTYPE=image/png:https://matrixni.org/wp-content/uploads/2024/05/4ddf9a80-a764-11eb-9a18-6445c23d9f21-e1715260765649.png
END:VEVENT
END:VCALENDAR