BEGIN:VCALENDAR
VERSION:2.0
PRODID:-//Matrix - ECPv6.15.20//NONSGML v1.0//EN
CALSCALE:GREGORIAN
METHOD:PUBLISH
X-WR-CALNAME:Matrix
X-ORIGINAL-URL:https://matrixni.org
X-WR-CALDESC:Events for Matrix
REFRESH-INTERVAL;VALUE=DURATION:PT1H
X-Robots-Tag:noindex
X-PUBLISHED-TTL:PT1H
BEGIN:VTIMEZONE
TZID:Europe/London
BEGIN:DAYLIGHT
TZOFFSETFROM:+0000
TZOFFSETTO:+0100
TZNAME:BST
DTSTART:20230326T010000
END:DAYLIGHT
BEGIN:STANDARD
TZOFFSETFROM:+0100
TZOFFSETTO:+0000
TZNAME:GMT
DTSTART:20231029T010000
END:STANDARD
BEGIN:DAYLIGHT
TZOFFSETFROM:+0000
TZOFFSETTO:+0100
TZNAME:BST
DTSTART:20240331T010000
END:DAYLIGHT
BEGIN:STANDARD
TZOFFSETFROM:+0100
TZOFFSETTO:+0000
TZNAME:GMT
DTSTART:20241027T010000
END:STANDARD
BEGIN:DAYLIGHT
TZOFFSETFROM:+0000
TZOFFSETTO:+0100
TZNAME:BST
DTSTART:20250330T010000
END:DAYLIGHT
BEGIN:STANDARD
TZOFFSETFROM:+0100
TZOFFSETTO:+0000
TZNAME:GMT
DTSTART:20251026T010000
END:STANDARD
END:VTIMEZONE
BEGIN:VEVENT
DTSTART;TZID=Europe/London:20240606T090000
DTEND;TZID=Europe/London:20240606T130000
DTSTAMP:20260425T001215
CREATED:20240514T125317Z
LAST-MODIFIED:20240514T125317Z
UID:27600-1717664400-1717678800@matrixni.org
SUMMARY:Resource Matching Workshop at Omagh Enterprise Centre
DESCRIPTION:International Synergies Northern Ireland are excited to host another resource-matching workshop and networking session. \n  \nThis FREE event\, in partnership with Invest Northern Ireland\, will be held at Omagh Enterprise Centre\, Great Northern Road\, BT78 5LU. \nRegistration will be from 9.00 with the Resource Matching session until 1:00pm. \nAt International Synergies Northern Ireland’s Resource-Matching Workshop\, we believe that one company’s waste can be another’s treasure. This event is designed to bring together businesses of all sizes and industries to list their underutilised resources and material needs. By connecting these resources with companies looking for them\, we aim to create a sustainable and mutually beneficial solution. \nDuring the workshop\, you’ll have the opportunity to network with like-minded individuals and explore potential partnerships and synergies that can lead to cost savings\, reduced environmental impact\, and increased operational efficiency. Whether you have pallets and timber\, steel off-cuts\, cardboard\, vegetable mulch\, used furniture\, plastic containers or any other resource\, this event will provide a platform for you to find innovative ways to re-purpose them. \nHere’s what you can expect at the Resource-Matching Workshop: \n\nEngaging presentations on the principles of the circular economy and the benefits of resource matching.\nFacilitated resource-matching sessions to help you identify and list your available resources in terms of both HAVES and WANTS\nNetworking opportunities to connect with other businesses and explore resource-matching synergies.\nExpert guidance from our resource-matching team on implementing circular practices and integrating sustainability into your operations.\nA chance to contribute to a greener future and make a positive impact on our local economy.\n\nThis event is completely FREE to attend\, but space is limited\, so reserve your ticket now to secure your spot. Tickets will be allocated on a first come\, first served basis. Don’t miss out on this unique opportunity to transform waste into valuable resources and create a more sustainable business ecosystem. \nThis project is part-funded by the UK Government through the Shared Prosperity Fund.
URL:https://matrixni.org/event/resource-matching-workshop-at-omagh-enterprise-centre/
LOCATION:Omagh Enterprise Company\, Great Northern Road\, Omagh\, Northern Ireland\, BT78 5LU\, United Kingdom
CATEGORIES:Circular Green,Climate Change,Creative technology
ATTACH;FMTTYPE=image/jpeg:https://matrixni.org/wp-content/uploads/2024/05/fhgfh-01-e1715691181731.jpg
END:VEVENT
END:VCALENDAR