BEGIN:VCALENDAR
VERSION:2.0
PRODID:-//Matrix - ECPv6.15.20//NONSGML v1.0//EN
CALSCALE:GREGORIAN
METHOD:PUBLISH
X-ORIGINAL-URL:https://matrixni.org
X-WR-CALDESC:Events for Matrix
REFRESH-INTERVAL;VALUE=DURATION:PT1H
X-Robots-Tag:noindex
X-PUBLISHED-TTL:PT1H
BEGIN:VTIMEZONE
TZID:Europe/London
BEGIN:DAYLIGHT
TZOFFSETFROM:+0000
TZOFFSETTO:+0100
TZNAME:BST
DTSTART:20230326T010000
END:DAYLIGHT
BEGIN:STANDARD
TZOFFSETFROM:+0100
TZOFFSETTO:+0000
TZNAME:GMT
DTSTART:20231029T010000
END:STANDARD
BEGIN:DAYLIGHT
TZOFFSETFROM:+0000
TZOFFSETTO:+0100
TZNAME:BST
DTSTART:20240331T010000
END:DAYLIGHT
BEGIN:STANDARD
TZOFFSETFROM:+0100
TZOFFSETTO:+0000
TZNAME:GMT
DTSTART:20241027T010000
END:STANDARD
BEGIN:DAYLIGHT
TZOFFSETFROM:+0000
TZOFFSETTO:+0100
TZNAME:BST
DTSTART:20250330T010000
END:DAYLIGHT
BEGIN:STANDARD
TZOFFSETFROM:+0100
TZOFFSETTO:+0000
TZNAME:GMT
DTSTART:20251026T010000
END:STANDARD
END:VTIMEZONE
BEGIN:VEVENT
DTSTART;TZID=Europe/London:20240225T133000
DTEND;TZID=Europe/London:20240225T143000
DTSTAMP:20260424T180749
CREATED:20240205T100957Z
LAST-MODIFIED:20240205T100957Z
UID:27345-1708867800-1708871400@matrixni.org
SUMMARY:Power Up - An Engineer's Adventure into Sustainable Energy
DESCRIPTION:We rarely think about the energy systems that prop up our existence. With hot water\, lighting and digital entertainment all available at the flick of a switch\, it’s easy to underestimate the vast global network that makes these things possible. \nGrowing up in Iraq\, Yasmin Ali regularly experienced power cuts – ironic for a country rich in oil and sunshine. Now as an engineer working in energy\, Yasmin has a deep appreciation for what these resources mean for our lives. \nIn Power Up she takes us on a journey across the globe to reveal the bigger picture\, from solar panel farms shimmering in the desert to power stations hidden deep in the mountains. We discover where we get energy from\, how it is moved and used around the world – and why we need to understand the whole system if we want to transition towards a clean\, green future. \nPower Up is a definitive picture of the intricate world that humanity has built\, and a rallying cry to face the challenges of climate change using the power at our fingertips.
URL:https://matrixni.org/event/power-up-an-engineers-adventure-into-sustainable-energy/
LOCATION:Ulster Museum\, Stranmillis Road\, Belfast\, Northern Ireland\, BT7 1NG\, United Kingdom
CATEGORIES:Climate Change,Creative technology,Engineering,Innovation,STEM skills,Technology,Women in STEM
ATTACH;FMTTYPE=image/jpeg:https://matrixni.org/wp-content/uploads/2024/02/Yasmin-2-01.jpg
ORGANIZER;CN="Northern Ireland Science Festival":MAILTO:info@nisciencefestival.com
END:VEVENT
BEGIN:VEVENT
DTSTART;TZID=Europe/London:20240225T143000
DTEND;TZID=Europe/London:20240225T153000
DTSTAMP:20260424T180749
CREATED:20240205T100614Z
LAST-MODIFIED:20240205T101343Z
UID:27342-1708871400-1708875000@matrixni.org
SUMMARY:Marcus Du Sautoy - Around The World in 80 Games
DESCRIPTION:Spanning millennia\, oceans and continents\, countries and cultures\, Around the World in 80 Games gleefully explores how mathematics and games have always been deeply intertwined. Marcus du Sautoy investigates how games provided the first opportunities for deep mathematical insight into the world\, how understanding maths can help us play games better\, and how both maths and games are integral to human psychology and culture. \nFor as long as there have been people\, there have been games\, and for nearly as long\, we have been exploring and discovering mathematics. A grand adventure\, Around the World in 80 Games teaches us not just how games are won\, but how they\, and the maths behind them\, shape who we are. \nAbout\nMarcus du Sautoy has been named by the Independent on Sunday as one of the UK’s leading scientists\, has written extensively for the Guardian\, The Times and the Daily Telegraph and has appeared on Radio 4 on numerous occasions. In 2008 he was appointed to Oxford University’s prestigious professorship as the Simonyi Chair for the Public Understanding of Science\, a post previously held by Richard Dawkins.
URL:https://matrixni.org/event/marcus-du-sautoy-around-the-world-in-80-games/
LOCATION:Whitla Hall\, QUB\, Belfast\, BT7 1NN
ATTACH;FMTTYPE=image/jpeg:https://matrixni.org/wp-content/uploads/2024/02/Marcus-01.jpg
END:VEVENT
END:VCALENDAR