BEGIN:VCALENDAR
VERSION:2.0
PRODID:-//Matrix - ECPv6.15.20//NONSGML v1.0//EN
CALSCALE:GREGORIAN
METHOD:PUBLISH
X-WR-CALNAME:Matrix
X-ORIGINAL-URL:https://matrixni.org
X-WR-CALDESC:Events for Matrix
REFRESH-INTERVAL;VALUE=DURATION:PT1H
X-Robots-Tag:noindex
X-PUBLISHED-TTL:PT1H
BEGIN:VTIMEZONE
TZID:Europe/London
BEGIN:DAYLIGHT
TZOFFSETFROM:+0000
TZOFFSETTO:+0100
TZNAME:BST
DTSTART:20230326T010000
END:DAYLIGHT
BEGIN:STANDARD
TZOFFSETFROM:+0100
TZOFFSETTO:+0000
TZNAME:GMT
DTSTART:20231029T010000
END:STANDARD
BEGIN:DAYLIGHT
TZOFFSETFROM:+0000
TZOFFSETTO:+0100
TZNAME:BST
DTSTART:20240331T010000
END:DAYLIGHT
BEGIN:STANDARD
TZOFFSETFROM:+0100
TZOFFSETTO:+0000
TZNAME:GMT
DTSTART:20241027T010000
END:STANDARD
BEGIN:DAYLIGHT
TZOFFSETFROM:+0000
TZOFFSETTO:+0100
TZNAME:BST
DTSTART:20250330T010000
END:DAYLIGHT
BEGIN:STANDARD
TZOFFSETFROM:+0100
TZOFFSETTO:+0000
TZNAME:GMT
DTSTART:20251026T010000
END:STANDARD
END:VTIMEZONE
BEGIN:VEVENT
DTSTART;TZID=Europe/London:20240223T100000
DTEND;TZID=Europe/London:20240223T160000
DTSTAMP:20260424T180443
CREATED:20240205T103302Z
LAST-MODIFIED:20240205T103302Z
UID:27352-1708682400-1708704000@matrixni.org
SUMMARY:Foyle Science Showcase - Schools Edition!
DESCRIPTION:Prepare for a day of excitement and exploration at the Foyle Science Showcase! Delight in mind-bending science shows\, immersive exhibits\, and interactive activities that promise to inspire the next generation of scientists and innovators. From captivating illusions to virtual reality experiences\, this event is a celebration of curiosity and discovery. \nScience Shows: \n\n\nThat’s Non-Sense by Braintastic: Witness the magic of multi-sensory tricks and visual illusions. \n\n\nThe Magical Science and Engineering Show: Join Scientific Sue for a funny and thought-provoking ‘Magic Show’ with a wacky combination of science and drama. \n\n\n Interactive Exhibits: \n\n\nDive into a geothermal world with Geoenergy NI’s Virtual Reality experience. \n\n\nMaster the art of weather forecasting with Barra Best and try your own greenscreen weather presentation. \n\n\nAnimate yourself using AI with Kainos. \n\n\nExplore the cosmos in Armagh Planetarium’s mobile planetarium. \n\n\nEngage with Nerve Centre\, Ulster University\, Water NI\, Wild Ireland\, Bat Conservation Ireland\, OCN\, Food Standards Agency\, and Sperrin Metal through hands-on activities that showcase the diverse facets of science and technology. \n\n\nDon’t miss this opportunity to bring science to life in a fun and engaging way! The Foyle Science Showcase is where curiosity meets discovery.
URL:https://matrixni.org/event/foyle-science-showcase-schools-edition/
LOCATION:Foyle Arena\, 2\, Limavady Rd\,\, Derry Londonderry\, Northern Ireland\, BT47 6JY\, United Kingdom
CATEGORIES:Artificial Intelligence,Careers,Creative technology,Engineering,Innovation,STEM skills,Technology
ATTACH;FMTTYPE=image/jpeg:https://matrixni.org/wp-content/uploads/2024/02/NISF-7101-01.jpg
ORGANIZER;CN="Northern Ireland Science Festival":MAILTO:info@nisciencefestival.com
END:VEVENT
END:VCALENDAR