BEGIN:VCALENDAR
VERSION:2.0
PRODID:-//Matrix - ECPv6.15.20//NONSGML v1.0//EN
CALSCALE:GREGORIAN
METHOD:PUBLISH
X-WR-CALNAME:Matrix
X-ORIGINAL-URL:https://matrixni.org
X-WR-CALDESC:Events for Matrix
REFRESH-INTERVAL;VALUE=DURATION:PT1H
X-Robots-Tag:noindex
X-PUBLISHED-TTL:PT1H
BEGIN:VTIMEZONE
TZID:Europe/London
BEGIN:DAYLIGHT
TZOFFSETFROM:+0000
TZOFFSETTO:+0100
TZNAME:BST
DTSTART:20230326T010000
END:DAYLIGHT
BEGIN:STANDARD
TZOFFSETFROM:+0100
TZOFFSETTO:+0000
TZNAME:GMT
DTSTART:20231029T010000
END:STANDARD
BEGIN:DAYLIGHT
TZOFFSETFROM:+0000
TZOFFSETTO:+0100
TZNAME:BST
DTSTART:20240331T010000
END:DAYLIGHT
BEGIN:STANDARD
TZOFFSETFROM:+0100
TZOFFSETTO:+0000
TZNAME:GMT
DTSTART:20241027T010000
END:STANDARD
BEGIN:DAYLIGHT
TZOFFSETFROM:+0000
TZOFFSETTO:+0100
TZNAME:BST
DTSTART:20250330T010000
END:DAYLIGHT
BEGIN:STANDARD
TZOFFSETFROM:+0100
TZOFFSETTO:+0000
TZNAME:GMT
DTSTART:20251026T010000
END:STANDARD
END:VTIMEZONE
BEGIN:VEVENT
DTSTART;TZID=Europe/London:20240222T193000
DTEND;TZID=Europe/London:20240222T210000
DTSTAMP:20260424T180411
CREATED:20240205T095126Z
LAST-MODIFIED:20240205T101801Z
UID:27331-1708630200-1708635600@matrixni.org
SUMMARY:What’s the blooming problem with Lough Neagh?
DESCRIPTION:Lough Neagh\, a vital freshwater resource\, is facing an unprecedented challenge. To address this critical environmental concern\, we have brought together scientists and local professionals who will share their knowledge\, research findings\, and potential solutions\, and who will delve into the intricate science behind the alarming proliferation of blue-green algae in one of Northern Ireland’s most significant water bodies. \nTake this chance to gain a deeper understanding of the science behind the Lough Neagh blue-green algae crisis. Together\, we can explore solutions and work towards safeguarding this precious natural resource.
URL:https://matrixni.org/event/whats-the-blooming-problem-with-lough-neagh/
LOCATION:Seamus Heaney HomePlace\, 45 Main Street\, Bellaghy\, Magherafelt\, BT45 8HT\, United Kingdom
CATEGORIES:Agrifood,Circular Green,Climate Change,Innovation,Technology
ATTACH;FMTTYPE=image/jpeg:https://matrixni.org/wp-content/uploads/2024/02/Featured-Image-01.jpg
ORGANIZER;CN="Northern Ireland Science Festival":MAILTO:info@nisciencefestival.com
END:VEVENT
END:VCALENDAR