BEGIN:VCALENDAR
VERSION:2.0
PRODID:-//Matrix - ECPv6.15.20//NONSGML v1.0//EN
CALSCALE:GREGORIAN
METHOD:PUBLISH
X-ORIGINAL-URL:https://matrixni.org
X-WR-CALDESC:Events for Matrix
REFRESH-INTERVAL;VALUE=DURATION:PT1H
X-Robots-Tag:noindex
X-PUBLISHED-TTL:PT1H
BEGIN:VTIMEZONE
TZID:Europe/London
BEGIN:DAYLIGHT
TZOFFSETFROM:+0000
TZOFFSETTO:+0100
TZNAME:BST
DTSTART:20220327T010000
END:DAYLIGHT
BEGIN:STANDARD
TZOFFSETFROM:+0100
TZOFFSETTO:+0000
TZNAME:GMT
DTSTART:20221030T010000
END:STANDARD
BEGIN:DAYLIGHT
TZOFFSETFROM:+0000
TZOFFSETTO:+0100
TZNAME:BST
DTSTART:20230326T010000
END:DAYLIGHT
BEGIN:STANDARD
TZOFFSETFROM:+0100
TZOFFSETTO:+0000
TZNAME:GMT
DTSTART:20231029T010000
END:STANDARD
BEGIN:DAYLIGHT
TZOFFSETFROM:+0000
TZOFFSETTO:+0100
TZNAME:BST
DTSTART:20240331T010000
END:DAYLIGHT
BEGIN:STANDARD
TZOFFSETFROM:+0100
TZOFFSETTO:+0000
TZNAME:GMT
DTSTART:20241027T010000
END:STANDARD
END:VTIMEZONE
BEGIN:VEVENT
DTSTART;TZID=Europe/London:20230621T103000
DTEND;TZID=Europe/London:20230621T140000
DTSTAMP:20260424T145417
CREATED:20230606T150855Z
LAST-MODIFIED:20230606T150855Z
UID:27174-1687343400-1687356000@matrixni.org
SUMMARY:Using data to drive the sustainable revolution in transport
DESCRIPTION:This event will delve into the groundbreaking innovations and cutting-edge technologies that are reshaping the transportation sector and propelling us towards a greener and more efficient future. \nThroughout the event\, expert speakers from various industries will shed light on the pivotal role that data plays in revolutionising transport systems worldwide. They will present compelling case studies and share key statistics that highlight the significant positive impact data-driven initiatives have on reducing carbon emissions and promoting sustainability. \nAttendees will gain invaluable insights into the latest advancements in data analytics\, machine learning\, and artificial intelligence that are revolutionising the way we move people and goods. Discover how data-driven strategies enable smarter route planning\, optimise energy consumption\, and facilitate the adoption of alternative fuels and electric vehicles\, all with the aim of achieving a net zero carbon footprint. \nDon’t miss this unique opportunity to explore the intersection of data and sustainability in transport\, as we strive to create a cleaner\, greener\, and more efficient future for all.
URL:https://matrixni.org/event/using-data-to-drive-the-sustainable-revolution-in-transport/
LOCATION:Hilton Belfast\, 4 Lanyon Place\, Belfast\, Northern Ireland\, BT1 3LP\, United Kingdom
CATEGORIES:Data,Energy,Transport
ATTACH;FMTTYPE=image/jpeg:https://matrixni.org/wp-content/uploads/2023/06/https___cdn.evbuc_.com_images_525069689_653477977003_1_original.jpg
END:VEVENT
END:VCALENDAR