BEGIN:VCALENDAR
VERSION:2.0
PRODID:-//Matrix - ECPv6.15.20//NONSGML v1.0//EN
CALSCALE:GREGORIAN
METHOD:PUBLISH
X-ORIGINAL-URL:https://matrixni.org
X-WR-CALDESC:Events for Matrix
REFRESH-INTERVAL;VALUE=DURATION:PT1H
X-Robots-Tag:noindex
X-PUBLISHED-TTL:PT1H
BEGIN:VTIMEZONE
TZID:Europe/London
BEGIN:DAYLIGHT
TZOFFSETFROM:+0000
TZOFFSETTO:+0100
TZNAME:BST
DTSTART:20220327T010000
END:DAYLIGHT
BEGIN:STANDARD
TZOFFSETFROM:+0100
TZOFFSETTO:+0000
TZNAME:GMT
DTSTART:20221030T010000
END:STANDARD
BEGIN:DAYLIGHT
TZOFFSETFROM:+0000
TZOFFSETTO:+0100
TZNAME:BST
DTSTART:20230326T010000
END:DAYLIGHT
BEGIN:STANDARD
TZOFFSETFROM:+0100
TZOFFSETTO:+0000
TZNAME:GMT
DTSTART:20231029T010000
END:STANDARD
BEGIN:DAYLIGHT
TZOFFSETFROM:+0000
TZOFFSETTO:+0100
TZNAME:BST
DTSTART:20240331T010000
END:DAYLIGHT
BEGIN:STANDARD
TZOFFSETFROM:+0100
TZOFFSETTO:+0000
TZNAME:GMT
DTSTART:20241027T010000
END:STANDARD
END:VTIMEZONE
BEGIN:VEVENT
DTSTART;TZID=Europe/London:20230525T180000
DTEND;TZID=Europe/London:20230525T235500
DTSTAMP:20260424T132214
CREATED:20230424T132237Z
LAST-MODIFIED:20230510T112848Z
UID:27125-1685037600-1685058900@matrixni.org
SUMMARY:Women in Tech Awards 2023
DESCRIPTION:The Women in Tech Awards will recognise women who innovate\, challenge and embrace technology\, showcasing inspirational individuals who have achieved great success within the sector. \nThe gala awards evening\, sponsored by VANRATH\, takes place on Thursday 25th May at The Europa Hotel\, Belfast.
URL:https://matrixni.org/event/women-in-tech-awards-2023/
LOCATION:The Europa Hotel\, Great Victoria Street\, Belfast\, BT2 7AP\, United Kingdom
ATTACH;FMTTYPE=image/jpeg:https://matrixni.org/wp-content/uploads/2023/04/New-Website-Events-Programme-template-72-e1683718088549.jpg
END:VEVENT
END:VCALENDAR