BEGIN:VCALENDAR
VERSION:2.0
PRODID:-//Matrix - ECPv6.15.20//NONSGML v1.0//EN
CALSCALE:GREGORIAN
METHOD:PUBLISH
X-WR-CALNAME:Matrix
X-ORIGINAL-URL:https://matrixni.org
X-WR-CALDESC:Events for Matrix
REFRESH-INTERVAL;VALUE=DURATION:PT1H
X-Robots-Tag:noindex
X-PUBLISHED-TTL:PT1H
BEGIN:VTIMEZONE
TZID:Europe/London
BEGIN:DAYLIGHT
TZOFFSETFROM:+0000
TZOFFSETTO:+0100
TZNAME:BST
DTSTART:20220327T010000
END:DAYLIGHT
BEGIN:STANDARD
TZOFFSETFROM:+0100
TZOFFSETTO:+0000
TZNAME:GMT
DTSTART:20221030T010000
END:STANDARD
BEGIN:DAYLIGHT
TZOFFSETFROM:+0000
TZOFFSETTO:+0100
TZNAME:BST
DTSTART:20230326T010000
END:DAYLIGHT
BEGIN:STANDARD
TZOFFSETFROM:+0100
TZOFFSETTO:+0000
TZNAME:GMT
DTSTART:20231029T010000
END:STANDARD
BEGIN:DAYLIGHT
TZOFFSETFROM:+0000
TZOFFSETTO:+0100
TZNAME:BST
DTSTART:20240331T010000
END:DAYLIGHT
BEGIN:STANDARD
TZOFFSETFROM:+0100
TZOFFSETTO:+0000
TZNAME:GMT
DTSTART:20241027T010000
END:STANDARD
END:VTIMEZONE
BEGIN:VEVENT
DTSTART;TZID=Europe/London:20230426T180000
DTEND;TZID=Europe/London:20230426T193000
DTSTAMP:20260424T115249
CREATED:20230223T102907Z
LAST-MODIFIED:20230223T102907Z
UID:26962-1682532000-1682537400@matrixni.org
SUMMARY:In conversation with Sir Patrick Vallance
DESCRIPTION:In this event\, Sir Patrick Vallance\, the outgoing Government Chief Scientific Adviser\, will be in conversation with Rt Hon Lord (David) Willetts. Chairman of the Foundation for Science and Technology\, discussing his experiences as GCSA and hopes for the future. There will be plenty of time for questions from the audience (in person and online)\, and to reflect on Sir Patrick’s time as GCSA.
URL:https://matrixni.org/event/in-conversation-with-sir-patrick-vallance/
LOCATION:Online
CATEGORIES:STEM skills
ATTACH;FMTTYPE=image/jpeg:https://matrixni.org/wp-content/uploads/2023/02/Patrick-Vallance-photo.jpg
END:VEVENT
END:VCALENDAR