BEGIN:VCALENDAR
VERSION:2.0
PRODID:-//Matrix - ECPv6.15.20//NONSGML v1.0//EN
CALSCALE:GREGORIAN
METHOD:PUBLISH
X-ORIGINAL-URL:https://matrixni.org
X-WR-CALDESC:Events for Matrix
REFRESH-INTERVAL;VALUE=DURATION:PT1H
X-Robots-Tag:noindex
X-PUBLISHED-TTL:PT1H
BEGIN:VTIMEZONE
TZID:Europe/London
BEGIN:DAYLIGHT
TZOFFSETFROM:+0000
TZOFFSETTO:+0100
TZNAME:BST
DTSTART:20220327T010000
END:DAYLIGHT
BEGIN:STANDARD
TZOFFSETFROM:+0100
TZOFFSETTO:+0000
TZNAME:GMT
DTSTART:20221030T010000
END:STANDARD
BEGIN:DAYLIGHT
TZOFFSETFROM:+0000
TZOFFSETTO:+0100
TZNAME:BST
DTSTART:20230326T010000
END:DAYLIGHT
BEGIN:STANDARD
TZOFFSETFROM:+0100
TZOFFSETTO:+0000
TZNAME:GMT
DTSTART:20231029T010000
END:STANDARD
BEGIN:DAYLIGHT
TZOFFSETFROM:+0000
TZOFFSETTO:+0100
TZNAME:BST
DTSTART:20240331T010000
END:DAYLIGHT
BEGIN:STANDARD
TZOFFSETFROM:+0100
TZOFFSETTO:+0000
TZNAME:GMT
DTSTART:20241027T010000
END:STANDARD
END:VTIMEZONE
BEGIN:VEVENT
DTSTART;TZID=Europe/London:20230329T090000
DTEND;TZID=Europe/London:20230329T170000
DTSTAMP:20260424T102332
CREATED:20230307T132940Z
LAST-MODIFIED:20230307T132940Z
UID:27012-1680080400-1680109200@matrixni.org
SUMMARY:Northern Ireland Engineering Education programme launch
DESCRIPTION:A celebration of STEM learning with participating schools and colleges of the Northern Ireland Engineering Education Programme. \nLaunched in May 2022\, the Northern Ireland Engineering Education Programme brings together an ambitious network of 52 primary schools\, secondary schools\, and FE (Further Education) colleges across Northern Ireland\, with the aim of raising students’ skills levels and aspirations for careers in engineering. \nThis event will provide an opportunity to officially launch the Academy’s Northern Ireland Engineering Education Programme and outline some of the key activities that have been taking place since the pilot began. The aim being to bring our schools together to meet and network\, share experiences\, and exchange ideas. \nThe day will consist of keynote speakers\, interactive activities\, panel discussions and school displays. More details will be available soon.
URL:https://matrixni.org/event/northern-ireland-engineering-education-programme-launch/
LOCATION:Stranmillis University College\, Stranmillis Rd\, Belfast\, BT9 5DY\, United Kingdom
CATEGORIES:Engineering
ATTACH;FMTTYPE=image/jpeg:https://matrixni.org/wp-content/uploads/2019/08/40-1.jpg
END:VEVENT
BEGIN:VEVENT
DTSTART;TZID=Europe/London:20230329T130000
DTEND;TZID=Europe/London:20230329T140000
DTSTAMP:20260424T102332
CREATED:20230309T111137Z
LAST-MODIFIED:20230309T111137Z
UID:27028-1680094800-1680098400@matrixni.org
SUMMARY:Briefing Event: Feasibility studies for Artificial Intelligence solutions
DESCRIPTION:Are you interested in securing funding to develop innovative solutions using Artificial Intelligence (AI) that address business challenges and opportunities that can drive an increase in productivity? \nInnovate UK\, part of UK Research and Innovation\, is investing up to £5 million in grant funding to support collaborative feasibility studies for AI solutions in key industry sectors\, including: \n\nAgriculture and food processing\nConstruction\nCreative industries\nTransport (including logistics and warehousing)\n\nMaximise your chance of securing up to £50\,000 for your AI project and join us for the briefing event on March 29th to learn more about the ‘Feasibility studies for Artificial Intelligence solutions’ competition. \nDuring this event\, you will gain in-depth insight into the competition\, eligibility criteria\, and application process. By attending this event\, you’ll gain valuable knowledge and guidance on how to increase your chances of securing grant funding for your innovative AI project. \nIn addition\, you’ll get a chance to network with experts in the field\, and participate in a Q&A session to clarify any questions you may have. \nThis event is ideal for UK-registered micro\, small or medium-sized enterprises (SMEs) looking to address business challenges and opportunities with AI solutions. SMEs must collaborate with an AI developer or academic organisation to participate in this competition. \n\nYour project’s grant funding request must be between £25\,000 and £50\,000.\nThis competition is open to collaborations only\nTo lead a project your organisation must be a UK registered micro\, small or medium-sized enterprise (SME).
URL:https://matrixni.org/event/briefing-event-feasibility-studies-for-artificial-intelligence-solutions/
LOCATION:Online
CATEGORIES:Artificial Intelligence
ATTACH;FMTTYPE=image/jpeg:https://matrixni.org/wp-content/uploads/2022/09/Untitled-design-6.jpg
END:VEVENT
END:VCALENDAR