BEGIN:VCALENDAR
VERSION:2.0
PRODID:-//Matrix - ECPv6.15.20//NONSGML v1.0//EN
CALSCALE:GREGORIAN
METHOD:PUBLISH
X-ORIGINAL-URL:https://matrixni.org
X-WR-CALDESC:Events for Matrix
REFRESH-INTERVAL;VALUE=DURATION:PT1H
X-Robots-Tag:noindex
X-PUBLISHED-TTL:PT1H
BEGIN:VTIMEZONE
TZID:Europe/London
BEGIN:DAYLIGHT
TZOFFSETFROM:+0000
TZOFFSETTO:+0100
TZNAME:BST
DTSTART:20220327T010000
END:DAYLIGHT
BEGIN:STANDARD
TZOFFSETFROM:+0100
TZOFFSETTO:+0000
TZNAME:GMT
DTSTART:20221030T010000
END:STANDARD
BEGIN:DAYLIGHT
TZOFFSETFROM:+0000
TZOFFSETTO:+0100
TZNAME:BST
DTSTART:20230326T010000
END:DAYLIGHT
BEGIN:STANDARD
TZOFFSETFROM:+0100
TZOFFSETTO:+0000
TZNAME:GMT
DTSTART:20231029T010000
END:STANDARD
BEGIN:DAYLIGHT
TZOFFSETFROM:+0000
TZOFFSETTO:+0100
TZNAME:BST
DTSTART:20240331T010000
END:DAYLIGHT
BEGIN:STANDARD
TZOFFSETFROM:+0100
TZOFFSETTO:+0000
TZNAME:GMT
DTSTART:20241027T010000
END:STANDARD
END:VTIMEZONE
BEGIN:VEVENT
DTSTART;TZID=Europe/London:20230324T100000
DTEND;TZID=Europe/London:20230324T130000
DTSTAMP:20260424T102340
CREATED:20230320T134732Z
LAST-MODIFIED:20230320T134732Z
UID:27061-1679652000-1679662800@matrixni.org
SUMMARY:Networking event: population health improvement network of clusters
DESCRIPTION:UK Research and Innovation (UKRI) seeks to establish a new high profile\, national interdisciplinary research network. \nThe network will: \n\nexplore novel ways to transform health through change at the population level across the UK\nbuild on research by multiple clusters that address a specific challenge to progress systems interventions in communities\n\nThe success of the network will depend on coordination and synergy between clusters to drive the network ambition of improving population health and health equity. \nThis funding opportunity aims to: \n\ninclude people who typically have not applied their expertise to improving population health before\nwork together with researchers already in the area to catalyse creative and innovative approaches that build on and synergise existing strengths and build new capabilities\n\nTo facilitate this UKRI have commissioned a series of virtual networking events. \nThese events will enable attendees to: \n\nconnect with other researchers from different disciplines and with different expertise\ndevelop research ideas and work towards shaping the research clusters that will form the population health improvement network
URL:https://matrixni.org/event/networking-event-population-health-improvement-network-of-clusters/
LOCATION:Online
CATEGORIES:Health,Innovation
ATTACH;FMTTYPE=image/jpeg:https://matrixni.org/wp-content/uploads/2019/08/28-5.jpg
END:VEVENT
END:VCALENDAR