BEGIN:VCALENDAR
VERSION:2.0
PRODID:-//Matrix - ECPv6.15.20//NONSGML v1.0//EN
CALSCALE:GREGORIAN
METHOD:PUBLISH
X-ORIGINAL-URL:https://matrixni.org
X-WR-CALDESC:Events for Matrix
REFRESH-INTERVAL;VALUE=DURATION:PT1H
X-Robots-Tag:noindex
X-PUBLISHED-TTL:PT1H
BEGIN:VTIMEZONE
TZID:Europe/London
BEGIN:DAYLIGHT
TZOFFSETFROM:+0000
TZOFFSETTO:+0100
TZNAME:BST
DTSTART:20220327T010000
END:DAYLIGHT
BEGIN:STANDARD
TZOFFSETFROM:+0100
TZOFFSETTO:+0000
TZNAME:GMT
DTSTART:20221030T010000
END:STANDARD
BEGIN:DAYLIGHT
TZOFFSETFROM:+0000
TZOFFSETTO:+0100
TZNAME:BST
DTSTART:20230326T010000
END:DAYLIGHT
BEGIN:STANDARD
TZOFFSETFROM:+0100
TZOFFSETTO:+0000
TZNAME:GMT
DTSTART:20231029T010000
END:STANDARD
BEGIN:DAYLIGHT
TZOFFSETFROM:+0000
TZOFFSETTO:+0100
TZNAME:BST
DTSTART:20240331T010000
END:DAYLIGHT
BEGIN:STANDARD
TZOFFSETFROM:+0100
TZOFFSETTO:+0000
TZNAME:GMT
DTSTART:20241027T010000
END:STANDARD
END:VTIMEZONE
BEGIN:VEVENT
DTSTART;TZID=Europe/London:20230321T180000
DTEND;TZID=Europe/London:20230321T193000
DTSTAMP:20260424T102459
CREATED:20230307T115555Z
LAST-MODIFIED:20230307T115555Z
UID:27009-1679421600-1679427000@matrixni.org
SUMMARY:Mission Zero - Getting to Net Zero emissions by 2050
DESCRIPTION:In January 2023\, the Government published Mission Zero\, the report of the Independent Review of Net Zero\, chaired by Rt Hon Chris Skidmore MP. The Review concluded that Net Zero was a massive opportunity for economic growth and the UK is well placed to realise that opportunity\, but swift action is needed. In this webinar\, In this webinar we will look at the recommendations of the review\, the opportunities presented by Net Zero\, and the actions needed to realise those opportunities. \n\n\nSpeakers\n\n\n\n\n\n\n\nThe Rt Hon Chris Skidmore MP\nChair of the Net Zero Review\n\n\nLord Adair Turner\nChairman\, Energy Transitions Commission\n\n\nProfessor Emily Shuckburgh OBE\nDirector\, Cambridge Zero\, University of Cambridge
URL:https://matrixni.org/event/mission-zero-getting-to-net-zero-emissions-by-2050/
LOCATION:Online
CATEGORIES:Climate Change
ATTACH;FMTTYPE=image/jpeg:https://matrixni.org/wp-content/uploads/2023/03/pexels-trinh-tran-11644973-e1678190037825.jpg
END:VEVENT
END:VCALENDAR