BEGIN:VCALENDAR
VERSION:2.0
PRODID:-//Matrix - ECPv6.15.20//NONSGML v1.0//EN
CALSCALE:GREGORIAN
METHOD:PUBLISH
X-WR-CALNAME:Matrix
X-ORIGINAL-URL:https://matrixni.org
X-WR-CALDESC:Events for Matrix
REFRESH-INTERVAL;VALUE=DURATION:PT1H
X-Robots-Tag:noindex
X-PUBLISHED-TTL:PT1H
BEGIN:VTIMEZONE
TZID:Europe/London
BEGIN:DAYLIGHT
TZOFFSETFROM:+0000
TZOFFSETTO:+0100
TZNAME:BST
DTSTART:20220327T010000
END:DAYLIGHT
BEGIN:STANDARD
TZOFFSETFROM:+0100
TZOFFSETTO:+0000
TZNAME:GMT
DTSTART:20221030T010000
END:STANDARD
BEGIN:DAYLIGHT
TZOFFSETFROM:+0000
TZOFFSETTO:+0100
TZNAME:BST
DTSTART:20230326T010000
END:DAYLIGHT
BEGIN:STANDARD
TZOFFSETFROM:+0100
TZOFFSETTO:+0000
TZNAME:GMT
DTSTART:20231029T010000
END:STANDARD
BEGIN:DAYLIGHT
TZOFFSETFROM:+0000
TZOFFSETTO:+0100
TZNAME:BST
DTSTART:20240331T010000
END:DAYLIGHT
BEGIN:STANDARD
TZOFFSETFROM:+0100
TZOFFSETTO:+0000
TZNAME:GMT
DTSTART:20241027T010000
END:STANDARD
END:VTIMEZONE
BEGIN:VEVENT
DTSTART;VALUE=DATE:20230216
DTEND;VALUE=DATE:20230227
DTSTAMP:20260424T085434
CREATED:20221208T140122Z
LAST-MODIFIED:20221208T140122Z
UID:26729-1676505600-1677455999@matrixni.org
SUMMARY:Northern Ireland Science Festival
DESCRIPTION:NI Science Festival returns 16 – 26 February 2023 for its ninth edition celebrating the Science of You\, The Universe and Everything in between! \nOver the years NISF has striven to bring the very best of science communication to Northern Ireland\, including notable names such as Brian Cox\, Alice Roberts\, Jim Al-Khalili\, Jocelyn Bell Burnell\, Liz Bonnin\, Robert Winston\, Chris Hadfield\, Chris and Xand Van Tulleken\, Chris Packham\, Adam Rutherford\, Maddie Moate to name a few. \nThe festival offers a stimulating and wide range of events focusing on the wonders of science\, technology\, engineering\, art and mathematics. These events present some of the best scientists from NI and beyond to discuss their work\, cutting-edge research and what the future might hold. \nDuring the day\, the festival offers a range of workshops\, tours talks and interactive activities for people of all ages. In the evening we present an eclectic mix of experiential events including scientific debate\, talks\, theatres\, comedy\, music\, and film for adults and much more.
URL:https://matrixni.org/event/northern-ireland-science-festival-2/
LOCATION:Northern Ireland
CATEGORIES:STEM skills
ATTACH;FMTTYPE=image/jpeg:https://matrixni.org/wp-content/uploads/2022/12/Untitled-design-29.jpg
ORGANIZER;CN="Northern Ireland Science Festival":MAILTO:info@nisciencefestival.com
END:VEVENT
BEGIN:VEVENT
DTSTART;TZID=Europe/London:20230220T100000
DTEND;TZID=Europe/London:20230220T150000
DTSTAMP:20260424T085434
CREATED:20230203T121503Z
LAST-MODIFIED:20230203T121503Z
UID:26894-1676887200-1676905200@matrixni.org
SUMMARY:Exploring the Future of UK AI: Scoping Event - N.Ireland
DESCRIPTION:Join UKRI for this scoping event which will bring together interested stakeholders including potential users and providers of AI to discuss the focus and direction of the programme including presentations from the AI programme consortium and round table discussions. \nAbout the event\nUnprecedented opportunities exist for us to drive the UK’s innovation and adoption of AI – the technologies transformative nature has the potential to revolutionise the UK economy. \nAre you looking to drive the UK’s innovation and adoption of AI? Do you have an AI project that has the potential to make a big impact on the economy? If so\, the upcoming programme seeks to stimulate the adoption of AI in sectors of the UK economy with low AI maturity but high-potential for growth. \nLaunching soon\, this programme aims to: \n\nGain a greater consideration of ethical\, security and bias aspects in the development of new AI solutions\nEducate AI adopters in the commercial benefits of developing and introducing AI technologies\nCultivate a network between AI developers and AI adopters in target sectors\nReduce the technical skill gap to increase both productivity and profitability\n\nWho is the event for and why should you attend?\nThis event welcomes any potential users of AI in the creative\, agriculture\, transport\, and construction sectors\, representatives of AI suppliers\, and technology providers in all sectors. If you are interested in creating and deploying innovative AI solutions and have the seniority to make it happen\, express your interest now to reserve your spot. \nBy attending\, you will have the opportunity to: \n\nInfluence the direction of this national programme and future government policy.\nBe the first to learn more about the vast funding opportunities for AI projects both current and upcoming.\nNetwork with your peers\, face to face\, to form invaluable partnerships and consortiums.
URL:https://matrixni.org/event/exploring-the-future-of-uk-ai-scoping-event-n-ireland/
LOCATION:Hilton Hotel\, Belfast\, 4 Lanyon Place\, Belfast\, BT1 3LP
CATEGORIES:Artificial Intelligence
ATTACH;FMTTYPE=image/jpeg:https://matrixni.org/wp-content/uploads/2022/12/Untitled-design-31.jpg
END:VEVENT
BEGIN:VEVENT
DTSTART;TZID=Europe/London:20230220T190000
DTEND;TZID=Europe/London:20230220T200000
DTSTAMP:20260424T085434
CREATED:20230112T103921Z
LAST-MODIFIED:20230112T104256Z
UID:26813-1676919600-1676923200@matrixni.org
SUMMARY:NI Science Festival Anne-Marie Imafidon - She’s In CTRL
DESCRIPTION:How women can take back tech\nWhy are women so under-represented in the tech world? Why does this matter? What can we do about it? \nWhy do so many of us – particularly women – feel the tech world is beyond reach? Women are woefully under-represented in tech – they represent roughly a mere quarter of the UK STEM workforce. This means an ever increasing series of big decisions are made by a small number of people\, mainly men. \nSo\, what are the challenges for all of us who want to wrest back control? How do we get past the gatekeepers? When we do\, what are the opportunities that will open up – for us in our individual roles and for the future of tech? Dr Anne-Marie Imafidon shows we have more agency than we think\, drawing on her own experience and the stories of other pioneers and innovators to provide examples\, exercises and practical guidance for how to get started and take control. \nThere will always be problems. But\, as we know\, women are problem-solvers. \nAbout\nDr Anne-Marie Imafidon is a keynote speaker\, leader and creator of the award-winning social enterprise Stemettes\, which engages\, inspires and connects the next generation of women and nonbinary people into the science\, technology\, engineering and maths field. A recognised and respected thought-leader in the tech space\, in 2017 she was awarded an MBE for services to young women and STEM sectors. In 2020 she was voted the most influential woman in tech in the UK by Computer Weekly. \nMatrix is a partner of this event
URL:https://matrixni.org/event/ni-science-festival-anne-marie-imafidon-shes-in-ctrl/
LOCATION:Crescent Arts Centre\, 2-4 University Road\, Belfast\, BT7 1NH\, United Kingdom
CATEGORIES:Women in STEM
ATTACH;FMTTYPE=image/jpeg:https://matrixni.org/wp-content/uploads/2023/01/Profile_web-e1673519883359.jpg
ORGANIZER;CN="Northern Ireland Science Festival":MAILTO:info@nisciencefestival.com
END:VEVENT
END:VCALENDAR