BEGIN:VCALENDAR
VERSION:2.0
PRODID:-//Matrix - ECPv6.15.20//NONSGML v1.0//EN
CALSCALE:GREGORIAN
METHOD:PUBLISH
X-ORIGINAL-URL:https://matrixni.org
X-WR-CALDESC:Events for Matrix
REFRESH-INTERVAL;VALUE=DURATION:PT1H
X-Robots-Tag:noindex
X-PUBLISHED-TTL:PT1H
BEGIN:VTIMEZONE
TZID:Europe/London
BEGIN:DAYLIGHT
TZOFFSETFROM:+0000
TZOFFSETTO:+0100
TZNAME:BST
DTSTART:20220327T010000
END:DAYLIGHT
BEGIN:STANDARD
TZOFFSETFROM:+0100
TZOFFSETTO:+0000
TZNAME:GMT
DTSTART:20221030T010000
END:STANDARD
BEGIN:DAYLIGHT
TZOFFSETFROM:+0000
TZOFFSETTO:+0100
TZNAME:BST
DTSTART:20230326T010000
END:DAYLIGHT
BEGIN:STANDARD
TZOFFSETFROM:+0100
TZOFFSETTO:+0000
TZNAME:GMT
DTSTART:20231029T010000
END:STANDARD
BEGIN:DAYLIGHT
TZOFFSETFROM:+0000
TZOFFSETTO:+0100
TZNAME:BST
DTSTART:20240331T010000
END:DAYLIGHT
BEGIN:STANDARD
TZOFFSETFROM:+0100
TZOFFSETTO:+0000
TZNAME:GMT
DTSTART:20241027T010000
END:STANDARD
END:VTIMEZONE
BEGIN:VEVENT
DTSTART;VALUE=DATE:20230216
DTEND;VALUE=DATE:20230220
DTSTAMP:20260424T085558
CREATED:20230120T121147Z
LAST-MODIFIED:20230120T132238Z
UID:26859-1676505600-1676851199@matrixni.org
SUMMARY:NISF Regional Roadshow
DESCRIPTION:That’s Non Sense\nExplore the wonderful world of our senses and the tricks they play on us. \nThink you see with your eyes and taste with your tongue? Ever wondered why you get dizzy when you spin? How many senses do you even have? Prepare to be amazed and confounded by sensory and optical illusions in this demo-packed exploration of your brain\, as we discover your senses aren’t quite as simple as they seem… \nHack Your Brain\nA whirlwind introduction to the brain and nervous system! \nPacked with memorable large-scale demos\, you’ll create a giant neuron live on stage to explore how nerve cells communicate. Then\, watch as we hijack those signals to control someone’s movements (preferably a teacher!)! Along the way we’ll investigate what this tells us about how we learn\, helping students to understand their brains better and how to make the most of them. \nEvent Schedule\n\n\n\nThat’s Non Sense (Antrim)\nFriday 17th February 2023\n12:00pm – 1:00pm\nMarket Square\, Antrim\, BT41 4AW\nLink\n\n\nHack Your Brain (Antrim)\nFriday 17th February 2023\n2:30pm – 3:30pm\nMarket Square\, Antrim\, BT41 4AW\nLink\n\n\nThat’s Non Sense (Omagh)\nSaturday 18th February\n12:00pm – 1:00pm\nTownhall Square\, Omagh\, BT78 1BL\nLink\n\n\nHack Your Brain (Omagh)\nSaturday 18th February\n2:30pm – 3:30pm\nTownhall Square\, Omagh\, BT78 1BL\nLink\n\n\nThat’s Non Sense (Armagh)\nSunday 19th February\n12:00pm – 1:00pm\n74-76 Sráid na nGall\, Armagh\, BT61 7LG\nLink\n\n\nHack Your Brain (Armagh)\nSunday 19th February\n2:30pm – 3:30pm\n74-76 Sráid na nGall\, Armagh\, BT61 7LG\nLink\n\n\nThat’s Non Sense (Limavady)\nThursday 16th February 2023\n12:00pm – 1:00pm\n24 Main Street\, Limavady\, BT49 0FJ\nLink\n\n\nHack Your Brain (Limavady)\nThursday 16th February 2023\n2:30pm – 3:30pm\n24 Main Street\, Limavady\, BT49 0FJ\nLink
URL:https://matrixni.org/event/nisf-regional-roadshow/
LOCATION:Northern Ireland
CATEGORIES:STEM skills
ATTACH;FMTTYPE=image/jpeg:https://matrixni.org/wp-content/uploads/2023/01/Antrim-Braintastic-Science-Thats-Non-Sense-9-scaled-e1674216509553.jpg
END:VEVENT
BEGIN:VEVENT
DTSTART;VALUE=DATE:20230216
DTEND;VALUE=DATE:20230227
DTSTAMP:20260424T085558
CREATED:20221208T140122Z
LAST-MODIFIED:20221208T140122Z
UID:26729-1676505600-1677455999@matrixni.org
SUMMARY:Northern Ireland Science Festival
DESCRIPTION:NI Science Festival returns 16 – 26 February 2023 for its ninth edition celebrating the Science of You\, The Universe and Everything in between! \nOver the years NISF has striven to bring the very best of science communication to Northern Ireland\, including notable names such as Brian Cox\, Alice Roberts\, Jim Al-Khalili\, Jocelyn Bell Burnell\, Liz Bonnin\, Robert Winston\, Chris Hadfield\, Chris and Xand Van Tulleken\, Chris Packham\, Adam Rutherford\, Maddie Moate to name a few. \nThe festival offers a stimulating and wide range of events focusing on the wonders of science\, technology\, engineering\, art and mathematics. These events present some of the best scientists from NI and beyond to discuss their work\, cutting-edge research and what the future might hold. \nDuring the day\, the festival offers a range of workshops\, tours talks and interactive activities for people of all ages. In the evening we present an eclectic mix of experiential events including scientific debate\, talks\, theatres\, comedy\, music\, and film for adults and much more.
URL:https://matrixni.org/event/northern-ireland-science-festival-2/
LOCATION:Northern Ireland
CATEGORIES:STEM skills
ATTACH;FMTTYPE=image/jpeg:https://matrixni.org/wp-content/uploads/2022/12/Untitled-design-29.jpg
ORGANIZER;CN="Northern Ireland Science Festival":MAILTO:info@nisciencefestival.com
END:VEVENT
BEGIN:VEVENT
DTSTART;TZID=Europe/London:20230216T100000
DTEND;TZID=Europe/London:20230216T130000
DTSTAMP:20260424T085558
CREATED:20230123T115912Z
LAST-MODIFIED:20230123T115912Z
UID:26869-1676541600-1676552400@matrixni.org
SUMMARY:Hydrogen Supply Chain Collaborative R&D Competition Briefing webinar
DESCRIPTION:Innovate UK\, in collaboration with Innovate UK KTN\, will be hosting an online competition briefing webinar to share details of the new funding competition “Hydrogen storage and distribution supply chain Collaborative R&D”. \nInnovate UK\, in collaboration with Innovate UK KTN\, will be hosting an online competition briefing webinar on 16th February 2023 to share details of the new funding competition “Hydrogen storage and distribution supply chain Collaborative R&D” \nLow carbon hydrogen has an important role to play in the UK’s move towards net zero carbon. The UK Government continues to support the scale up of hydrogen production through the Net Zero Hydrogen Fund and Hydrogen Business Models but in order to exploit the opportunity of 10GW hydrogen production by 2030 we need strong supply chains. \nThe hydrogen storage and distribution supply chain fund will\, \n\nProvide a mechanism which incentivises collaboration across the hydrogen value chain\, with particular emphasis in storage and distribution of hydrogen\nDevelop integrated storage and distribution systems\nReduce the associated cost of hydrogen supply chains related to the storage and distribution of hydrogen.\nEncourage the commercialisation and adoption of hydrogen storage and distribution innovation\n\nInnovation within different parts of hydrogen storage and distribution supply chain include but is not limited to: \n\nPipeline and vessels\nOn-vehicle transport\nStorage tanks and surface infrastructure\nMonitoring and system controls such as meters\, sensors and valves\nRefuelling and blending\n\nThe briefing webinar will include an opportunity to: \n\nHear about the scope of the competition in more detail and how to apply\nLearn about the eligibility criteria\nHear about the support services available for businesses applying into the fund
URL:https://matrixni.org/event/hydrogen-supply-chain-collaborative-rd-competition-briefing-webinar/
LOCATION:Online
CATEGORIES:Energy
ATTACH;FMTTYPE=image/jpeg:https://matrixni.org/wp-content/uploads/2022/09/Untitled-design-10.jpg
END:VEVENT
BEGIN:VEVENT
DTSTART;TZID=Europe/London:20230216T100000
DTEND;TZID=Europe/London:20230216T160000
DTSTAMP:20260424T085558
CREATED:20230112T110259Z
LAST-MODIFIED:20230112T110525Z
UID:26821-1676541600-1676563200@matrixni.org
SUMMARY:Create Your Very Own Platform Game in Scratch 3.0
DESCRIPTION:Have you used Scratch 3 before? Not like this you haven’t! \nIn this workshop participants will create their very own platform game from start to finish. Participants will create everything from characters to levels and learn advanced coding techniques using Scratch 3.0. \nMatrix is a partner of this event
URL:https://matrixni.org/event/create-your-very-own-platform-game-in-scratch-3-0/
LOCATION:Nerve Centre\, 7-8 Magazine St\, Derry\, Derry/Londonderry\, BT48 6HJ\, United Kingdom
CATEGORIES:Creative technology,Digital
ATTACH;FMTTYPE=image/jpeg:https://matrixni.org/wp-content/uploads/2023/01/iStock-1153045269-1_web-e1673521311197.jpg
END:VEVENT
BEGIN:VEVENT
DTSTART;TZID=Europe/London:20230216T103000
DTEND;TZID=Europe/London:20230216T160000
DTSTAMP:20260424T085558
CREATED:20230120T105427Z
LAST-MODIFIED:20230120T105427Z
UID:26855-1676543400-1676563200@matrixni.org
SUMMARY:STEM Fleming Agri-Products Factory Tour 2023
DESCRIPTION:Fleming Agri-Products is one of the UK and Ireland’s oldest manufacturers of agricultural machinery. Join them on a factory tour\, you’ll get the opportunity to explore the company’s heritage and values\, as well as gaining an insight into their production processes and customer-focussed practices. \nMatrix is a partner to this event
URL:https://matrixni.org/event/stem-fleming-agri-products-factory-tour-2023/
LOCATION:Fleming Agri Products\, New Buildings Industrial Estate\, Victoria Road\, Londonderry\, BT47 2SX
CATEGORIES:Agrifood
ATTACH;FMTTYPE=image/jpeg:https://matrixni.org/wp-content/uploads/2023/01/ar16-3-e1674212042536.jpg
ORGANIZER;CN="Northern Ireland Science Festival":MAILTO:info@nisciencefestival.com
END:VEVENT
END:VCALENDAR