BEGIN:VCALENDAR
VERSION:2.0
PRODID:-//Matrix - ECPv6.15.20//NONSGML v1.0//EN
CALSCALE:GREGORIAN
METHOD:PUBLISH
X-WR-CALNAME:Matrix
X-ORIGINAL-URL:https://matrixni.org
X-WR-CALDESC:Events for Matrix
REFRESH-INTERVAL;VALUE=DURATION:PT1H
X-Robots-Tag:noindex
X-PUBLISHED-TTL:PT1H
BEGIN:VTIMEZONE
TZID:Europe/London
BEGIN:DAYLIGHT
TZOFFSETFROM:+0000
TZOFFSETTO:+0100
TZNAME:BST
DTSTART:20220327T010000
END:DAYLIGHT
BEGIN:STANDARD
TZOFFSETFROM:+0100
TZOFFSETTO:+0000
TZNAME:GMT
DTSTART:20221030T010000
END:STANDARD
BEGIN:DAYLIGHT
TZOFFSETFROM:+0000
TZOFFSETTO:+0100
TZNAME:BST
DTSTART:20230326T010000
END:DAYLIGHT
BEGIN:STANDARD
TZOFFSETFROM:+0100
TZOFFSETTO:+0000
TZNAME:GMT
DTSTART:20231029T010000
END:STANDARD
BEGIN:DAYLIGHT
TZOFFSETFROM:+0000
TZOFFSETTO:+0100
TZNAME:BST
DTSTART:20240331T010000
END:DAYLIGHT
BEGIN:STANDARD
TZOFFSETFROM:+0100
TZOFFSETTO:+0000
TZNAME:GMT
DTSTART:20241027T010000
END:STANDARD
END:VTIMEZONE
BEGIN:VEVENT
DTSTART;TZID=Europe/London:20230215T100000
DTEND;TZID=Europe/London:20230215T110000
DTSTAMP:20260424T085434
CREATED:20221206T105637Z
LAST-MODIFIED:20221206T105637Z
UID:26719-1676455200-1676458800@matrixni.org
SUMMARY:WEBINAR: Hydrogen Economy
DESCRIPTION:Many countries are looking for solutions on how to control their carbon emissions and how to reach carbon neutrality. In this Hydrogen Economy webinar\, Swagath Manohar\, Senior Industry Analyst Energy & Environment\, Frost & Sullivan will look at helping you identify growth opportunities in hydrogen technologies and markets. \nSwagath will discuss the five key pillars of decarbonisation:\n• Rise of renewables\n• Hydrogen economy\n• Direct electrification and renewable heat\n• Emissions management\n• Energy efficiency \nNone of the key pillars are new\, however the importance of each has increased in the past few years. Technology and crucially\, business model innovation\, will drive them further forward.
URL:https://matrixni.org/event/webinar-hydrogen-economy/
LOCATION:Online
CATEGORIES:Climate Change,Energy
ATTACH;FMTTYPE=image/jpeg:https://matrixni.org/wp-content/uploads/2022/04/Matrix-Picture-29.jpg
END:VEVENT
END:VCALENDAR