BEGIN:VCALENDAR
VERSION:2.0
PRODID:-//Matrix - ECPv6.15.20//NONSGML v1.0//EN
CALSCALE:GREGORIAN
METHOD:PUBLISH
X-WR-CALNAME:Matrix
X-ORIGINAL-URL:https://matrixni.org
X-WR-CALDESC:Events for Matrix
REFRESH-INTERVAL;VALUE=DURATION:PT1H
X-Robots-Tag:noindex
X-PUBLISHED-TTL:PT1H
BEGIN:VTIMEZONE
TZID:Europe/London
BEGIN:DAYLIGHT
TZOFFSETFROM:+0000
TZOFFSETTO:+0100
TZNAME:BST
DTSTART:20220327T010000
END:DAYLIGHT
BEGIN:STANDARD
TZOFFSETFROM:+0100
TZOFFSETTO:+0000
TZNAME:GMT
DTSTART:20221030T010000
END:STANDARD
BEGIN:DAYLIGHT
TZOFFSETFROM:+0000
TZOFFSETTO:+0100
TZNAME:BST
DTSTART:20230326T010000
END:DAYLIGHT
BEGIN:STANDARD
TZOFFSETFROM:+0100
TZOFFSETTO:+0000
TZNAME:GMT
DTSTART:20231029T010000
END:STANDARD
BEGIN:DAYLIGHT
TZOFFSETFROM:+0000
TZOFFSETTO:+0100
TZNAME:BST
DTSTART:20240331T010000
END:DAYLIGHT
BEGIN:STANDARD
TZOFFSETFROM:+0100
TZOFFSETTO:+0000
TZNAME:GMT
DTSTART:20241027T010000
END:STANDARD
END:VTIMEZONE
BEGIN:VEVENT
DTSTART;TZID=Europe/London:20230127T090000
DTEND;TZID=Europe/London:20230127T130000
DTSTAMP:20260424T071859
CREATED:20230103T102657Z
LAST-MODIFIED:20230103T102657Z
UID:26780-1674810000-1674824400@matrixni.org
SUMMARY:Next steps for digital identity in the UK - legislation and regulation\, opportunities\, key issues for service providers and customers\, data sharing and security\, and technology and innovation
DESCRIPTION:This conference will examine the next steps for development of digital identity in the UK – which is set to be central for enabling private and public sector organisations to provide services to customers and citizens into the future\, and for growing the digital economy. \n  \nDelegates will assess plans being put in place by for technology rollout and regulation\, and what it will mean for stakeholders. \n  \nIt will be a timely opportunity for stakeholders and key policymakers to discuss key issues and how they can be addressed\, with: \n\ngovernment consultation on its revised UK digital identity and attributes trust framework\, which sets out rules\, standards and governance for organisations providing or using digital identity\nthe Office for Digital Identities and Attributes\, being set up within DCMS as an interim regulatory body to oversee the Framework’s development as it moves into law\n\nWith senior contributions from the DCMS and TechUK\, areas for discussion include: \n\npolicy and regulation: priorities and next steps – the evolving roles of regulators – information and guidance for developers and providers – developing equivalence with paper-based verification\nstakeholder impact: implications of developments for vendors\, service providers and their customers – their priorities and support they may need – issues for local government\, charities and SMEs\npublic adoption: communication with the public and gaining their trust – ease of use and building accessibility into design – tackling digital inequalities\norganisational implementation: the roadmap for rollout – data sharing\, cooperation\, and relationships between public and private sector – skills and supply chain development\ndata: the future of policy on GDPR and implications for international cooperation – what data is stored\, how it is shared\, how long it is kept\, and by who – action and assurance on fraud\ntechnology: interoperability internationally and across sectors\, organisations and uses – challenges for facial recognition and other biometric data\n\nThe conference will be an opportunity for the stakeholders to consider the issues alongside key policy officials who are due to attend from CMA; DCMS; Dstl; DfT; HMRC; Home Office; Ofcom; and the Welsh Revenue Authority.
URL:https://matrixni.org/event/next-steps-for-digital-identity-in-the-uk-legislation-and-regulation-opportunities-key-issues-for-service-providers-and-customers-data-sharing-and-security-and-technology-and-innovation/
LOCATION:Online
CATEGORIES:Cybersecurity,Digital
ATTACH;FMTTYPE=image/jpeg:https://matrixni.org/wp-content/uploads/2023/01/Matrix-Picture-Illustration-Only-1.jpg
END:VEVENT
END:VCALENDAR