BEGIN:VCALENDAR
VERSION:2.0
PRODID:-//Matrix - ECPv6.15.20//NONSGML v1.0//EN
CALSCALE:GREGORIAN
METHOD:PUBLISH
X-ORIGINAL-URL:https://matrixni.org
X-WR-CALDESC:Events for Matrix
REFRESH-INTERVAL;VALUE=DURATION:PT1H
X-Robots-Tag:noindex
X-PUBLISHED-TTL:PT1H
BEGIN:VTIMEZONE
TZID:Europe/London
BEGIN:DAYLIGHT
TZOFFSETFROM:+0000
TZOFFSETTO:+0100
TZNAME:BST
DTSTART:20210328T010000
END:DAYLIGHT
BEGIN:STANDARD
TZOFFSETFROM:+0100
TZOFFSETTO:+0000
TZNAME:GMT
DTSTART:20211031T010000
END:STANDARD
BEGIN:DAYLIGHT
TZOFFSETFROM:+0000
TZOFFSETTO:+0100
TZNAME:BST
DTSTART:20220327T010000
END:DAYLIGHT
BEGIN:STANDARD
TZOFFSETFROM:+0100
TZOFFSETTO:+0000
TZNAME:GMT
DTSTART:20221030T010000
END:STANDARD
BEGIN:DAYLIGHT
TZOFFSETFROM:+0000
TZOFFSETTO:+0100
TZNAME:BST
DTSTART:20230326T010000
END:DAYLIGHT
BEGIN:STANDARD
TZOFFSETFROM:+0100
TZOFFSETTO:+0000
TZNAME:GMT
DTSTART:20231029T010000
END:STANDARD
END:VTIMEZONE
BEGIN:VEVENT
DTSTART;TZID=Europe/London:20221213T140000
DTEND;TZID=Europe/London:20221213T150000
DTSTAMP:20260424T053916
CREATED:20221206T110537Z
LAST-MODIFIED:20221206T110537Z
UID:26721-1670940000-1670943600@matrixni.org
SUMMARY:Artificial intelligence research to enable UK’s net zero target
DESCRIPTION:This webinar is targeted at academic researchers (UK research organisations only). It will provide further information and questions and answers opportunity to prospective applicants of the new UK Research and Innovation (UKRI) cross-council funding opportunity ‘artificial intelligence research to enable UK’s net zero target’. \nAttendees from a variety of research disciplines and career stages are welcomed\, but an interest in investigating solutions to net zero challenges using artificial intelligence is essential. \nProjects will explore the use of artificial intelligence in addressing net zero challenges across 4 themes with research proposals crossing any 2 council’s remits of EPSRC\, NERC\, BBSRC\, ESRC. The 4 themes are: \n\nenergy\ntransport\nenvironment\nagriculture and food systems\n\nProspective applicants will find out further information regarding the opportunity scope\, proposal requirements\, eligibility\, as well as the type of projects and themes that UKRI is looking to support. \nApplicants to the opportunity must be based at a UK research organisation eligible for funding during the duration of their project. \nThe Zoom link for the webinar will be provided post registration. Registrations for webinar attendance open 2 December 2022.
URL:https://matrixni.org/event/artificial-intelligence-research-to-enable-uks-net-zero-target/
LOCATION:Online
CATEGORIES:Artificial Intelligence,Climate Change,Energy
ATTACH;FMTTYPE=image/jpeg:https://matrixni.org/wp-content/uploads/2022/09/Untitled-design-2.jpg
END:VEVENT
BEGIN:VEVENT
DTSTART;TZID=Europe/London:20221213T140000
DTEND;TZID=Europe/London:20221213T153000
DTSTAMP:20260424T053916
CREATED:20221208T141056Z
LAST-MODIFIED:20221208T141458Z
UID:26732-1670940000-1670945400@matrixni.org
SUMMARY:Women in Tech
DESCRIPTION:Grow your network and connect with others in your industry\, outside of the workplace! \nAs part of our Women in Industry Round Tables\, we welcome all Women in Tech to join us for a virtual forum to discuss the current topics\, challenges\, and upcoming developments in the world of Tech. \nWhether you are involved in computer programming or network security\, take the opportunity to share in other women’s experiences\, ask those questions on your mind and offer valuable support to women within your industry. \nWhy don’t you bring along a colleague? This is a biannual catch up (not to be missed!) with key take away information to support your professional development and to help continue your networking beyond the screen. \nOur virtual events take place on Zoom\, once booked you will receive the zoom meeting link via your email as well as the confirmation page at the end of the checkout process.
URL:https://matrixni.org/event/women-in-tech/
LOCATION:Online
CATEGORIES:Technology,Women in STEM
ATTACH;FMTTYPE=image/jpeg:https://matrixni.org/wp-content/uploads/2022/12/Untitled-design-30.jpg
END:VEVENT
END:VCALENDAR