BEGIN:VCALENDAR
VERSION:2.0
PRODID:-//Matrix - ECPv6.15.20//NONSGML v1.0//EN
CALSCALE:GREGORIAN
METHOD:PUBLISH
X-ORIGINAL-URL:https://matrixni.org
X-WR-CALDESC:Events for Matrix
REFRESH-INTERVAL;VALUE=DURATION:PT1H
X-Robots-Tag:noindex
X-PUBLISHED-TTL:PT1H
BEGIN:VTIMEZONE
TZID:Europe/London
BEGIN:DAYLIGHT
TZOFFSETFROM:+0000
TZOFFSETTO:+0100
TZNAME:BST
DTSTART:20210328T010000
END:DAYLIGHT
BEGIN:STANDARD
TZOFFSETFROM:+0100
TZOFFSETTO:+0000
TZNAME:GMT
DTSTART:20211031T010000
END:STANDARD
BEGIN:DAYLIGHT
TZOFFSETFROM:+0000
TZOFFSETTO:+0100
TZNAME:BST
DTSTART:20220327T010000
END:DAYLIGHT
BEGIN:STANDARD
TZOFFSETFROM:+0100
TZOFFSETTO:+0000
TZNAME:GMT
DTSTART:20221030T010000
END:STANDARD
BEGIN:DAYLIGHT
TZOFFSETFROM:+0000
TZOFFSETTO:+0100
TZNAME:BST
DTSTART:20230326T010000
END:DAYLIGHT
BEGIN:STANDARD
TZOFFSETFROM:+0100
TZOFFSETTO:+0000
TZNAME:GMT
DTSTART:20231029T010000
END:STANDARD
END:VTIMEZONE
BEGIN:VEVENT
DTSTART;TZID=Europe/London:20221208T100000
DTEND;TZID=Europe/London:20221208T120000
DTSTAMP:20260424T053857
CREATED:20221125T102712Z
LAST-MODIFIED:20221125T102712Z
UID:26692-1670493600-1670500800@matrixni.org
SUMMARY:The Co-Centre Programme
DESCRIPTION:The Co-Centre Programme is an exciting opportunity for researchers to build strategic collaborative partnerships across Ireland\, Great Britain and Northern Ireland through the formation of a Co-Centre. The programme will establish virtual Centres of distributed excellence linking researchers across academia and industry to perform cutting-edge research in areas of mutual economic\, societal\, health and environmental importance. Co-Centres will be structured according to the existing SFI model and will be funded by by Science Foundation Ireland (SFI)\, Northern Ireland’s Department of Agriculture\, Environment and Rural Affairs (DAERA) and UK Research and Innovation (UKRI)\, and co-funded by industry. \nA webinar outlining the Co-Centre Programme 2022 call and its application process will take place on Thursday 8th December 2022 at 10:00am
URL:https://matrixni.org/event/the-co-centre-programme/
LOCATION:Online
CATEGORIES:Agrifood,Climate Change
ATTACH;FMTTYPE=image/jpeg:https://matrixni.org/wp-content/uploads/2022/11/Untitled-design-23.jpg
END:VEVENT
END:VCALENDAR