BEGIN:VCALENDAR
VERSION:2.0
PRODID:-//Matrix - ECPv6.15.20//NONSGML v1.0//EN
CALSCALE:GREGORIAN
METHOD:PUBLISH
X-WR-CALNAME:Matrix
X-ORIGINAL-URL:https://matrixni.org
X-WR-CALDESC:Events for Matrix
REFRESH-INTERVAL;VALUE=DURATION:PT1H
X-Robots-Tag:noindex
X-PUBLISHED-TTL:PT1H
BEGIN:VTIMEZONE
TZID:Europe/London
BEGIN:DAYLIGHT
TZOFFSETFROM:+0000
TZOFFSETTO:+0100
TZNAME:BST
DTSTART:20210328T010000
END:DAYLIGHT
BEGIN:STANDARD
TZOFFSETFROM:+0100
TZOFFSETTO:+0000
TZNAME:GMT
DTSTART:20211031T010000
END:STANDARD
BEGIN:DAYLIGHT
TZOFFSETFROM:+0000
TZOFFSETTO:+0100
TZNAME:BST
DTSTART:20220327T010000
END:DAYLIGHT
BEGIN:STANDARD
TZOFFSETFROM:+0100
TZOFFSETTO:+0000
TZNAME:GMT
DTSTART:20221030T010000
END:STANDARD
BEGIN:DAYLIGHT
TZOFFSETFROM:+0000
TZOFFSETTO:+0100
TZNAME:BST
DTSTART:20230326T010000
END:DAYLIGHT
BEGIN:STANDARD
TZOFFSETFROM:+0100
TZOFFSETTO:+0000
TZNAME:GMT
DTSTART:20231029T010000
END:STANDARD
END:VTIMEZONE
BEGIN:VEVENT
DTSTART;TZID=Europe/London:20221123T100000
DTEND;TZID=Europe/London:20221123T120000
DTSTAMP:20260424T040438
CREATED:20221114T133753Z
LAST-MODIFIED:20221114T140355Z
UID:26612-1669197600-1669204800@matrixni.org
SUMMARY:SBRI: Information event - Delivering a wastewater smart network for NI
DESCRIPTION:NI Water is the sole water and wastewater provider for Northern Ireland and is committed to ensuring its treatment is efficient\, and that wastewater returned to the environment is safe. \nNI Water has been awarded £200\,000 ex VAT of SBRI funding to support up to 4 suppliers to undertake research to develop a smart wastewater network. \n\nFind out more about this competition.\n\nThe project is intended to understand existing data sets from the wastewater networks to identify and provide early warnings allowing reaction to problems and effective mitigation. \nThis free to attend\, online event will provide an overview of the SBRI programme in Northern Ireland\, information about the project\, and details of the application process.
URL:https://matrixni.org/event/sbri-information-event-delivering-a-wastewater-smart-network-for-ni/
LOCATION:Online
CATEGORIES:Innovation
ATTACH;FMTTYPE=image/jpeg:https://matrixni.org/wp-content/uploads/2022/11/SBRI-logo.jpg
END:VEVENT
END:VCALENDAR