BEGIN:VCALENDAR
VERSION:2.0
PRODID:-//Matrix - ECPv6.15.20//NONSGML v1.0//EN
CALSCALE:GREGORIAN
METHOD:PUBLISH
X-WR-CALNAME:Matrix
X-ORIGINAL-URL:https://matrixni.org
X-WR-CALDESC:Events for Matrix
REFRESH-INTERVAL;VALUE=DURATION:PT1H
X-Robots-Tag:noindex
X-PUBLISHED-TTL:PT1H
BEGIN:VTIMEZONE
TZID:Europe/London
BEGIN:DAYLIGHT
TZOFFSETFROM:+0000
TZOFFSETTO:+0100
TZNAME:BST
DTSTART:20210328T010000
END:DAYLIGHT
BEGIN:STANDARD
TZOFFSETFROM:+0100
TZOFFSETTO:+0000
TZNAME:GMT
DTSTART:20211031T010000
END:STANDARD
BEGIN:DAYLIGHT
TZOFFSETFROM:+0000
TZOFFSETTO:+0100
TZNAME:BST
DTSTART:20220327T010000
END:DAYLIGHT
BEGIN:STANDARD
TZOFFSETFROM:+0100
TZOFFSETTO:+0000
TZNAME:GMT
DTSTART:20221030T010000
END:STANDARD
BEGIN:DAYLIGHT
TZOFFSETFROM:+0000
TZOFFSETTO:+0100
TZNAME:BST
DTSTART:20230326T010000
END:DAYLIGHT
BEGIN:STANDARD
TZOFFSETFROM:+0100
TZOFFSETTO:+0000
TZNAME:GMT
DTSTART:20231029T010000
END:STANDARD
END:VTIMEZONE
BEGIN:VEVENT
DTSTART;VALUE=DATE:20221114
DTEND;VALUE=DATE:20221119
DTSTAMP:20260424T040439
CREATED:20221103T145513Z
LAST-MODIFIED:20221103T145513Z
UID:26593-1668384000-1668815999@matrixni.org
SUMMARY:Digital Leaders Innovation Week
DESCRIPTION:A virtual summit to share case studies\, know-how and proven methodologies to help you innovate in your organisation and beyond.\nInnovation is the creation\, development and implementation of a new product\, process or service\, with the aim of improving efficiency\, effectiveness or competitive advantage. Innovation is difficult for well-established organisations. As a Digital Leader managing\, leading and promoting innovation is an important skill that can deliver game-changing creativity. Hard as it is for organisations to innovate\, some do.
URL:https://matrixni.org/event/digital-leaders-innovation-week/
LOCATION:Online
ATTACH;FMTTYPE=image/jpeg:https://matrixni.org/wp-content/uploads/2022/09/Untitled-design-2.jpg
END:VEVENT
BEGIN:VEVENT
DTSTART;TZID=Europe/London:20221118T080000
DTEND;TZID=Europe/London:20221118T170000
DTSTAMP:20260424T040439
CREATED:20220816T094204Z
LAST-MODIFIED:20220816T094204Z
UID:26383-1668758400-1668790800@matrixni.org
SUMMARY:Irish Human Computer Interaction (iHCI) Symposium
DESCRIPTION:The annual Irish Human Computer Interaction conference will take place on Friday 18th of November 2022 at the Conor lecture theatre\, Belfast School of Art\, Ulster University\nWe invite you to a one day ‘face to face’ event that will bring together leading voices from the field of HCI and provide an overview of HCI research in Ireland\, Northern Ireland and further afield. \n\nWe will have keynotes\, a paper presentation track for showcasing a selection of publications by researchers at leading international venues of HCI research\, a rapid fire or poster session\, industry talks and a lot of opportunities to network in Belfast. \nThe event is supported by the ACM SIGCHI Chapter Ireland and Ulster University (Belfast School of Art and the School of Computing). \n\n\nHSC staff can attend the conference for free (buffet dinner not included).  To register please contact ka.boyd@ulster.ac.uk
URL:https://matrixni.org/event/irish-human-computer-interaction-ihci-symposium/
LOCATION:Ulster University Belfast\, York Street\, Belfast\, Northern Ireland\, BT15 1ED\, United Kingdom
CATEGORIES:Artificial Intelligence,Health
ATTACH;FMTTYPE=image/png:https://matrixni.org/wp-content/uploads/2022/08/Matrix-Event-Cover.png
END:VEVENT
END:VCALENDAR