BEGIN:VCALENDAR
VERSION:2.0
PRODID:-//Matrix - ECPv6.15.20//NONSGML v1.0//EN
CALSCALE:GREGORIAN
METHOD:PUBLISH
X-ORIGINAL-URL:https://matrixni.org
X-WR-CALDESC:Events for Matrix
REFRESH-INTERVAL;VALUE=DURATION:PT1H
X-Robots-Tag:noindex
X-PUBLISHED-TTL:PT1H
BEGIN:VTIMEZONE
TZID:Europe/London
BEGIN:DAYLIGHT
TZOFFSETFROM:+0000
TZOFFSETTO:+0100
TZNAME:BST
DTSTART:20210328T010000
END:DAYLIGHT
BEGIN:STANDARD
TZOFFSETFROM:+0100
TZOFFSETTO:+0000
TZNAME:GMT
DTSTART:20211031T010000
END:STANDARD
BEGIN:DAYLIGHT
TZOFFSETFROM:+0000
TZOFFSETTO:+0100
TZNAME:BST
DTSTART:20220327T010000
END:DAYLIGHT
BEGIN:STANDARD
TZOFFSETFROM:+0100
TZOFFSETTO:+0000
TZNAME:GMT
DTSTART:20221030T010000
END:STANDARD
BEGIN:DAYLIGHT
TZOFFSETFROM:+0000
TZOFFSETTO:+0100
TZNAME:BST
DTSTART:20230326T010000
END:DAYLIGHT
BEGIN:STANDARD
TZOFFSETFROM:+0100
TZOFFSETTO:+0000
TZNAME:GMT
DTSTART:20231029T010000
END:STANDARD
END:VTIMEZONE
BEGIN:VEVENT
DTSTART;TZID=Europe/London:20221109T173000
DTEND;TZID=Europe/London:20221109T213000
DTSTAMP:20260424T040749
CREATED:20221010T103751Z
LAST-MODIFIED:20221010T103751Z
UID:26530-1668015000-1668029400@matrixni.org
SUMMARY:Hardtech and High-Value Manufacturing
DESCRIPTION:What is the role of hardtech and high-value manufacturing companies to the UK economy? How do these companies work with the UK research base? How do they contribute to the innovation strategies of the UK and devolved governments\, to skills development\, and to levelling up\, as part of the post-Covid recovery? And what should policymakers\, funding agencies and the companies themselves be doing do to ensure that we maximise the value to the UK from these innovative companies? These are just some of the questions we hope to explore in this discussion event.
URL:https://matrixni.org/event/hardtech-and-high-value-manufacturing/
LOCATION:Online
CATEGORIES:Innovation
ATTACH;FMTTYPE=image/jpeg:https://matrixni.org/wp-content/uploads/2022/10/alireza-hatami-zekShM5_K64-unsplash-scaled-e1665398144550.jpg
END:VEVENT
END:VCALENDAR