BEGIN:VCALENDAR
VERSION:2.0
PRODID:-//Matrix - ECPv6.15.20//NONSGML v1.0//EN
CALSCALE:GREGORIAN
METHOD:PUBLISH
X-WR-CALNAME:Matrix
X-ORIGINAL-URL:https://matrixni.org
X-WR-CALDESC:Events for Matrix
REFRESH-INTERVAL;VALUE=DURATION:PT1H
X-Robots-Tag:noindex
X-PUBLISHED-TTL:PT1H
BEGIN:VTIMEZONE
TZID:Europe/London
BEGIN:DAYLIGHT
TZOFFSETFROM:+0000
TZOFFSETTO:+0100
TZNAME:BST
DTSTART:20210328T010000
END:DAYLIGHT
BEGIN:STANDARD
TZOFFSETFROM:+0100
TZOFFSETTO:+0000
TZNAME:GMT
DTSTART:20211031T010000
END:STANDARD
BEGIN:DAYLIGHT
TZOFFSETFROM:+0000
TZOFFSETTO:+0100
TZNAME:BST
DTSTART:20220327T010000
END:DAYLIGHT
BEGIN:STANDARD
TZOFFSETFROM:+0100
TZOFFSETTO:+0000
TZNAME:GMT
DTSTART:20221030T010000
END:STANDARD
BEGIN:DAYLIGHT
TZOFFSETFROM:+0000
TZOFFSETTO:+0100
TZNAME:BST
DTSTART:20230326T010000
END:DAYLIGHT
BEGIN:STANDARD
TZOFFSETFROM:+0100
TZOFFSETTO:+0000
TZNAME:GMT
DTSTART:20231029T010000
END:STANDARD
END:VTIMEZONE
BEGIN:VEVENT
DTSTART;VALUE=DATE:20221024
DTEND;VALUE=DATE:20221029
DTSTAMP:20260424T040440
CREATED:20220609T101725Z
LAST-MODIFIED:20220609T101725Z
UID:26328-1666569600-1667001599@matrixni.org
SUMMARY:Computational Neuroscience\, Neurotechnology and Neuro-inspired AI Autumn School
DESCRIPTION:The Computational Neuroscience\, Neurotechnology and Neuro-inspired AI Autumn School will be held from 24-28 October 2022\, in person at the Intelligent Systems Research Centre in Ulster University\, Magee campus. There will also be an option for online attendance. \nApplication deadline: 1st September 2022 (online and in-person). \nDecision for in-person applicants (limited to 40): 9th September 2022. \nBackground\nThere have been rapid advancements and investments in research and development in brain sciences\, neurotechnology\, neural data modelling and neuro-inspired artificial intelligence (AI). \nThese advancements have not only led to deeper understanding of brain functions and disorders\, but also the development and application of powerful AI and machine-learning algorithms that affect our everyday life. In fact\, historically\, AI was inspired by how intelligence arises from the brain. \nThe Computational Neuroscience\, Neurotechnology and Neuro-inspired AI (CN3) Autumn School aims to train the next generation of researchers on these state-of-the-art developments. This short course will touch on the areas of computational neuroscience\, neural data science\, neurotechnology and neuro-inspired AI. \nThe School is unique in that important and timely topics either not delivered in other Schools or taught courses\, or delivered only individually\, will be delivered here in an integrated way\, from pedagogical to advanced levels. These topics include computational modelling of neural-glial systems\, neuromodulators\, cognition\, neurotechnology\, neuromorphic computing\, self-repaired intelligent machines\, spiking neural networks and cognitive robotics. Mathematical foundations\, coding exercises\, ethics and entrepreneurship will also be covered. Moreover\, although neural computation and neuro-inspired AI research are conducted in the island of Ireland\, there is very little relevant training and taught courses\, especially for early career researchers\, in the region; this School aims to bridge this gap. \nFor  enquiries\, please contact KongFatt via e-mail (k.wong-lin@ulster.ac.uk).
URL:https://matrixni.org/event/computational-neuroscience-neurotechnology-and-neuro-inspired-ai-autumn-school/
LOCATION:Ulster University Magee Campus\, Northland Road\, Londonderry\, Northern Ireland\, BT48 7JL\, United Kingdom
CATEGORIES:Artificial Intelligence
ATTACH;FMTTYPE=image/jpeg:https://matrixni.org/wp-content/uploads/2022/06/Matrix-Picture-62.jpg
END:VEVENT
END:VCALENDAR