BEGIN:VCALENDAR
VERSION:2.0
PRODID:-//Matrix - ECPv6.15.20//NONSGML v1.0//EN
CALSCALE:GREGORIAN
METHOD:PUBLISH
X-ORIGINAL-URL:https://matrixni.org
X-WR-CALDESC:Events for Matrix
REFRESH-INTERVAL;VALUE=DURATION:PT1H
X-Robots-Tag:noindex
X-PUBLISHED-TTL:PT1H
BEGIN:VTIMEZONE
TZID:Europe/London
BEGIN:DAYLIGHT
TZOFFSETFROM:+0000
TZOFFSETTO:+0100
TZNAME:BST
DTSTART:20210328T010000
END:DAYLIGHT
BEGIN:STANDARD
TZOFFSETFROM:+0100
TZOFFSETTO:+0000
TZNAME:GMT
DTSTART:20211031T010000
END:STANDARD
BEGIN:DAYLIGHT
TZOFFSETFROM:+0000
TZOFFSETTO:+0100
TZNAME:BST
DTSTART:20220327T010000
END:DAYLIGHT
BEGIN:STANDARD
TZOFFSETFROM:+0100
TZOFFSETTO:+0000
TZNAME:GMT
DTSTART:20221030T010000
END:STANDARD
BEGIN:DAYLIGHT
TZOFFSETFROM:+0000
TZOFFSETTO:+0100
TZNAME:BST
DTSTART:20230326T010000
END:DAYLIGHT
BEGIN:STANDARD
TZOFFSETFROM:+0100
TZOFFSETTO:+0000
TZNAME:GMT
DTSTART:20231029T010000
END:STANDARD
END:VTIMEZONE
BEGIN:VEVENT
DTSTART;VALUE=DATE:20221019
DTEND;VALUE=DATE:20221021
DTSTAMP:20260424T023231
CREATED:20221005T125605Z
LAST-MODIFIED:20221005T125605Z
UID:26517-1666137600-1666310399@matrixni.org
SUMMARY:NICON22
DESCRIPTION:The Northern Ireland Annual Conference and Exhibition 2022 (NICON22) provides a unique opportunity for colleagues and partners from across the health and care system\, as well as the private and voluntary and community sector to come together\, share ideas\, reflect\, network\, and learn. \nAt this year’s conference\, entitled ‘Recognition | Ambition | Mobilisation’\, you can expect to hear from a wide range of local leaders\, international speakers and frontline staff across over 40 sessions. Over the two days\, we hope to inspire and connect you as we recognise the contribution of our workforce\, explore our shared ambition for our health and social care services and agree how to mobilise to tackle waiting lists and deliver a world-class service for our citizens. \nSpeakers this year will include: \n\nPeter May\, Chief Executive of the HSC; Permanent Secretary\, Department of Health\nRobin Swann MLA\, Minister of Health for NI\, Department of Health\nSir James Mackey\, Chief Executive\, Northumbria Healthcare NHS Foundation Trust; National Director\, Elective Recovery\, NHS England\nDr Anna van Poucke\, Global Head of Healthcare\, KPMG International; Healthcare Senior Partner\, KPMG Netherlands\nAlison McKenzie-Folan\, Chief Executive\, Wigan Council\nProf Kate Ardern\, Director of Public Health\, Wigan Council\nMatthew Taylor\, Chief Executive\, NHS Confederation\nMaria McIlgorm\, Chief Nursing Officer\, Department of Health\nProf Siobhan O’Neill\, Mental Health Champion for NI\n\nAgenda \nA copy of the conference agenda and delegate mini guide are available to view below. \nNICON22 Conference Agenda \nNICON22 Conference Mini Guide \nWho should attend?\nIf you are a manager\, clinician\, service user\, or partner in health and social care\, we would be delighted to welcome you to conference.
URL:https://matrixni.org/event/nicon22/
LOCATION:La Mon Hotel & Country Club\, 41 Gransha Road\, Comber\, Northern Ireland\, BT23 5RF\, United Kingdom
CATEGORIES:Health,Innovation
ATTACH;FMTTYPE=image/jpeg:https://matrixni.org/wp-content/uploads/2022/10/nicon.jpg
END:VEVENT
BEGIN:VEVENT
DTSTART;TZID=Europe/London:20221019T093000
DTEND;TZID=Europe/London:20221019T130000
DTSTAMP:20260424T023231
CREATED:20221003T092233Z
LAST-MODIFIED:20221004T102044Z
UID:26502-1666171800-1666184400@matrixni.org
SUMMARY:A Future Economy Powered by Clean Hydrogen
DESCRIPTION:As a region with a history of innovation and engineering excellence\, Northern Ireland is now presented with the opportunity to be at the forefront on the next revolution in driving a future economy powered by clean energy. \nThis event will look at the exciting prospect of a Hydrogen economy; its potential to drive economic development\, secure and sustain high-skilled\, well-paid jobs\, develop indigenous resilient energy security and most importantly\, reduce greenhouse emissions contributing to Northern Ireland’s net-zero goals. \nTwo complimentary reports from The Advanced Manufacturing Innovation Centre and Matrix – The Northern Ireland Science Industry Panel\, examine the changes needed to provide the policy\, oversight\, governance and investment to transform the Northern Ireland economy from being heavily reliant on fossil fuels to attaining energy independence through locally produced\, clean renewable energy.
URL:https://matrixni.org/event/a-future-economy-powered-by-clean-hydrogen/
LOCATION:Stormont Hotel\, 587 Upper Newtownards Road\, Belfast\, BT4 3LP
CATEGORIES:Climate Change
ATTACH;FMTTYPE=image/png:https://matrixni.org/wp-content/uploads/2022/10/hydrogen-e1664788928804.png
END:VEVENT
END:VCALENDAR