BEGIN:VCALENDAR
VERSION:2.0
PRODID:-//Matrix - ECPv6.15.20//NONSGML v1.0//EN
CALSCALE:GREGORIAN
METHOD:PUBLISH
X-WR-CALNAME:Matrix
X-ORIGINAL-URL:https://matrixni.org
X-WR-CALDESC:Events for Matrix
REFRESH-INTERVAL;VALUE=DURATION:PT1H
X-Robots-Tag:noindex
X-PUBLISHED-TTL:PT1H
BEGIN:VTIMEZONE
TZID:Europe/London
BEGIN:DAYLIGHT
TZOFFSETFROM:+0000
TZOFFSETTO:+0100
TZNAME:BST
DTSTART:20210328T010000
END:DAYLIGHT
BEGIN:STANDARD
TZOFFSETFROM:+0100
TZOFFSETTO:+0000
TZNAME:GMT
DTSTART:20211031T010000
END:STANDARD
BEGIN:DAYLIGHT
TZOFFSETFROM:+0000
TZOFFSETTO:+0100
TZNAME:BST
DTSTART:20220327T010000
END:DAYLIGHT
BEGIN:STANDARD
TZOFFSETFROM:+0100
TZOFFSETTO:+0000
TZNAME:GMT
DTSTART:20221030T010000
END:STANDARD
BEGIN:DAYLIGHT
TZOFFSETFROM:+0000
TZOFFSETTO:+0100
TZNAME:BST
DTSTART:20230326T010000
END:DAYLIGHT
BEGIN:STANDARD
TZOFFSETFROM:+0100
TZOFFSETTO:+0000
TZNAME:GMT
DTSTART:20231029T010000
END:STANDARD
END:VTIMEZONE
BEGIN:VEVENT
DTSTART;TZID=Europe/London:20220808T080000
DTEND;TZID=Europe/London:20220808T170000
DTSTAMP:20260423T231910
CREATED:20220808T132049Z
LAST-MODIFIED:20220808T132049Z
UID:26374-1659945600-1659978000@matrixni.org
SUMMARY:Inbound Investors 2022
DESCRIPTION:In 2021 Catalyst’s Inbound Investors attracted 63 non-NI Investors to Belfast and scored very highly on their feedback. \nThis year\, Inbound Investors will be held on the 18th October and is a great opportunity to meet the largest number of funders ever to come to NI and accelerate your path to securing potential funding. Inbound Investors will host external Venture Capitalists\, Family Offices and Syndicates\, a growing number of whom have already invested in NI companies. All coming together in Belfast primed to explore in investable opportunities. They are interested not just in companies raising now\, but also in building relationships towards future potential rounds. \nAs an entrepreneur seeking potential funding\, this will be your opportunity to get to the deal tables of Investors.
URL:https://matrixni.org/event/inbound-investors-2022/
LOCATION:Titanic Hotel\, Titanic Quarter\, 8 Queens Rd\,\, Belfast\, Northern Ireland\, BT3 9DT\, United Kingdom
CATEGORIES:Innovation
ATTACH;FMTTYPE=image/jpeg:https://matrixni.org/wp-content/uploads/2022/08/Untitled-design.jpg
END:VEVENT
END:VCALENDAR