BEGIN:VCALENDAR
VERSION:2.0
PRODID:-//Matrix - ECPv6.15.20//NONSGML v1.0//EN
CALSCALE:GREGORIAN
METHOD:PUBLISH
X-ORIGINAL-URL:https://matrixni.org
X-WR-CALDESC:Events for Matrix
REFRESH-INTERVAL;VALUE=DURATION:PT1H
X-Robots-Tag:noindex
X-PUBLISHED-TTL:PT1H
BEGIN:VTIMEZONE
TZID:Europe/London
BEGIN:DAYLIGHT
TZOFFSETFROM:+0000
TZOFFSETTO:+0100
TZNAME:BST
DTSTART:20210328T010000
END:DAYLIGHT
BEGIN:STANDARD
TZOFFSETFROM:+0100
TZOFFSETTO:+0000
TZNAME:GMT
DTSTART:20211031T010000
END:STANDARD
BEGIN:DAYLIGHT
TZOFFSETFROM:+0000
TZOFFSETTO:+0100
TZNAME:BST
DTSTART:20220327T010000
END:DAYLIGHT
BEGIN:STANDARD
TZOFFSETFROM:+0100
TZOFFSETTO:+0000
TZNAME:GMT
DTSTART:20221030T010000
END:STANDARD
BEGIN:DAYLIGHT
TZOFFSETFROM:+0000
TZOFFSETTO:+0100
TZNAME:BST
DTSTART:20230326T010000
END:DAYLIGHT
BEGIN:STANDARD
TZOFFSETFROM:+0100
TZOFFSETTO:+0000
TZNAME:GMT
DTSTART:20231029T010000
END:STANDARD
END:VTIMEZONE
BEGIN:VEVENT
DTSTART;TZID=Europe/London:20220713T100000
DTEND;TZID=Europe/London:20220713T120000
DTSTAMP:20260423T215340
CREATED:20220704T125217Z
LAST-MODIFIED:20220704T125217Z
UID:26353-1657706400-1657713600@matrixni.org
SUMMARY:Space-Enabled Net Zero by 2050: New Opportunities
DESCRIPTION:COP26 concluded with The Glasgow Climate Pact\, signed by all participating nations\, building on the significant progress and momentum since the Paris Agreement in 2015. Everyone must now act to deliver on the commitments made at COP26. \nIn the weeks leading up to COP26\, the UK published its Net Zero Strategy\, which outlined its legislated plans to reach net zero emissions by 2050 and fighting climate change with Space technology was one of the items in the Ten Point Plan in the National Space Strategy. Space technology touches all sectors\, and the Space ecosystem has a critical part to play in empowering solutions for climate change and enabling the UK to realise its Net Zero Strategy. \nThis webinar is the second of a two-part series that will present several concepts on the subject of ‘Space-Enabled Net Zero’\, exploring how Space can help us respond to the climate challenges discussed during COP26 and limit global temperature rise to 1.5 degrees above pre-industrial levels. In this second webinar\, we will cover the topic of new service delivery and new opportunities. An invited panel will discuss and debate emerging technologies\, opportunities\, challenges\, and impacts surrounding this topic. Participants are also invited to pitch a single slide lightning talk on a concept relating to Space-enabled net zero for discussion and debate.
URL:https://matrixni.org/event/space-enabled-net-zero-by-2050-new-opportunities/
LOCATION:Online
CATEGORIES:Climate Change,Space technology
ATTACH;FMTTYPE=image/jpeg:https://matrixni.org/wp-content/uploads/2019/07/shutterstock_390971101-1.jpg
END:VEVENT
END:VCALENDAR