BEGIN:VCALENDAR
VERSION:2.0
PRODID:-//Matrix - ECPv6.15.20//NONSGML v1.0//EN
CALSCALE:GREGORIAN
METHOD:PUBLISH
X-ORIGINAL-URL:https://matrixni.org
X-WR-CALDESC:Events for Matrix
REFRESH-INTERVAL;VALUE=DURATION:PT1H
X-Robots-Tag:noindex
X-PUBLISHED-TTL:PT1H
BEGIN:VTIMEZONE
TZID:Europe/London
BEGIN:DAYLIGHT
TZOFFSETFROM:+0000
TZOFFSETTO:+0100
TZNAME:BST
DTSTART:20210328T010000
END:DAYLIGHT
BEGIN:STANDARD
TZOFFSETFROM:+0100
TZOFFSETTO:+0000
TZNAME:GMT
DTSTART:20211031T010000
END:STANDARD
BEGIN:DAYLIGHT
TZOFFSETFROM:+0000
TZOFFSETTO:+0100
TZNAME:BST
DTSTART:20220327T010000
END:DAYLIGHT
BEGIN:STANDARD
TZOFFSETFROM:+0100
TZOFFSETTO:+0000
TZNAME:GMT
DTSTART:20221030T010000
END:STANDARD
BEGIN:DAYLIGHT
TZOFFSETFROM:+0000
TZOFFSETTO:+0100
TZNAME:BST
DTSTART:20230326T010000
END:DAYLIGHT
BEGIN:STANDARD
TZOFFSETFROM:+0100
TZOFFSETTO:+0000
TZNAME:GMT
DTSTART:20231029T010000
END:STANDARD
END:VTIMEZONE
BEGIN:VEVENT
DTSTART;TZID=Europe/London:20220706T113000
DTEND;TZID=Europe/London:20220706T124500
DTSTAMP:20260423T215334
CREATED:20220622T091542Z
LAST-MODIFIED:20220622T092234Z
UID:26335-1657107000-1657111500@matrixni.org
SUMMARY:Scenarios for a Science Superpower
DESCRIPTION:The UK Government has announced in a number of recent policy documents its aim for the UK to become a “science superpower”. What does this mean in practice – and how would we get there? What are the opportunities and the challenges? In this webinar\, we will explore these issues\, and hear about recent work by Professors Sarah Main and Graeme Reid to develop some potential scenarios for the future. \n\nSpeakers\n\n\n\n\n\nProfessor Sarah Main\nExecutive Director\, Campaign for Science and Engineering\n\n\nProfessor Graeme Reid\nChair of Science and Research Policy \, University College London\n\n\nOther Speakers To Be Confirmed
URL:https://matrixni.org/event/scenarios-for-a-science-superpower/
LOCATION:Online
CATEGORIES:Innovation,R&D
ATTACH;FMTTYPE=image/jpeg:https://matrixni.org/wp-content/uploads/2022/04/cd8e48823eb3d899d3d22e0a3865b0ad.jpg
END:VEVENT
END:VCALENDAR