BEGIN:VCALENDAR
VERSION:2.0
PRODID:-//Matrix - ECPv6.15.20//NONSGML v1.0//EN
CALSCALE:GREGORIAN
METHOD:PUBLISH
X-ORIGINAL-URL:https://matrixni.org
X-WR-CALDESC:Events for Matrix
REFRESH-INTERVAL;VALUE=DURATION:PT1H
X-Robots-Tag:noindex
X-PUBLISHED-TTL:PT1H
BEGIN:VTIMEZONE
TZID:Europe/London
BEGIN:DAYLIGHT
TZOFFSETFROM:+0000
TZOFFSETTO:+0100
TZNAME:BST
DTSTART:20210328T010000
END:DAYLIGHT
BEGIN:STANDARD
TZOFFSETFROM:+0100
TZOFFSETTO:+0000
TZNAME:GMT
DTSTART:20211031T010000
END:STANDARD
BEGIN:DAYLIGHT
TZOFFSETFROM:+0000
TZOFFSETTO:+0100
TZNAME:BST
DTSTART:20220327T010000
END:DAYLIGHT
BEGIN:STANDARD
TZOFFSETFROM:+0100
TZOFFSETTO:+0000
TZNAME:GMT
DTSTART:20221030T010000
END:STANDARD
BEGIN:DAYLIGHT
TZOFFSETFROM:+0000
TZOFFSETTO:+0100
TZNAME:BST
DTSTART:20230326T010000
END:DAYLIGHT
BEGIN:STANDARD
TZOFFSETFROM:+0100
TZOFFSETTO:+0000
TZNAME:GMT
DTSTART:20231029T010000
END:STANDARD
END:VTIMEZONE
BEGIN:VEVENT
DTSTART;VALUE=DATE:20220620
DTEND;VALUE=DATE:20220625
DTSTAMP:20260423T201400
CREATED:20220511T091220Z
LAST-MODIFIED:20220511T091220Z
UID:26159-1655683200-1656115199@matrixni.org
SUMMARY:Digital Leaders Week 2022
DESCRIPTION:Digital Leaders Week 2022 is now accepting talk submissions!\nWelcome to the UK’s biggest single gathering of people focused on digital transformation. \nAre you a leader in the UK’s digital marketplace for ideas\, initiatives and services? Is your organisation or place? If the answer is yes\, then Digital Leaders Week 2022 is for you. \nDigital Leaders want you to run an event\, because those with the answers and those who are driving forward digital transformation in the UK are speaking\, running workshops\, sharing the very best practice and offering solutions that are practical and real.
URL:https://matrixni.org/event/digital-leaders-week-2022/
LOCATION:Various
CATEGORIES:Digital
ATTACH;FMTTYPE=image/png:https://matrixni.org/wp-content/uploads/2022/05/Hero_for_online_weeks_11-e1652260259879.png
END:VEVENT
BEGIN:VEVENT
DTSTART;TZID=Europe/London:20220621T083000
DTEND;TZID=Europe/London:20220621T133000
DTSTAMP:20260423T201400
CREATED:20220607T092028Z
LAST-MODIFIED:20220607T092028Z
UID:26321-1655800200-1655818200@matrixni.org
SUMMARY:The future of UK fintech - next steps for policy\, regulation\, connectivity\, skills and innovation following the Kalifa review
DESCRIPTION:This conference examines key issues for the future of UK Fintech. \nDelegates will discuss what is needed to support and continue to grow the sector going forward\, and the future for policy and regulation. \nIt will also be an opportunity to assess the implementation so far of the key findings from the Independent Strategic Fintech Review led by Ron Kalifa. \nThe agenda will bring out latest thinking on priorities for building on progress already made in implementing the Review’s recommendations\, including in: \n\ndeveloping the skills base\nattracting investment\nimproving international and national connectivity.\n\nOverall\, areas for discussion include: \n\nopportunities – new markets ◦ trends ◦ developing the role in green finance ◦ building Fintech into local economies ◦ development of links with businesses\, local authorities & research centres\npolicy & regulation – the Treasury Future Regulatory Framework Review ◦ proposals for a Digital Economy Taskforce ◦ increasing collaboration & coordination across government\ninvestment – access to finance ◦ likely impact of a Fintech growth fund ◦ reform of the stock listing rules\nskills – identifying gaps ◦ work with higher & further education ◦ upskilling & retraining ◦ development of clusters & centres of excellence\ntalent – recruitment ◦ international expertise ◦ new visa routes\ninternational competitiveness – examining Government reforms introduced to make London a more appealing destination for global investors & companies\ninnovation – priorities for market & product development ◦ integration into existing systems & business models ◦ enhancing cybersecurity ◦ protecting customer data\n\nWe are pleased to be able to include keynote sessions with Susan Caldwell\, Managing Director\, Department for International Trade; and Janine Hirt\, CEO\, Innovate Finance. \nThe conference will be an opportunity for stakeholders to consider the issues alongside key policy officials who are due to attend from HM Treasury; DIT; National Savings & Investments; Home Office; Department of Finance\, ROI; DCMS; the GLD; and the Department for the Economy\, NI.
URL:https://matrixni.org/event/the-future-of-uk-fintech-next-steps-for-policy-regulation-connectivity-skills-and-innovation-following-the-kalifa-review/
LOCATION:Online
CATEGORIES:FinTech
ATTACH;FMTTYPE=image/jpeg:https://matrixni.org/wp-content/uploads/2022/06/Matrix-Picture-61.jpg
END:VEVENT
BEGIN:VEVENT
DTSTART;TZID=Europe/London:20220621T120000
DTEND;TZID=Europe/London:20220621T150000
DTSTAMP:20260423T201400
CREATED:20220607T095505Z
LAST-MODIFIED:20220607T095505Z
UID:26326-1655812800-1655823600@matrixni.org
SUMMARY:Accelerating Innovation and Enabling Digital Government - Belfast
DESCRIPTION:We want to explore how we can accelerate Innovation and Enable Digital Government across Northern Ireland and beyond. We will have a fireside section with Dr Austin Tanney (Head of Clinical Information\, Digital Health and Care NI) and Mark Bennett\, (Digital Inclusion Manager\, DoF Digital Transformation).
URL:https://matrixni.org/event/accelerating-innovation-and-enabling-digital-government-belfast/
LOCATION:Hilton Belfast\, 4 Lanyon Place\, Belfast\, Northern Ireland\, BT1 3LP\, United Kingdom
CATEGORIES:Digital
ATTACH;FMTTYPE=image/jpeg:https://matrixni.org/wp-content/uploads/2019/08/11-2.jpg
END:VEVENT
END:VCALENDAR