BEGIN:VCALENDAR
VERSION:2.0
PRODID:-//Matrix - ECPv6.15.20//NONSGML v1.0//EN
CALSCALE:GREGORIAN
METHOD:PUBLISH
X-WR-CALNAME:Matrix
X-ORIGINAL-URL:https://matrixni.org
X-WR-CALDESC:Events for Matrix
REFRESH-INTERVAL;VALUE=DURATION:PT1H
X-Robots-Tag:noindex
X-PUBLISHED-TTL:PT1H
BEGIN:VTIMEZONE
TZID:Europe/London
BEGIN:DAYLIGHT
TZOFFSETFROM:+0000
TZOFFSETTO:+0100
TZNAME:BST
DTSTART:20210328T010000
END:DAYLIGHT
BEGIN:STANDARD
TZOFFSETFROM:+0100
TZOFFSETTO:+0000
TZNAME:GMT
DTSTART:20211031T010000
END:STANDARD
BEGIN:DAYLIGHT
TZOFFSETFROM:+0000
TZOFFSETTO:+0100
TZNAME:BST
DTSTART:20220327T010000
END:DAYLIGHT
BEGIN:STANDARD
TZOFFSETFROM:+0100
TZOFFSETTO:+0000
TZNAME:GMT
DTSTART:20221030T010000
END:STANDARD
BEGIN:DAYLIGHT
TZOFFSETFROM:+0000
TZOFFSETTO:+0100
TZNAME:BST
DTSTART:20230326T010000
END:DAYLIGHT
BEGIN:STANDARD
TZOFFSETFROM:+0100
TZOFFSETTO:+0000
TZNAME:GMT
DTSTART:20231029T010000
END:STANDARD
END:VTIMEZONE
BEGIN:VEVENT
DTSTART;TZID=Europe/London:20220607T130000
DTEND;TZID=Europe/London:20220610T200000
DTSTAMP:20260423T201917
CREATED:20220516T104337Z
LAST-MODIFIED:20220516T104337Z
UID:26217-1654606800-1654891200@matrixni.org
SUMMARY:Women in Tech Global Conference 2022
DESCRIPTION:On a mission to unite 100 000 women in tech to drive change with purpose and impact\n\n\nThe Women in Tech Conference is aiming at uniting once again 100000 women from all over the world. \nThe theme for this year’s conference is evolving around Technology Leadership\, Tech Innovation\, Career Growth\, and how we can make an impact and shape the future together. These topics will be addressed in the form of three virtual and one hybrid summit across various locations in North America and Europe. \nVirtual Summits: \n\nJune 07 Chief in Tech Summit\nJune 08 Key Tech Summit\nJune 09 Career Growth Summit\n\nHybrid Summit: \n\nJun 10 Global Impact Summit (More details on womentech.net)\n\n\n\n\n#WTGC2022 will feature tech professionals\, industry innovators\, around 5800 WomenTech Network Ambassadors from 172 countries\, and more than 500 speakers from all over the world. Some of the speakers are the most accomplished executive women in tech\, such as Hanna Hennig – CIO at Siemens\, Elaine Zhou – CTO at Change.org\, Wendy M. Pfeiffer – CIO at Nutanix\, as well as tech leaders across all levels from companies like Amazon\, Google\, IBM\, Meta\, Microsoft\, and many more.
URL:https://matrixni.org/event/women-in-tech-global-conference-2022/
LOCATION:Northern Ireland
ATTACH;FMTTYPE=image/jpeg:https://matrixni.org/wp-content/uploads/2022/05/d7b445c873edff96f08de74dea42f423.jpg
END:VEVENT
BEGIN:VEVENT
DTSTART;TZID=Europe/London:20220609T183000
DTEND;TZID=Europe/London:20220609T210000
DTSTAMP:20260423T201917
CREATED:20220526T101429Z
LAST-MODIFIED:20220526T101429Z
UID:26295-1654799400-1654808400@matrixni.org
SUMMARY:Founders Night Belfast
DESCRIPTION:Founders Night Belfast aims to bring together the local startup community on a monthly basis.\n\n\nFounders Night Belfast is building the largest community of founders\, investors and startup interested people in Belfast and the surrounding area.  \nWe will come together on a monthly basis to build relationships and strengthen the network.  \nAgenda for June 9: \n\n6.30pm – 7.30pm     –   Networking in the main room plus startup showcase / feedback booths.\n7.30pm – 7.40pm     –  Thanks and words from sponsors. Introduction.\n7.40pm – 8.10pm     –   Interview and discussion Phil McElnay.\n8.10pm – 8.20pm     –   Startup in focus (Pitch and background on featured startup).\n8.20pm – 8.50pm     –  Interview and discussion with Caroline Wilson.\n\nVenue:  \nThe event will take place in the historic Ormeau Baths which has become the centre of the startup ecosystem within the city.    \nComplementary snacks and refreshments will be supplied on the night from our event partner Barclay’s Eagle Labs!  \nFollow us on Twitter: https://twitter.com/founders_night
URL:https://matrixni.org/event/founders-night-belfast/
LOCATION:Ormeau Baths\, 18 Ormeau Avenue\, Belfast\, Northern Ireland\, BT2 8HS\, United Kingdom
ATTACH;FMTTYPE=image/jpeg:https://matrixni.org/wp-content/uploads/2022/05/0fb00ef06c790d0edef4da6ccff9da09.jpg
END:VEVENT
END:VCALENDAR