BEGIN:VCALENDAR
VERSION:2.0
PRODID:-//Matrix - ECPv6.15.20//NONSGML v1.0//EN
CALSCALE:GREGORIAN
METHOD:PUBLISH
X-ORIGINAL-URL:https://matrixni.org
X-WR-CALDESC:Events for Matrix
REFRESH-INTERVAL;VALUE=DURATION:PT1H
X-Robots-Tag:noindex
X-PUBLISHED-TTL:PT1H
BEGIN:VTIMEZONE
TZID:Europe/London
BEGIN:DAYLIGHT
TZOFFSETFROM:+0000
TZOFFSETTO:+0100
TZNAME:BST
DTSTART:20210328T010000
END:DAYLIGHT
BEGIN:STANDARD
TZOFFSETFROM:+0100
TZOFFSETTO:+0000
TZNAME:GMT
DTSTART:20211031T010000
END:STANDARD
BEGIN:DAYLIGHT
TZOFFSETFROM:+0000
TZOFFSETTO:+0100
TZNAME:BST
DTSTART:20220327T010000
END:DAYLIGHT
BEGIN:STANDARD
TZOFFSETFROM:+0100
TZOFFSETTO:+0000
TZNAME:GMT
DTSTART:20221030T010000
END:STANDARD
BEGIN:DAYLIGHT
TZOFFSETFROM:+0000
TZOFFSETTO:+0100
TZNAME:BST
DTSTART:20230326T010000
END:DAYLIGHT
BEGIN:STANDARD
TZOFFSETFROM:+0100
TZOFFSETTO:+0000
TZNAME:GMT
DTSTART:20231029T010000
END:STANDARD
END:VTIMEZONE
BEGIN:VEVENT
DTSTART;TZID=Europe/London:20220601T093000
DTEND;TZID=Europe/London:20220601T133000
DTSTAMP:20260423T201155
CREATED:20220530T141440Z
LAST-MODIFIED:20220530T141650Z
UID:26305-1654075800-1654090200@matrixni.org
SUMMARY:Masterclass: Internet of Things
DESCRIPTION:Discover how the Internet of Things (IoT) can transform your business\n\n\nOverview: \nIoT is using the internet to interconnect computing devices embedded in everyday objects enabling them to send and receive data. \nThings like wearables\, thermostats\, cars & trucks\, lights\, refrigerators\, on livestock\, machinery & plant\, buildings\, roads – the list goes on. \nIoT devices record and transfer data to monitor important processes\, give new insights\, boost efficiency\, and allow you to make more informed decisions. They tell you what’s really happening\, rather than what you assume (or hope!) is happening. \nWhy attend: \n\nFind out why tiny devices connected to the internet are part of the fourth industrial revolution (Industry 4.0)\nThrough use cases and successes stories from various industries we’ll share ideas that are accessible\, practical\, usable\, useful and affordable\nSee how IoT can transform your organisation – no matter what sector you’re in – manufacturing\, logistics & fleet management\, retail\, hospitality\, agriculture\, construction & civil engineering – this list goes on too!\n\nMeet the trainer: \nMartin Naughton is a part time lecturer at the Belfast Metropolitan College in the area of Internet of Things\, Smart Cities\, Emerging Technology and Blockchain technologies. \nHe is an experienced mentor having worked with Antrim & Newtownabbey Borough Council on the Ask programme\, Belfast Metropolitan College (Innovate Us) and InterTradeIreland mentor (Co Innovate Programme for emerging technologies). \nMartin’s the founder of Galvia Digital\, and works with organisations\, from startups to global enterprises\, to help them develop and deliver digital transformation projects. \nKindly hosted by Catalyst\, an independent\, not-for-profit organisation working together for the greater good\, enabling a connected community of like-minded innovators in an entrepreneurial eco-system that is the key driver of the knowledge economy in Northern Ireland. Catalyst is a force for good\, bold in its approach\, with integrity at its core and passion in everything it does.
URL:https://matrixni.org/event/masterclass-internet-of-things/
LOCATION:Catalyst – The Innovation Centre Belfast\, Queens Road\, Belfast\, Northern Ireland\, BT3 9DT\, United Kingdom
CATEGORIES:Digital
ATTACH;FMTTYPE=image/jpeg:https://matrixni.org/wp-content/uploads/2022/05/f2f037f43a93280c347de298df30ffd4.jpg
END:VEVENT
END:VCALENDAR