BEGIN:VCALENDAR
VERSION:2.0
PRODID:-//Matrix - ECPv6.15.20//NONSGML v1.0//EN
CALSCALE:GREGORIAN
METHOD:PUBLISH
X-ORIGINAL-URL:https://matrixni.org
X-WR-CALDESC:Events for Matrix
REFRESH-INTERVAL;VALUE=DURATION:PT1H
X-Robots-Tag:noindex
X-PUBLISHED-TTL:PT1H
BEGIN:VTIMEZONE
TZID:Europe/London
BEGIN:DAYLIGHT
TZOFFSETFROM:+0000
TZOFFSETTO:+0100
TZNAME:BST
DTSTART:20210328T010000
END:DAYLIGHT
BEGIN:STANDARD
TZOFFSETFROM:+0100
TZOFFSETTO:+0000
TZNAME:GMT
DTSTART:20211031T010000
END:STANDARD
BEGIN:DAYLIGHT
TZOFFSETFROM:+0000
TZOFFSETTO:+0100
TZNAME:BST
DTSTART:20220327T010000
END:DAYLIGHT
BEGIN:STANDARD
TZOFFSETFROM:+0100
TZOFFSETTO:+0000
TZNAME:GMT
DTSTART:20221030T010000
END:STANDARD
BEGIN:DAYLIGHT
TZOFFSETFROM:+0000
TZOFFSETTO:+0100
TZNAME:BST
DTSTART:20230326T010000
END:DAYLIGHT
BEGIN:STANDARD
TZOFFSETFROM:+0100
TZOFFSETTO:+0000
TZNAME:GMT
DTSTART:20231029T010000
END:STANDARD
END:VTIMEZONE
BEGIN:VEVENT
DTSTART;TZID=Europe/London:20220528T080000
DTEND;TZID=Europe/London:20220528T110000
DTSTAMP:20260423T221428
CREATED:20220331T130859Z
LAST-MODIFIED:20220331T131135Z
UID:25966-1653724800-1653735600@matrixni.org
SUMMARY:#HackTheHub hackathon 2022
DESCRIPTION:Theme: Data & AI \nWhy sign-up to #HackTheHub 2022? \n• Learn New Skills: Gain a salary increase by learning new skills and techniques that will benefit you professionally \n• Networking: if you’re looking to get in touch with people in the industry\, hackathons offer a great opportunity to have networking sessions with some of the brightest minds across the sector. \n• Inspiration: future projects and ideas can be generated at hackathons. \n– Prizes: cool tech\, educational\, vouchers are always nice right? \n– Experiment: You are too busy to actually building during the week and between family and personal commitments you never get time to build something cool. This is that time! \nIntroduction: \nThe coronavirus (COVID-19) pandemic has resulted in changes to working arrangements of millions of people in tech who are now based at home. And somehow it has left people disconnected from their role\, their teams and from the tech community. \nThe truth is it can be a very challenging time.
URL:https://matrixni.org/event/hackthehub-hackathon-2022/
LOCATION:McAuley Building\, 14 Castle Street\, Belfast\, Northern Ireland\, BT1 1HB\, United Kingdom
CATEGORIES:Digital
ATTACH;FMTTYPE=image/jpeg:https://matrixni.org/wp-content/uploads/2022/03/Matrix-Picture-16.jpg
END:VEVENT
END:VCALENDAR