BEGIN:VCALENDAR
VERSION:2.0
PRODID:-//Matrix - ECPv6.15.20//NONSGML v1.0//EN
CALSCALE:GREGORIAN
METHOD:PUBLISH
X-WR-CALNAME:Matrix
X-ORIGINAL-URL:https://matrixni.org
X-WR-CALDESC:Events for Matrix
REFRESH-INTERVAL;VALUE=DURATION:PT1H
X-Robots-Tag:noindex
X-PUBLISHED-TTL:PT1H
BEGIN:VTIMEZONE
TZID:Europe/London
BEGIN:DAYLIGHT
TZOFFSETFROM:+0000
TZOFFSETTO:+0100
TZNAME:BST
DTSTART:20210328T010000
END:DAYLIGHT
BEGIN:STANDARD
TZOFFSETFROM:+0100
TZOFFSETTO:+0000
TZNAME:GMT
DTSTART:20211031T010000
END:STANDARD
BEGIN:DAYLIGHT
TZOFFSETFROM:+0000
TZOFFSETTO:+0100
TZNAME:BST
DTSTART:20220327T010000
END:DAYLIGHT
BEGIN:STANDARD
TZOFFSETFROM:+0100
TZOFFSETTO:+0000
TZNAME:GMT
DTSTART:20221030T010000
END:STANDARD
BEGIN:DAYLIGHT
TZOFFSETFROM:+0000
TZOFFSETTO:+0100
TZNAME:BST
DTSTART:20230326T010000
END:DAYLIGHT
BEGIN:STANDARD
TZOFFSETFROM:+0100
TZOFFSETTO:+0000
TZNAME:GMT
DTSTART:20231029T010000
END:STANDARD
END:VTIMEZONE
BEGIN:VEVENT
DTSTART;VALUE=DATE:20220517
DTEND;VALUE=DATE:20220520
DTSTAMP:20260423T220902
CREATED:20220513T145612Z
LAST-MODIFIED:20220513T145612Z
UID:26180-1652745600-1653004799@matrixni.org
SUMMARY:Secure Connected Intelligence Summit 2022
DESCRIPTION:Join ECIT’s 11th Annual Summit event on 17th – 19th May 2022. \nThis unique event brings together the international research community alongside industry leaders\, government policy makers and start-ups and SMEs from around the world to explore grand challenges and multi-disciplinary research in the cybersecurity\, wireless\, AI industries\, agri-food and digital health industries. This will be a hybrid event with the option to join remotely. \nThe researchers\, engineers\, commercial and business support team  at ECIT work alongside industry\, government and other leading academic institutions within Queen’s University and indeed other universities to develop truly cutting edge solutions under the Secure Connected Intelligence theme to tackle the greatest challenges of tomorrow. \nThis event will be especially exciting as it will be the beginning of ECIT’s evolution to a Global Innovation Institute as part of the Belfast Region City Deal.
URL:https://matrixni.org/event/secure-connected-intelligence-summit-2022/
LOCATION:ECIT\, Near Catalyst Inc\, Queens Road\, Queen's Island\, Belfast\, Northern Ireland\, BT3 9DT\, United Kingdom
CATEGORIES:Cybersecurity
ATTACH;FMTTYPE=image/jpeg:https://matrixni.org/wp-content/uploads/2020/08/45df70d17ae7de197a7b0d84ff311796.jpg
END:VEVENT
BEGIN:VEVENT
DTSTART;TZID=Europe/London:20220518T180000
DTEND;TZID=Europe/London:20220518T193000
DTSTAMP:20260423T220902
CREATED:20220413T091544Z
LAST-MODIFIED:20220413T091903Z
UID:26048-1652896800-1652902200@matrixni.org
SUMMARY:Increasing Interdisciplinarity in UK R&D (online)
DESCRIPTION:A discussion event on interdisciplinarity in UK R&D\n\n\nThere has been an increasing focus on interdisciplinary research in recent years\, and many current key policy challenges (including climate change\, post-covid recovery\, economic security\, migration\, and healthcare) need evidence from interdisciplinary research. As the science budget increases over the coming years\, and UKRI announce their allocations\, what do we need to do to increase interdisciplinary research in the UK? \nSpeakers: \n\nProfessor Dame Ottoline Leyser DBE FRS\, Chief Executive\, UKRI\nProfessor Rachel Gooberman-Hill\, Institute Director\, Elizabeth Blackwell Institute\, University of Bristol\nProfessor David Soskice FBA\, Professor of Political Science and Economics\, London School of Economics\n\nChaired by Rt Hon Lord Willetts FRS
URL:https://matrixni.org/event/increasing-interdisciplinarity-in-uk-rd-online/
LOCATION:Online
CATEGORIES:Innovation,R&D
ATTACH;FMTTYPE=image/jpeg:https://matrixni.org/wp-content/uploads/2022/04/4415307051c84ce112022d536cea8742.jpg
END:VEVENT
END:VCALENDAR