BEGIN:VCALENDAR
VERSION:2.0
PRODID:-//Matrix - ECPv6.15.20//NONSGML v1.0//EN
CALSCALE:GREGORIAN
METHOD:PUBLISH
X-WR-CALNAME:Matrix
X-ORIGINAL-URL:https://matrixni.org
X-WR-CALDESC:Events for Matrix
REFRESH-INTERVAL;VALUE=DURATION:PT1H
X-Robots-Tag:noindex
X-PUBLISHED-TTL:PT1H
BEGIN:VTIMEZONE
TZID:Europe/London
BEGIN:DAYLIGHT
TZOFFSETFROM:+0000
TZOFFSETTO:+0100
TZNAME:BST
DTSTART:20210328T010000
END:DAYLIGHT
BEGIN:STANDARD
TZOFFSETFROM:+0100
TZOFFSETTO:+0000
TZNAME:GMT
DTSTART:20211031T010000
END:STANDARD
BEGIN:DAYLIGHT
TZOFFSETFROM:+0000
TZOFFSETTO:+0100
TZNAME:BST
DTSTART:20220327T010000
END:DAYLIGHT
BEGIN:STANDARD
TZOFFSETFROM:+0100
TZOFFSETTO:+0000
TZNAME:GMT
DTSTART:20221030T010000
END:STANDARD
BEGIN:DAYLIGHT
TZOFFSETFROM:+0000
TZOFFSETTO:+0100
TZNAME:BST
DTSTART:20230326T010000
END:DAYLIGHT
BEGIN:STANDARD
TZOFFSETFROM:+0100
TZOFFSETTO:+0000
TZNAME:GMT
DTSTART:20231029T010000
END:STANDARD
END:VTIMEZONE
BEGIN:VEVENT
DTSTART;VALUE=DATE:20220513
DTEND;VALUE=DATE:20220518
DTSTAMP:20260423T221055
CREATED:20220509T112124Z
LAST-MODIFIED:20220509T112124Z
UID:26128-1652400000-1652831999@matrixni.org
SUMMARY:London Tech Week
DESCRIPTION:Amplifying the power\, resilience and speed of innovation\nThe UK’s tech flagship event will return on 13-17 June bringing 20\,000+ global government and corporate leaders\, inspirational start-up founders\, senior investors and tech rising stars together to discuss the power of technology for societies. \nHeld in one of the world’s most vibrant tech hub\, the week-long festival will focus on the following core topics: \n\nexploring the next gen of tech innovation\nimpactful innovation at scale\nbuilding a thriving tech industry
URL:https://matrixni.org/event/london-tech-week/
LOCATION:Northern Ireland
CATEGORIES:Digital
ATTACH;FMTTYPE=image/jpeg:https://matrixni.org/wp-content/uploads/2022/05/Matrix-Picture-36.jpg
END:VEVENT
END:VCALENDAR