BEGIN:VCALENDAR
VERSION:2.0
PRODID:-//Matrix - ECPv6.15.20//NONSGML v1.0//EN
CALSCALE:GREGORIAN
METHOD:PUBLISH
X-WR-CALNAME:Matrix
X-ORIGINAL-URL:https://matrixni.org
X-WR-CALDESC:Events for Matrix
REFRESH-INTERVAL;VALUE=DURATION:PT1H
X-Robots-Tag:noindex
X-PUBLISHED-TTL:PT1H
BEGIN:VTIMEZONE
TZID:Europe/London
BEGIN:DAYLIGHT
TZOFFSETFROM:+0000
TZOFFSETTO:+0100
TZNAME:BST
DTSTART:20210328T010000
END:DAYLIGHT
BEGIN:STANDARD
TZOFFSETFROM:+0100
TZOFFSETTO:+0000
TZNAME:GMT
DTSTART:20211031T010000
END:STANDARD
BEGIN:DAYLIGHT
TZOFFSETFROM:+0000
TZOFFSETTO:+0100
TZNAME:BST
DTSTART:20220327T010000
END:DAYLIGHT
BEGIN:STANDARD
TZOFFSETFROM:+0100
TZOFFSETTO:+0000
TZNAME:GMT
DTSTART:20221030T010000
END:STANDARD
BEGIN:DAYLIGHT
TZOFFSETFROM:+0000
TZOFFSETTO:+0100
TZNAME:BST
DTSTART:20230326T010000
END:DAYLIGHT
BEGIN:STANDARD
TZOFFSETFROM:+0100
TZOFFSETTO:+0000
TZNAME:GMT
DTSTART:20231029T010000
END:STANDARD
END:VTIMEZONE
BEGIN:VEVENT
DTSTART;TZID=Europe/London:20220426T083000
DTEND;TZID=Europe/London:20220428T133000
DTSTAMP:20260423T221044
CREATED:20220415T091424Z
LAST-MODIFIED:20220415T091554Z
UID:26057-1650961800-1651152600@matrixni.org
SUMMARY:Engineering Challenge in partnership with The Amp Growth Incubator & NWRC
DESCRIPTION:NI Engineering Challenge Event: Explore the first steps of your startup journey in 3 days with £500 prize for the winning pitches.\n\n\n3 day event for FE engineering and technology students /graduates/experienced engineers and technicians to explore new engineering products or processes with market potential. \nDay One \n• Brainstorming Brunch \n• Introduction to Royal Academy of Engineering Enterprise Hub \n• Ideation and concept development – helping each applicant with an idea with market need identified \n• “The Challenge” \n• Developing commercial innovation \n• Hear from entrepreneurs who have walked the walk \n• Engineering and technology experts to help guide on the ‘challenge’ \nDay Two \n• Story-boarding\, wire-framing\, product sketch\, developing the route to market with cost strategy\, market mapping\, leading to an outline business plan \n• ‘Drop in Clinics’ with experts available online and in person for guidance and problem solving \nDay Three \n• 3-5min pitch to panel from participants (individuals or teams) \n• Prize winners announced and networking event \n• Closing talk by RAENG on application process for its Regional Talent Engine programme (£20k support for successful applicants\, with coaching and mentoring over 4-6 months).
URL:https://matrixni.org/event/engineering-challenge-in-partnership-with-the-amp-growth-incubator-nwrc/
LOCATION:The AMP Growth Incubator\, 11 Ebrington Street\, Londonderry\, Northern Ireland\, BT47 6FA\, United Kingdom
CATEGORIES:Engineering
ATTACH;FMTTYPE=image/jpeg:https://matrixni.org/wp-content/uploads/2022/04/f47ad3725063a9b31849cf09beee15f9.jpg
END:VEVENT
BEGIN:VEVENT
DTSTART;TZID=Europe/London:20220428T080000
DTEND;TZID=Europe/London:20220428T170000
DTSTAMP:20260423T221044
CREATED:20220218T110735Z
LAST-MODIFIED:20220401T085432Z
UID:25801-1651132800-1651165200@matrixni.org
SUMMARY:Cyber Expo & Conference Ireland 2022
DESCRIPTION:Renaissance\, Ireland’s leading IT security distributor\, is delighted to announce the return of Cyber Expo & Conference Ireland 2022!\n\n\nCyber Expo & Conference Ireland 2022\nFollowing a successful virtual event in 2020\, we are excited to announce Cyber Expo & Conference Ireland returns as a physical event on Thursday 28th April 2022 at The Leopardstown Pavilion in Dublin! The Leopardstown Pavilion is our biggest event venue yet\, with excellent links to the motorway\, public transport\, and hospitality nearby. Paul C Dwyer has been confirmed as this year’s keynote speaker. Paul C Dwyer is the president of the ICTTF International Cyber Threat Task Force and is recognised as one of the world’s foremost experts on cyber security\, risk and privacy. \nRenaissance launched Cyber Expo Ireland in 2017 to make it easier for Irish business leaders\, by bringing the members of the Cyber Ecosystem together under one roof – Vendors\, Value Added Resellers (VARs)\, Security Experts\, and End Users. Five years on and the brand has gone from strength to strength. \nWe believe that CyberConIreland complements the Cyber Expo perfectly\, adding practical depth for those who need it. Our expert breakout sessions detail the ‘How of Cyber Security’ as this industry is changing at such a phenomenal rate! \nThere will be real case studies and live expert panel discussions across 8 dedicated business streams\, as well as the interactive Capture the Flag workshop with ICT Skillnet and a Masterclass in Digital Transformation with Prof. Niall McKeown. \nAlways On Computing \nApplication Security \nBusiness Email Compromise \nIdentity & Rights Management \nCompliance & Third Party Risk Management \nOperational Technology (OT) Cybersecurity \nSecuring a Microsoft Environment \nCyber in Healthcare – Status and Focus \nDigital Transformation Masterclass \nICT Skillnet Capture the Flag Workshop \nVendors attending include – Altaro/Hornet Security\, Armis\, Ascertia\, Awingu\, Barracuda\, Bitdefender\, Bluedog\, BullWall\, Censornet\, Checkmarx\, Clearcrypt\, CyGlass\, Entrust\, iBoss\, Immersive Labs\, Octiga\, Progress Kemp\, Panorays\, Rackmount IT\, Redsift\, Systancia\, Usecure\, WatchGuard\, Webroot\, and Zyxel Networks. \nFull list of VARs attending – Actionpoint\, Burning Tree\, Cara\, DNA IT\, Futurerange\, ICT Skillnet\, ITMS\, Integrity360\, Intuity\, InspiritVision\, Leaf\, National Standards Authority of Ireland (NSAI)\, NSSL\, Oleson\, RITS\, Smarttech\, Stryve\, Unitec\, Unity\, VM group. \nWho Should Attend:\nOur Expo will be open to IT Trade and End Users in the Irish market. There will be a heavy focus to attract value-added partners to the Expo\, while we will also be keen to attract SMB and Corporate Users to demonstrate how they can apply Data Security and Compliance solutions within their organisations to develop and deliver their GDPR and other regulatory requirements. Don’t miss out\, register today to join our Cyber Security Ecosystem!
URL:https://matrixni.org/event/cyber-expo-conference-ireland-2022/
LOCATION:The Leopardstown Pavilion at Leopardstown Racecourse\, Leopardstown Racecourse\, Foxrock\, Dublin\, D18 C9V6\, Ireland
CATEGORIES:Artificial Intelligence,Cybersecurity,Digital
ATTACH;FMTTYPE=image/jpeg:https://matrixni.org/wp-content/uploads/2022/04/abad6a84547a4900faa8b9fd4a6b367f.jpg
END:VEVENT
BEGIN:VEVENT
DTSTART;TZID=Europe/London:20220428T153000
DTEND;TZID=Europe/London:20220428T183000
DTSTAMP:20260423T221044
CREATED:20220415T091832Z
LAST-MODIFIED:20220415T092007Z
UID:26065-1651159800-1651170600@matrixni.org
SUMMARY:Science for Everyone
DESCRIPTION:NWRC will host two showcases at the college’s Strand Road Campus on April 28 focusing on Science . Registration at the Tower Foyer\n\n\nEvent 1 \nSCIENCE FOR GROWN UPS (3.30 – 5 p.m.) \nLife and health sciences has been identified as one of Northern Ireland’s priority skill areas\, with demand for science graduates set to increase over the next 10 years. This event aims to provide a hands-on\, fun and practical science activities as a taster of what a career in science might be like. Have a chance to develop your skills in observing\, measuring\, recording and discussing results from experiments in an enjoyable and interactive way – and experience what a day in the life of a science student would be! \nThis event (FOR 18+) would be particularly suited to those wishing to return to education (with or without formal qualifications) and those wishing to explore science as an alternative career pathway. For further details please contact Ms Francine Moran\, Francine.moran@nwrc.ac.uk \nEvent 2  \nSCIENCE & ALLIED PROFESSIONS CAREERS SHOWCASE (5- 7 p.m. ) \nLife and health sciences has been identified as one of Northern Ireland’s priority skill areas\, with demand for science graduates set to increase over the next 10 years. Come and explore what careers are on offer following a Level 3 qualification in Science. You will have a chance to hear from some professionals (including past students) and representatives from local employers will be there to talk about their career and the educational pathway they followed. \nThere will also be an exhibition running alongside our series of talks\, where you will have the opportunity to learn about courses on offer within North West Regional College and other educational institutions\, as well as local employers. Careers advisors and student support staff will also be on hand to provide advice and information on your next steps towards a career in science.
URL:https://matrixni.org/event/science-for-everyone/
LOCATION:North West Regional College\, Strand Road\, Londonderry\, Northern Ireland\, BT48 7AL\, United Kingdom
CATEGORIES:STEM skills
ATTACH;FMTTYPE=image/jpeg:https://matrixni.org/wp-content/uploads/2022/04/cd8e48823eb3d899d3d22e0a3865b0ad.jpg
END:VEVENT
END:VCALENDAR