BEGIN:VCALENDAR
VERSION:2.0
PRODID:-//Matrix - ECPv6.15.20//NONSGML v1.0//EN
CALSCALE:GREGORIAN
METHOD:PUBLISH
X-ORIGINAL-URL:https://matrixni.org
X-WR-CALDESC:Events for Matrix
REFRESH-INTERVAL;VALUE=DURATION:PT1H
X-Robots-Tag:noindex
X-PUBLISHED-TTL:PT1H
BEGIN:VTIMEZONE
TZID:Europe/London
BEGIN:DAYLIGHT
TZOFFSETFROM:+0000
TZOFFSETTO:+0100
TZNAME:BST
DTSTART:20200329T010000
END:DAYLIGHT
BEGIN:STANDARD
TZOFFSETFROM:+0100
TZOFFSETTO:+0000
TZNAME:GMT
DTSTART:20201025T010000
END:STANDARD
BEGIN:DAYLIGHT
TZOFFSETFROM:+0000
TZOFFSETTO:+0100
TZNAME:BST
DTSTART:20210328T010000
END:DAYLIGHT
BEGIN:STANDARD
TZOFFSETFROM:+0100
TZOFFSETTO:+0000
TZNAME:GMT
DTSTART:20211031T010000
END:STANDARD
BEGIN:DAYLIGHT
TZOFFSETFROM:+0000
TZOFFSETTO:+0100
TZNAME:BST
DTSTART:20220327T010000
END:DAYLIGHT
BEGIN:STANDARD
TZOFFSETFROM:+0100
TZOFFSETTO:+0000
TZNAME:GMT
DTSTART:20221030T010000
END:STANDARD
BEGIN:DAYLIGHT
TZOFFSETFROM:+0000
TZOFFSETTO:+0100
TZNAME:BST
DTSTART:20230326T010000
END:DAYLIGHT
BEGIN:STANDARD
TZOFFSETFROM:+0100
TZOFFSETTO:+0000
TZNAME:GMT
DTSTART:20231029T010000
END:STANDARD
END:VTIMEZONE
BEGIN:VEVENT
DTSTART;TZID=Europe/London:20211122T100000
DTEND;TZID=Europe/London:20220223T170000
DTSTAMP:20260424T032039
CREATED:20211111T140141Z
LAST-MODIFIED:20211111T140141Z
UID:25321-1637575200-1645635600@matrixni.org
SUMMARY:Immerse UK x Imagination Virtual Production Series
DESCRIPTION:Between November 2021 and February 2022\, Immerse UK and Imagination will be joined by industry experts in a series of panel discussions and thought-leadership pieces exploring the impact of virtual production and real time content production\, each from a different perspective. \nJoin the organisers as they explore virtual production through three different lenses\, including; \nThe Future of Content\nThe benefits and impact of using a real time workflow to create content. \nThe Future of Live Experiences\nThe emerging advantages\, and challenges\, of using real time content for live experiences. \nDigital Transformation in real time\nExploring what is required to embrace realtime technologies and workflows into your organisation. \nAbout Virtual Production\nVirtual Production is more accurately described as real time content production; The process by which digital objects and environments are generated in real time using video games engines such as Unreal and Unity. The same technology that immerses you in living\, breathing\, photorealistic gaming worlds\, is now being used by filmmakers\, storytellers\, marketers and even product designers\, opening up limitless creative possibilities. \nAbout the Series\nThis series aims to demystify the technology and dig into the practical applications\, and structural\, business and cultural impact of this incredible new world\, which is and will continue to transform industries in much the same way that cloud computing and the Internet before it. \nHear from industry experts and thought leaders at the forefront of Virtual Production\, as they guide you through the latest techniques and possibilities in this exciting new space.
URL:https://matrixni.org/event/immerse-uk-x-imagination-virtual-production-series/
LOCATION:Online
CATEGORIES:Creative technology
ATTACH;FMTTYPE=image/png:https://matrixni.org/wp-content/uploads/2021/11/IMMERSE-UK-HERO-3-768x437-1-e1636639142342.png
END:VEVENT
BEGIN:VEVENT
DTSTART;VALUE=DATE:20220217
DTEND;VALUE=DATE:20220228
DTSTAMP:20260424T032039
CREATED:20220119T140505Z
LAST-MODIFIED:20220119T140505Z
UID:25607-1645056000-1646006399@matrixni.org
SUMMARY:Northern Ireland Science Festival
DESCRIPTION:From biochemistry to physics\, ecology to geology\, discover how you\, the universe and everything in between behaves as NI Science Festival returns with an interstellar programme of over 120 public events from 17 – 27 February 2022! \nEstablished in 2014\, NI Science Festival has grown to become the largest celebration of its kind on the island of Ireland and in its relatively short lifespan became one of the leading Science Festivals in the whole of Europe. \nOver the years NISF has striven to bring the very best of science communication to Northern Ireland\, including notable names such as Brian Cox\, Alice Roberts\, Jim Al-Khalili\, Jocelyn Bell Burnell\, Liz Bonnin\, Robert Winston\, Chris Hadfield\, Chris and Xand Van Tulleken\, Chris Packham\, Adam Rutherford\, Maddie Moate to name a few. \nThe festival offers a stimulating and wide range of events focusing on the wonders of science\, technology\, engineering\, art and mathematics. These events present some of the best scientists from NI and beyond to discuss their work\, cutting-edge research and what the future might hold. \nDuring the day\, the festival offers a range of workshops\, tours talks and interactive activities for people of all ages. In the evening we present an eclectic mix of experiential events including scientific debate\, talks\, theatres\, comedy\, music\, and film for adults and much more.
URL:https://matrixni.org/event/northern-ireland-science-festival/
LOCATION:Various
CATEGORIES:STEM skills
ATTACH;FMTTYPE=image/jpeg:https://matrixni.org/wp-content/uploads/2022/01/Matrix-Picture-21.jpg
ORGANIZER;CN="Northern Ireland Science Festival":MAILTO:info@nisciencefestival.com
END:VEVENT
BEGIN:VEVENT
DTSTART;TZID=Europe/London:20220223T080000
DTEND;TZID=Europe/London:20220223T100000
DTSTAMP:20260424T032039
CREATED:20220218T104030Z
LAST-MODIFIED:20220218T104030Z
UID:25792-1645603200-1645610400@matrixni.org
SUMMARY:Skills@ScAle - Funding Your AI Ambition
DESCRIPTION:The Power of Applied Intelligence – This series of webinars is designed to provide no nonsense\, practical and pragmatic advice to Business Leaders\, to improve their understanding of artificial intelligence\, demonstrate where the growth markets exist\, where investment is taking place\, the sectors of interest and the applications which are delivering bottom-line return on investment. \nThe fourth webinar entitled: Funding Your AI Ambition investigates the various funding mechanisms available to business leaders and entrepreneurs to reduce the cost of bringing a AI powered innovation to the market. Our speakers will cover Irish state supports\, European schemes and discuss those provided from venture capitalist to provide seed investment. \nFor more information visit: https://www.ictskillnet.ie/training/skillsscale-webinar-series/ \nAfter registration please use the calendar options provided to save the event in your diary \n*Do you have a question you would like to ask the panel?\nPlease send your questions to gillian.ogrady@ictskillnet.ie and they will be compiled for the panellists.
URL:https://matrixni.org/event/skillsscale-funding-your-ai-ambition/
LOCATION:Online
CATEGORIES:Artificial Intelligence
ATTACH;FMTTYPE=image/jpeg:https://matrixni.org/wp-content/uploads/2021/10/Matrix-Picture-17.jpg
END:VEVENT
BEGIN:VEVENT
DTSTART;TZID=Europe/London:20220223T173000
DTEND;TZID=Europe/London:20220223T200000
DTSTAMP:20260424T032039
CREATED:20220125T150613Z
LAST-MODIFIED:20220125T150613Z
UID:25654-1645637400-1645646400@matrixni.org
SUMMARY:NI Science Festival - Turing Talk 2022: A Day in the Life of a Smart City with Prof Julie A. McCann
DESCRIPTION:Part of the IET EngTalk and BCS Lecture Series \nWith the recent COP26 held in Glasgow\, sustainability and climate adaption is on everyone’s minds. The main outcome of this has been an agreement to strengthen 2030 targets by the end of 2022. This talk will discuss the role of the Internet of Things\, specifically sensor-based technologies\, in both providing data to better understand resource usage for optimization and reduction\, as well as providing ground truths to track those targets are being met. To do this this technology needs to be embedded in our transport\, our factories\, our homes even\, and with this brings a new set of challenges around privacy and security. Indeed\, such systems are core to building the Digital Twins that drive decision making\, but what happens when such systems go wrong? Prof Julie A. McCann will explore this and potential solutions to such scenarios and will illustrate where the technologies are heading with a future look. \nAbout \nProfessor Julie A McCann heads up Adaptive Emergent Systems Engineering (AESE) in the Dept of Computing where she works with a highly multi-disciplinary group of Post Docs and PhD students from a broad spectra of backgrounds. She leads the Resilient and Robust Infrastructure challenge part of the Data Centric Engineering theme in the Alan Turing Institute\, she is PI for the NRF funded Singapore Eco Cities initiative\, and is Deputy Director of PeTraS and therein leads the Logistics 4.0 project with the Tate Modern\, ARM and Ordinance Survey. She is Imperial PI for the EPSRC Science of Sensing Systems Software (S4) programme grant. Until recently she was the Co-director of the Intel Collaborative Research Institute on Sustainable Connected Cities\, the Co-PI of the NEC Smart Water Lab\, and Director of the cross-Imperial Smart Connected Futures Network. \nShe has chaired and remains actively involved with the field’s top conferences (including Infocom\, Sensys\, IPSN\, and EWSN) and is an Associated Editor for IoT-J. She currently delivers the Pervasive Computing teaching module and in the past she lectured Operating Systems courses. She was chair of the Department of Computing Equality and Diversity committee (2018-2021)\, is a Fellow of the British Computer Society\, a Chartered Engineer and consults on computer-based futures for TV and Film .
URL:https://matrixni.org/event/ni-science-festival-turing-talk-2022-a-day-in-the-life-of-a-smart-city-with-prof-julie-a-mccann/
LOCATION:Assembly Buildings Conference Centre\, 2-10 Fisherwick Place\, Belfast\, Ulster\, BT1 6DW\, United Kingdom
CATEGORIES:Digital,Innovation
ATTACH;FMTTYPE=image/jpeg:https://matrixni.org/wp-content/uploads/2022/01/Matrix-Picture-25.jpg
ORGANIZER;CN="Northern Ireland Science Festival":MAILTO:info@nisciencefestival.com
END:VEVENT
BEGIN:VEVENT
DTSTART;TZID=Europe/London:20220223T180000
DTEND;TZID=Europe/London:20220223T190000
DTSTAMP:20260424T032039
CREATED:20220210T152319Z
LAST-MODIFIED:20220210T154109Z
UID:25751-1645639200-1645642800@matrixni.org
SUMMARY:Critical conversations: What works in diversity and inclusion?
DESCRIPTION:In the first of this year’s Critical conversations series of online events from the Royal Academy for Engineering\, Academy CEO\, Dr Hayaatun Sillem CBE\, will be joined by: \n\nAnne-Marie Neatham\, Partnership Director at Ocado Group and COO\, Kindred\nDr Karen Salt\, Deputy Director for Research\, Culture and Environment at UKRI\n\nDrawing on their experience of evidence-based leadership\, they will explore how to create disruptors in the engineering community with new and innovative ideas to achieve our diversity and inclusion ambitions. The conversation will also look at ways to measure diversity and inclusion that can make a real impact\, and discuss the benefits of measurement to ensure greater belonging and meaningful commitments. \nThis event will set the scene for the Academy’s forthcoming activities to support diversity and inclusion in engineering\, including the annual Diversity and Inclusion conference on 15 March 2022.
URL:https://matrixni.org/event/critical-conversations-what-works-in-diversity-and-inclusion/
LOCATION:Online
CATEGORIES:Engineering,Innovation,Women in STEM
ATTACH;FMTTYPE=image/jpeg:https://matrixni.org/wp-content/uploads/2022/01/Matrix-Picture-18.jpg
END:VEVENT
BEGIN:VEVENT
DTSTART;TZID=Europe/London:20220223T180000
DTEND;TZID=Europe/London:20220223T193000
DTSTAMP:20260424T032039
CREATED:20220201T161538Z
LAST-MODIFIED:20220201T161538Z
UID:25719-1645639200-1645644600@matrixni.org
SUMMARY:Delivering the AI Strategy – the use of new AI technologies in industry and the public sector
DESCRIPTION:In September 2021\, the UK Government published the National AI Strategy. Part of this Strategy is to support the transition to an AI-enabled economy. In this event\, FST will look at how AI technologies are being deployed now in the public and private sectors\, and expectations for the coming years. \nSpeakers: \nProfessor Tom Rodden\, Chief Scientific Adviser\, Department for Digital\, Culture\, Media & Sport \n\nProfessor Geraint Rees FMedSci\, Pro-Vice-Provost AI\, University College London\nLord Clement-Jones CBE\, House of Lords and Joint Chair of the AI All Party Parliamentary Group\nFourth speaker TBC\n\n  \nChaired by the Rt Hon Lord (David) Willetts\, Chairman of the Foundation for Science and Technology \n 
URL:https://matrixni.org/event/delivering-the-ai-strategy-the-use-of-new-ai-technologies-in-industry-and-the-public-sector/
LOCATION:Online
CATEGORIES:Artificial Intelligence
ATTACH;FMTTYPE=image/jpeg:https://matrixni.org/wp-content/uploads/2021/10/Matrix-Picture-17.jpg
END:VEVENT
BEGIN:VEVENT
DTSTART;TZID=Europe/London:20220223T190000
DTEND;TZID=Europe/London:20220223T200000
DTSTAMP:20260424T032039
CREATED:20220121T103323Z
LAST-MODIFIED:20220121T103323Z
UID:25614-1645642800-1645646400@matrixni.org
SUMMARY:What’s the ‘Big Deal’ about the Belfast City Deal?
DESCRIPTION:Join Queen’s University for a panel discussion where you will hear from experts about why the City Deal is a very Big Deal! Explore the details and the possibilities that this once-in-a-generation opportunity will offer for Belfast to achieve economic growth and prosperity and unparalleled future job opportunities. The Belfast Region City Deal is a £850 million package of funding between central government and the Belfast region. \nDuring this chaired discussion\, the expert panel will explain and explore the science and societal impact of these projects and at the end will invite discussion and debate from the audience.
URL:https://matrixni.org/event/whats-the-big-deal/
LOCATION:The Graduate School\, Queen’s University\, University Road\, Belfast\, Northern Ireland\, BT7 1NN\, United Kingdom
CATEGORIES:General
ATTACH;FMTTYPE=image/jpeg:https://matrixni.org/wp-content/uploads/2021/12/Matrix-Picture-7.jpg
END:VEVENT
END:VCALENDAR