BEGIN:VCALENDAR
VERSION:2.0
PRODID:-//Matrix - ECPv6.15.20//NONSGML v1.0//EN
CALSCALE:GREGORIAN
METHOD:PUBLISH
X-ORIGINAL-URL:https://matrixni.org
X-WR-CALDESC:Events for Matrix
REFRESH-INTERVAL;VALUE=DURATION:PT1H
X-Robots-Tag:noindex
X-PUBLISHED-TTL:PT1H
BEGIN:VTIMEZONE
TZID:Europe/London
BEGIN:DAYLIGHT
TZOFFSETFROM:+0000
TZOFFSETTO:+0100
TZNAME:BST
DTSTART:20200329T010000
END:DAYLIGHT
BEGIN:STANDARD
TZOFFSETFROM:+0100
TZOFFSETTO:+0000
TZNAME:GMT
DTSTART:20201025T010000
END:STANDARD
BEGIN:DAYLIGHT
TZOFFSETFROM:+0000
TZOFFSETTO:+0100
TZNAME:BST
DTSTART:20210328T010000
END:DAYLIGHT
BEGIN:STANDARD
TZOFFSETFROM:+0100
TZOFFSETTO:+0000
TZNAME:GMT
DTSTART:20211031T010000
END:STANDARD
BEGIN:DAYLIGHT
TZOFFSETFROM:+0000
TZOFFSETTO:+0100
TZNAME:BST
DTSTART:20220327T010000
END:DAYLIGHT
BEGIN:STANDARD
TZOFFSETFROM:+0100
TZOFFSETTO:+0000
TZNAME:GMT
DTSTART:20221030T010000
END:STANDARD
BEGIN:DAYLIGHT
TZOFFSETFROM:+0000
TZOFFSETTO:+0100
TZNAME:BST
DTSTART:20230326T010000
END:DAYLIGHT
BEGIN:STANDARD
TZOFFSETFROM:+0100
TZOFFSETTO:+0000
TZNAME:GMT
DTSTART:20231029T010000
END:STANDARD
END:VTIMEZONE
BEGIN:VEVENT
DTSTART;TZID=Europe/London:20211122T100000
DTEND;TZID=Europe/London:20220223T170000
DTSTAMP:20260424T032028
CREATED:20211111T140141Z
LAST-MODIFIED:20211111T140141Z
UID:25321-1637575200-1645635600@matrixni.org
SUMMARY:Immerse UK x Imagination Virtual Production Series
DESCRIPTION:Between November 2021 and February 2022\, Immerse UK and Imagination will be joined by industry experts in a series of panel discussions and thought-leadership pieces exploring the impact of virtual production and real time content production\, each from a different perspective. \nJoin the organisers as they explore virtual production through three different lenses\, including; \nThe Future of Content\nThe benefits and impact of using a real time workflow to create content. \nThe Future of Live Experiences\nThe emerging advantages\, and challenges\, of using real time content for live experiences. \nDigital Transformation in real time\nExploring what is required to embrace realtime technologies and workflows into your organisation. \nAbout Virtual Production\nVirtual Production is more accurately described as real time content production; The process by which digital objects and environments are generated in real time using video games engines such as Unreal and Unity. The same technology that immerses you in living\, breathing\, photorealistic gaming worlds\, is now being used by filmmakers\, storytellers\, marketers and even product designers\, opening up limitless creative possibilities. \nAbout the Series\nThis series aims to demystify the technology and dig into the practical applications\, and structural\, business and cultural impact of this incredible new world\, which is and will continue to transform industries in much the same way that cloud computing and the Internet before it. \nHear from industry experts and thought leaders at the forefront of Virtual Production\, as they guide you through the latest techniques and possibilities in this exciting new space.
URL:https://matrixni.org/event/immerse-uk-x-imagination-virtual-production-series/
LOCATION:Online
CATEGORIES:Creative technology
ATTACH;FMTTYPE=image/png:https://matrixni.org/wp-content/uploads/2021/11/IMMERSE-UK-HERO-3-768x437-1-e1636639142342.png
END:VEVENT
BEGIN:VEVENT
DTSTART;VALUE=DATE:20220217
DTEND;VALUE=DATE:20220228
DTSTAMP:20260424T032028
CREATED:20220119T140505Z
LAST-MODIFIED:20220119T140505Z
UID:25607-1645056000-1646006399@matrixni.org
SUMMARY:Northern Ireland Science Festival
DESCRIPTION:From biochemistry to physics\, ecology to geology\, discover how you\, the universe and everything in between behaves as NI Science Festival returns with an interstellar programme of over 120 public events from 17 – 27 February 2022! \nEstablished in 2014\, NI Science Festival has grown to become the largest celebration of its kind on the island of Ireland and in its relatively short lifespan became one of the leading Science Festivals in the whole of Europe. \nOver the years NISF has striven to bring the very best of science communication to Northern Ireland\, including notable names such as Brian Cox\, Alice Roberts\, Jim Al-Khalili\, Jocelyn Bell Burnell\, Liz Bonnin\, Robert Winston\, Chris Hadfield\, Chris and Xand Van Tulleken\, Chris Packham\, Adam Rutherford\, Maddie Moate to name a few. \nThe festival offers a stimulating and wide range of events focusing on the wonders of science\, technology\, engineering\, art and mathematics. These events present some of the best scientists from NI and beyond to discuss their work\, cutting-edge research and what the future might hold. \nDuring the day\, the festival offers a range of workshops\, tours talks and interactive activities for people of all ages. In the evening we present an eclectic mix of experiential events including scientific debate\, talks\, theatres\, comedy\, music\, and film for adults and much more.
URL:https://matrixni.org/event/northern-ireland-science-festival/
LOCATION:Various
CATEGORIES:STEM skills
ATTACH;FMTTYPE=image/jpeg:https://matrixni.org/wp-content/uploads/2022/01/Matrix-Picture-21.jpg
ORGANIZER;CN="Northern Ireland Science Festival":MAILTO:info@nisciencefestival.com
END:VEVENT
BEGIN:VEVENT
DTSTART;TZID=Europe/London:20220217T130000
DTEND;TZID=Europe/London:20220217T141500
DTSTAMP:20260424T032028
CREATED:20220215T112018Z
LAST-MODIFIED:20220215T112107Z
UID:25787-1645102800-1645107300@matrixni.org
SUMMARY:The Future of the European Hydrogen Economy
DESCRIPTION:This seminar will explore the potential of the European hydrogen economy. Hydrogen is expected to play an important role in achieving a carbon-neutral economy in Europe by 2050. Green hydrogen also has many possible applications in the Irish context\, and while currently representing a modest fraction of the global energy mix\, projections indicate that clean hydrogen could meet approximately 25% of the world’s energy demand by mid-century. \nIn recent years\, several European countries\, including Portugal and Germany\, have issued comprehensive national hydrogen strategies. These frameworks provide critical insights for Ireland as policymakers consider the role for green hydrogen in meeting the state’s climate and energy targets. In this session\, three international experts will explore the potential role of green hydrogen as the EU transitions to a carbon-neutral future. \nAbout the Speakers:   \nDr Isabel Cabrita is Professor of Energy Solutions at the Institute of Education and Sciences\, Lisbon. She also serves as a Researcher at CERENA\, a Portuguese research and technological development institute which specialises in innovative and sustainable energy solutions. From 2015-2021\, she was Head of Research Directorate-General of Energy and Geology\, Portugal. In this role\, Dr Cabrita oversaw the implementation of the Portuguese Energy and Climate Plan\, and Portugal’s National Hydrogen Strategy. Dr Cabrita has produced more than 300 publications and served as guest editor of an edition of Energies in 2021. \nFranz Lehner is Head of International Cooperation at NOW GmbH\, the German Organisation for Hydrogen and Fuel Cell Technology. NOW GmbH is responsible for the coordination and management of the German Innovation Programme for Hydrogen and Fuel Cell Technology and the Electromobility Model Regions programme of the Federal Ministry of Transport and Digital Infrastructure of Germany. An engineer by training\, Mr Lehner has more than 10 years of professional experience focusing on hydrogen\, fuel cells\, renewable fuels and electric mobility. Before joining NOW in early 2021\, Mr Lehner was Managing Consultant at the international energy transition consulting firm E4tech in Lausanne\, Switzerland. From 2014-2019\, he co-authored the annual Fuel Cell Industry Review published by E4Tech\, the global benchmark report in this sector. \nShiva Dustdar is Head of Innovation Finance Advisory at the European Investment Bank. A leading innovation finance expert with over 25 years of experience at J.P. Morgan\, Fitch Ratings and now at EIB\, she specialises in identifying future investment opportunities and developing new business and market opportunities to finance the transition to a green and digital economy. Ms Dustdar co-founded the European High Yield Association (EHYA)\, which is now part of the Association for Financial Markets in Europe (AFME). In 2006\, she was listed in the ‘Top 50 Women in Credit’ by Credit Magazine. Ms Dustdar Shiva holds a BA in Economics from Columbia University and an Executive MBA from London Business School.
URL:https://matrixni.org/event/the-future-of-the-european-hydrogen-economy/
LOCATION:Online
CATEGORIES:Climate Change,Energy,Innovation
ATTACH;FMTTYPE=image/jpeg:https://matrixni.org/wp-content/uploads/2022/02/Rethink_Energy_hydrogen_event_V3-e1644923915884.jpg
END:VEVENT
END:VCALENDAR