BEGIN:VCALENDAR
VERSION:2.0
PRODID:-//Matrix - ECPv6.15.20//NONSGML v1.0//EN
CALSCALE:GREGORIAN
METHOD:PUBLISH
X-WR-CALNAME:Matrix
X-ORIGINAL-URL:https://matrixni.org
X-WR-CALDESC:Events for Matrix
REFRESH-INTERVAL;VALUE=DURATION:PT1H
X-Robots-Tag:noindex
X-PUBLISHED-TTL:PT1H
BEGIN:VTIMEZONE
TZID:Europe/London
BEGIN:DAYLIGHT
TZOFFSETFROM:+0000
TZOFFSETTO:+0100
TZNAME:BST
DTSTART:20200329T010000
END:DAYLIGHT
BEGIN:STANDARD
TZOFFSETFROM:+0100
TZOFFSETTO:+0000
TZNAME:GMT
DTSTART:20201025T010000
END:STANDARD
BEGIN:DAYLIGHT
TZOFFSETFROM:+0000
TZOFFSETTO:+0100
TZNAME:BST
DTSTART:20210328T010000
END:DAYLIGHT
BEGIN:STANDARD
TZOFFSETFROM:+0100
TZOFFSETTO:+0000
TZNAME:GMT
DTSTART:20211031T010000
END:STANDARD
BEGIN:DAYLIGHT
TZOFFSETFROM:+0000
TZOFFSETTO:+0100
TZNAME:BST
DTSTART:20220327T010000
END:DAYLIGHT
BEGIN:STANDARD
TZOFFSETFROM:+0100
TZOFFSETTO:+0000
TZNAME:GMT
DTSTART:20221030T010000
END:STANDARD
BEGIN:DAYLIGHT
TZOFFSETFROM:+0000
TZOFFSETTO:+0100
TZNAME:BST
DTSTART:20230326T010000
END:DAYLIGHT
BEGIN:STANDARD
TZOFFSETFROM:+0100
TZOFFSETTO:+0000
TZNAME:GMT
DTSTART:20231029T010000
END:STANDARD
END:VTIMEZONE
BEGIN:VEVENT
DTSTART;TZID=Europe/London:20211122T100000
DTEND;TZID=Europe/London:20220223T170000
DTSTAMP:20260424T031001
CREATED:20211111T140141Z
LAST-MODIFIED:20211111T140141Z
UID:25321-1637575200-1645635600@matrixni.org
SUMMARY:Immerse UK x Imagination Virtual Production Series
DESCRIPTION:Between November 2021 and February 2022\, Immerse UK and Imagination will be joined by industry experts in a series of panel discussions and thought-leadership pieces exploring the impact of virtual production and real time content production\, each from a different perspective. \nJoin the organisers as they explore virtual production through three different lenses\, including; \nThe Future of Content\nThe benefits and impact of using a real time workflow to create content. \nThe Future of Live Experiences\nThe emerging advantages\, and challenges\, of using real time content for live experiences. \nDigital Transformation in real time\nExploring what is required to embrace realtime technologies and workflows into your organisation. \nAbout Virtual Production\nVirtual Production is more accurately described as real time content production; The process by which digital objects and environments are generated in real time using video games engines such as Unreal and Unity. The same technology that immerses you in living\, breathing\, photorealistic gaming worlds\, is now being used by filmmakers\, storytellers\, marketers and even product designers\, opening up limitless creative possibilities. \nAbout the Series\nThis series aims to demystify the technology and dig into the practical applications\, and structural\, business and cultural impact of this incredible new world\, which is and will continue to transform industries in much the same way that cloud computing and the Internet before it. \nHear from industry experts and thought leaders at the forefront of Virtual Production\, as they guide you through the latest techniques and possibilities in this exciting new space.
URL:https://matrixni.org/event/immerse-uk-x-imagination-virtual-production-series/
LOCATION:Online
CATEGORIES:Creative technology
ATTACH;FMTTYPE=image/png:https://matrixni.org/wp-content/uploads/2021/11/IMMERSE-UK-HERO-3-768x437-1-e1636639142342.png
END:VEVENT
BEGIN:VEVENT
DTSTART;TZID=Europe/London:20220208T120000
DTEND;TZID=Europe/London:20220208T130000
DTSTAMP:20260424T031001
CREATED:20220131T112535Z
LAST-MODIFIED:20220131T112535Z
UID:25685-1644321600-1644325200@matrixni.org
SUMMARY:Innovative Digital Technologies in Net Zero
DESCRIPTION:This event will be look at how manufacturers can gather\, process\, present and analyse data from throughout the factory to enable rigorous management decisions regarding energy reduction. This can be for direct cost reduction through lower energy bills or in order to reduce the carbon footprint of manufactured goods which comes under increasing scrutiny from consumers. Continued measurement and monitoring can support and confirm capex investment decisions over time\, and continued trend analysis will drive further resource savings. \nFeaturing: \n\n\nKaty Davies (Managing Director\, Camden Boss)\, Vanessa Macdougall (Co-Founder\, xtonnes)\, Prof Steve Evans (Director of Research in Industrial Sustainability\, Institute for Manufacturing (IfM))\, Alan Howard (Design and Manufacturing Lead\, IET) and Ravi Gidoomal (Director\, Edge Digital Manufacturing)
URL:https://matrixni.org/event/innovative-digital-technologies-in-net-zero/
LOCATION:Online
CATEGORIES:Circular Green,Digital,Energy,Engineering,Innovation
ATTACH;FMTTYPE=image/jpeg:https://matrixni.org/wp-content/uploads/2022/01/Matrix-Picture-28.jpg
END:VEVENT
END:VCALENDAR