BEGIN:VCALENDAR
VERSION:2.0
PRODID:-//Matrix - ECPv6.15.20//NONSGML v1.0//EN
CALSCALE:GREGORIAN
METHOD:PUBLISH
X-ORIGINAL-URL:https://matrixni.org
X-WR-CALDESC:Events for Matrix
REFRESH-INTERVAL;VALUE=DURATION:PT1H
X-Robots-Tag:noindex
X-PUBLISHED-TTL:PT1H
BEGIN:VTIMEZONE
TZID:Europe/London
BEGIN:DAYLIGHT
TZOFFSETFROM:+0000
TZOFFSETTO:+0100
TZNAME:BST
DTSTART:20200329T010000
END:DAYLIGHT
BEGIN:STANDARD
TZOFFSETFROM:+0100
TZOFFSETTO:+0000
TZNAME:GMT
DTSTART:20201025T010000
END:STANDARD
BEGIN:DAYLIGHT
TZOFFSETFROM:+0000
TZOFFSETTO:+0100
TZNAME:BST
DTSTART:20210328T010000
END:DAYLIGHT
BEGIN:STANDARD
TZOFFSETFROM:+0100
TZOFFSETTO:+0000
TZNAME:GMT
DTSTART:20211031T010000
END:STANDARD
BEGIN:DAYLIGHT
TZOFFSETFROM:+0000
TZOFFSETTO:+0100
TZNAME:BST
DTSTART:20220327T010000
END:DAYLIGHT
BEGIN:STANDARD
TZOFFSETFROM:+0100
TZOFFSETTO:+0000
TZNAME:GMT
DTSTART:20221030T010000
END:STANDARD
BEGIN:DAYLIGHT
TZOFFSETFROM:+0000
TZOFFSETTO:+0100
TZNAME:BST
DTSTART:20230326T010000
END:DAYLIGHT
BEGIN:STANDARD
TZOFFSETFROM:+0100
TZOFFSETTO:+0000
TZNAME:GMT
DTSTART:20231029T010000
END:STANDARD
END:VTIMEZONE
BEGIN:VEVENT
DTSTART;TZID=Europe/London:20211122T100000
DTEND;TZID=Europe/London:20220223T170000
DTSTAMP:20260424T062317
CREATED:20211111T140141Z
LAST-MODIFIED:20211111T140141Z
UID:25321-1637575200-1645635600@matrixni.org
SUMMARY:Immerse UK x Imagination Virtual Production Series
DESCRIPTION:Between November 2021 and February 2022\, Immerse UK and Imagination will be joined by industry experts in a series of panel discussions and thought-leadership pieces exploring the impact of virtual production and real time content production\, each from a different perspective. \nJoin the organisers as they explore virtual production through three different lenses\, including; \nThe Future of Content\nThe benefits and impact of using a real time workflow to create content. \nThe Future of Live Experiences\nThe emerging advantages\, and challenges\, of using real time content for live experiences. \nDigital Transformation in real time\nExploring what is required to embrace realtime technologies and workflows into your organisation. \nAbout Virtual Production\nVirtual Production is more accurately described as real time content production; The process by which digital objects and environments are generated in real time using video games engines such as Unreal and Unity. The same technology that immerses you in living\, breathing\, photorealistic gaming worlds\, is now being used by filmmakers\, storytellers\, marketers and even product designers\, opening up limitless creative possibilities. \nAbout the Series\nThis series aims to demystify the technology and dig into the practical applications\, and structural\, business and cultural impact of this incredible new world\, which is and will continue to transform industries in much the same way that cloud computing and the Internet before it. \nHear from industry experts and thought leaders at the forefront of Virtual Production\, as they guide you through the latest techniques and possibilities in this exciting new space.
URL:https://matrixni.org/event/immerse-uk-x-imagination-virtual-production-series/
LOCATION:Online
CATEGORIES:Creative technology
ATTACH;FMTTYPE=image/png:https://matrixni.org/wp-content/uploads/2021/11/IMMERSE-UK-HERO-3-768x437-1-e1636639142342.png
END:VEVENT
BEGIN:VEVENT
DTSTART;TZID=Europe/London:20211207T080000
DTEND;TZID=Europe/London:20211208T170000
DTSTAMP:20260424T062317
CREATED:20211005T125410Z
LAST-MODIFIED:20211007T132643Z
UID:24965-1638864000-1638982800@matrixni.org
SUMMARY:Industry Space Days 2021 - The Conference Edition
DESCRIPTION:The European Space Agency (ESA) invites members of the space community to attend its virtual Industry Space Days (ISD) event on 7 – 8 December 2021. Participants can register as of early October. \nThe ISD is organised by the ESA SME Office to foster cooperation between different actors in the entire space sector. The 2021 edition will have a special focus on “Commercialisation”. \nKey elements of this year’s ISD include: \n➔ keynotes and panel discussions with contributions by ESA\, industry\, industry associations and institutional partners \n➔ ESA presentations and workshops about business opportunities and future activities \n➔ a virtual exhibition with ESA and industry booths and the possibility to engage with future partners \n➔ networking opportunities for the space community\, including 1-on-1 meetings\, industry speed-dating sessions and pitch presentations \nAttend the ISD2021 and join Europe’s space community online\nThe event is open to entities from ESA Member States\, Cooperating States and Associate States. \nParticipation is free of charge. \nThe ISD will be hosted on the platform Let’s Get Digital (Chrome browser on a computer/laptop required).
URL:https://matrixni.org/event/industry-space-days-2021-the-conference-edition/
LOCATION:Northern Ireland
CATEGORIES:Space technology
ATTACH;FMTTYPE=image/jpeg:https://matrixni.org/wp-content/uploads/2021/10/Matrix-Picture-4.jpg
END:VEVENT
BEGIN:VEVENT
DTSTART;TZID=Europe/London:20211208T090000
DTEND;TZID=Europe/London:20211208T170000
DTSTAMP:20260424T062317
CREATED:20211115T144344Z
LAST-MODIFIED:20211115T145111Z
UID:25348-1638954000-1638982800@matrixni.org
SUMMARY:Levelling Up
DESCRIPTION:Open Innovations and The Royal Statistical Society are collaborating on a project that will aim to use events\, open discussion and suggestions to develop a prototype visualisation for ‘levelling up’. \nFor the launch event\, the organisers will be presenting a showcase of speakers who will talk about the work that already exists and what is needed to make it better. The event will run from 9AM – 12PM featuring talks followed by live Q&A with speakers including: \n\n Andy Haldane\, Permanent Secretary to the Levelling Up Taskforce\nNeil O’Brien\, Parliamentary Under Secretary of State TBC\nStian Westlake\, CEO RSS\nTera Allas\, McKinsey\nTom Bridges\, Leeds Office Leader\, Director Cities Advisory\, Arup\nTom Forth\, Head of Data\, Open Innovations (formerly ODILeeds)\nNancy Hey\, Executive Director\, What Works Centre for Wellbeing\nJodie Levy\,  Department of Digital\, Culture\, Media & Sport\nAlan Reiss\, Director of Strategy\, Communications and Policing\nWest Yorkshire Combined Authority\nPaul Swinney\, Director of Policy and Research\, Centre for Cities\n\nThe RSS recently responded to the Treasury Committee inquiry on equal recovery post-pandemic\, expressing concern that current data is not up to the job and calling for a rethink of what data the government is collecting. \nThe term ‘levelling up’ will be more familiar in gaming culture than in politics but it became a core part of political speech and decision-making in the wake of the COVID-19 pandemic. You might know what it means in a game\, but what does it mean for the UK? \nWith no solid definition\, ‘levelling up’ could mean something different to everyone\, and with no official ‘levelling up’ dataset to work from\, there isn’t a way to currently track progress or keep things accountable. Open Innovations will be leading a project to explore ‘levelling up’ from a Northern perspective\, by working in the open\, inviting discussion and suggestions\, and developing a prototype visualisation with open data at its foundation. \nWhat open data will we use? Well\, this is where you come in… \nThe project will start in November 2021 and finish in February 2022\, with three key stages and events that accompany them\, plus opportunities for people to contribute their feedback\, suggestions\, data sources\, etc. \nOpen Innovations uses a method of rapid innovation to work in a radically open way to produce results quickly and efficiently. Our process is purposely initially informally unstructured but ultimately productive to allow for free communication\, knowledge exchange\, change and action. Please use this document to share any thoughts\, links\, resources and questions. \nThe event will take place virtually and be live-streamed to our website here – but to join in & ask questions we ask you to sign up to be able to access the Airmeet platform.
URL:https://matrixni.org/event/levelling-up/
LOCATION:Online
CATEGORIES:Innovation
ATTACH;FMTTYPE=image/bmp:https://matrixni.org/wp-content/uploads/2021/11/Levelling-up.bmp
END:VEVENT
END:VCALENDAR