BEGIN:VCALENDAR
VERSION:2.0
PRODID:-//Matrix - ECPv6.15.20//NONSGML v1.0//EN
CALSCALE:GREGORIAN
METHOD:PUBLISH
X-ORIGINAL-URL:https://matrixni.org
X-WR-CALDESC:Events for Matrix
REFRESH-INTERVAL;VALUE=DURATION:PT1H
X-Robots-Tag:noindex
X-PUBLISHED-TTL:PT1H
BEGIN:VTIMEZONE
TZID:Europe/London
BEGIN:DAYLIGHT
TZOFFSETFROM:+0000
TZOFFSETTO:+0100
TZNAME:BST
DTSTART:20200329T010000
END:DAYLIGHT
BEGIN:STANDARD
TZOFFSETFROM:+0100
TZOFFSETTO:+0000
TZNAME:GMT
DTSTART:20201025T010000
END:STANDARD
BEGIN:DAYLIGHT
TZOFFSETFROM:+0000
TZOFFSETTO:+0100
TZNAME:BST
DTSTART:20210328T010000
END:DAYLIGHT
BEGIN:STANDARD
TZOFFSETFROM:+0100
TZOFFSETTO:+0000
TZNAME:GMT
DTSTART:20211031T010000
END:STANDARD
BEGIN:DAYLIGHT
TZOFFSETFROM:+0000
TZOFFSETTO:+0100
TZNAME:BST
DTSTART:20220327T010000
END:DAYLIGHT
BEGIN:STANDARD
TZOFFSETFROM:+0100
TZOFFSETTO:+0000
TZNAME:GMT
DTSTART:20221030T010000
END:STANDARD
BEGIN:DAYLIGHT
TZOFFSETFROM:+0000
TZOFFSETTO:+0100
TZNAME:BST
DTSTART:20230326T010000
END:DAYLIGHT
BEGIN:STANDARD
TZOFFSETFROM:+0100
TZOFFSETTO:+0000
TZNAME:GMT
DTSTART:20231029T010000
END:STANDARD
END:VTIMEZONE
BEGIN:VEVENT
DTSTART;VALUE=DATE:20211118
DTEND;VALUE=DATE:20211208
DTSTAMP:20260424T075839
CREATED:20211111T150000Z
LAST-MODIFIED:20211111T150100Z
UID:25329-1637193600-1638921599@matrixni.org
SUMMARY:5G in Health and Social Care - Webinar Series
DESCRIPTION:In 2020\, UK Healthcare spend accounted for 12.8% of GDP\, £269 billion. The NHS alone employs 1.6 million people\, treating millions of patients and supporting further millions of citizens in need of help and guidance. Significant injections of additional Government funding were required to help adapt service delivery models and meet increased demand for services related to the pandemic. \nAmid Covid-19\, the health and social care sectors have introduced new and innovative ways to operate safely and efficiently—yet new challenges have emerged related to treatment delays\, on-going infection risk and increased demand on services such as mental health and wellbeing. \n5G has the potential to support innovation in these areas and across the sectors as a whole: facilitating more efficient and effective ways of working. Globally\, developed economies share these challenges while emerging economies continuously face extremely challenging conditions and ongoing shortages of skilled workforce\, further enhanced by pandemic fallout. Health and Care service delivery has seen an acceleration towards community services (treatment and management away from hospitals)  meaning increased reliance on data and communication systems both in wireless tech and  wired connectivity formats. \n5G has great potential to replace and enhance such connectivity and much more besides. It may prove to be a key platform to underpin the innovation in  adjacent  technologies and in ‘best practice’\, which will become necessary to build sustainable health\, care (and increasingly wellbeing and preventative) service designs for the future. \nThis series of events will be of interest to anyone involved in contemporary health and care service design or delivery.
URL:https://matrixni.org/event/5g-in-health-and-social-care-webinar-series/
LOCATION:Online
CATEGORIES:Health
ATTACH;FMTTYPE=image/jpeg:https://matrixni.org/wp-content/uploads/2021/11/Matrix-Picture-24.jpg
END:VEVENT
BEGIN:VEVENT
DTSTART;TZID=Europe/London:20211122T100000
DTEND;TZID=Europe/London:20220223T170000
DTSTAMP:20260424T075839
CREATED:20211111T140141Z
LAST-MODIFIED:20211111T140141Z
UID:25321-1637575200-1645635600@matrixni.org
SUMMARY:Immerse UK x Imagination Virtual Production Series
DESCRIPTION:Between November 2021 and February 2022\, Immerse UK and Imagination will be joined by industry experts in a series of panel discussions and thought-leadership pieces exploring the impact of virtual production and real time content production\, each from a different perspective. \nJoin the organisers as they explore virtual production through three different lenses\, including; \nThe Future of Content\nThe benefits and impact of using a real time workflow to create content. \nThe Future of Live Experiences\nThe emerging advantages\, and challenges\, of using real time content for live experiences. \nDigital Transformation in real time\nExploring what is required to embrace realtime technologies and workflows into your organisation. \nAbout Virtual Production\nVirtual Production is more accurately described as real time content production; The process by which digital objects and environments are generated in real time using video games engines such as Unreal and Unity. The same technology that immerses you in living\, breathing\, photorealistic gaming worlds\, is now being used by filmmakers\, storytellers\, marketers and even product designers\, opening up limitless creative possibilities. \nAbout the Series\nThis series aims to demystify the technology and dig into the practical applications\, and structural\, business and cultural impact of this incredible new world\, which is and will continue to transform industries in much the same way that cloud computing and the Internet before it. \nHear from industry experts and thought leaders at the forefront of Virtual Production\, as they guide you through the latest techniques and possibilities in this exciting new space.
URL:https://matrixni.org/event/immerse-uk-x-imagination-virtual-production-series/
LOCATION:Online
CATEGORIES:Creative technology
ATTACH;FMTTYPE=image/png:https://matrixni.org/wp-content/uploads/2021/11/IMMERSE-UK-HERO-3-768x437-1-e1636639142342.png
END:VEVENT
BEGIN:VEVENT
DTSTART;TZID=Europe/London:20211123T130000
DTEND;TZID=Europe/London:20211123T140000
DTSTAMP:20260424T075839
CREATED:20211110T152732Z
LAST-MODIFIED:20211110T152749Z
UID:25310-1637672400-1637676000@matrixni.org
SUMMARY:AI Lab Skunkworks: Using AI to identify tissue growth from CT scans with George Eliot Hospital
DESCRIPTION:Join AI Lab Skunkworks to learn how they have been experimenting with using AI to identify tissue growth from CT scans with George Eliot Hospital. \nCT scans are used in the detection and understanding of disease. Radiologists currently manually compare two CT scans\, taken at different dates\, to see whether a patient’s disease has improved\, deteriorated or remained unchanged. \nThis 12-week project investigated the AI techniques that could be applied to the problem and sought to provide a proof of concept (a feasibility study) about whether it was possible to identify organs and growths\, report on any changes and highlight areas of concern to the radiologist. \nThe AI Lab Skunkworks works on demonstrating the potential of AI through proof-of-concepts and upskilling the workforce through a knowledge-sharing model. We help healthcare organisations apply AI to their problems through rapid\, agile\, iterative projects. By running an open call\, we help develop proof of concepts through a 12 week process usually helped by a supplier.  We’re excited to present the results of our last project. \nJoin us for this webinar to learn more: \n\nAbout whether AI could be used to identify features in a CT scan and automatically align images to provide radiologists with a quick\, trustworthy support tool that would improve early detection and diagnosis of growths and improve patient outcomes.\nLearn more about the current problem radiologists face\,\nThe AI technique the Roke team used.\nChallenges faced and lessons learned through this project.
URL:https://matrixni.org/event/ai-lab-skunkworks-using-ai-to-identify-tissue-growth-from-ct-scans-with-george-eliot-hospital/
LOCATION:Online
CATEGORIES:Artificial Intelligence,Health
ATTACH;FMTTYPE=image/jpeg:https://matrixni.org/wp-content/uploads/2021/11/Matrix-Picture-24.jpg
END:VEVENT
BEGIN:VEVENT
DTSTART;TZID=Europe/London:20211123T140000
DTEND;TZID=Europe/London:20211123T150000
DTSTAMP:20260424T075839
CREATED:20211102T151511Z
LAST-MODIFIED:20211102T151511Z
UID:25161-1637676000-1637679600@matrixni.org
SUMMARY:Resources for gender balance and inclusion
DESCRIPTION:Join this online workshop from the Royal Aeronautical Society to discover more about the WIAAC online resource hub and hear from the people who contributed to the wide range of resources available to alll women working in the industry. \nHosted by Caroline Arnott\, Business Adviser from Invest NI and one of the creators of the hub\, you will gain a chance to understand how the hub works before breaking out into workshops: \n\nThe benefits of Felixible Working  – hosted by Graeme Young\, Senior Adviser and Collective Concilliator at ACAS East Midlands\nGender equality at work: strategies for Change – hosted by Linsey Millen\, Policy and Development Manager at Close the Gap\nThe Alta Mentoring Scheme  – hosted by Prf Sue Durbin\, UWE Bristol Business School and alta founding partner\nRAeS Careers in Aerospace resources – hosted by Rosalind Azouzi and Nick Davis\, RAeS Education\, Skills and Diversity Team\n\n 
URL:https://matrixni.org/event/resources-for-gender-balance-and-inclusion/
LOCATION:Online
CATEGORIES:Engineering
ATTACH;FMTTYPE=image/jpeg:https://matrixni.org/wp-content/uploads/2020/08/a40840822494bb8856674775b34c384e.jpg
END:VEVENT
BEGIN:VEVENT
DTSTART;TZID=Europe/London:20211123T173000
DTEND;TZID=Europe/London:20211123T190000
DTSTAMP:20260424T075839
CREATED:20211015T104831Z
LAST-MODIFIED:20211015T104831Z
UID:25067-1637688600-1637694000@matrixni.org
SUMMARY:Royal Academy of Engineering Research Forum
DESCRIPTION:The Research Forum is a highlight of the Academy’s research activities. It showcases the world-class engineering research funded through the Academy’s wide range of programmes. This year\, the Research Forum will be a virtual event and will be moderated by Professor Karen Holford CBE FREng FLSW\, Chair\, Research Committee and Chief Executive and Vice-Chancellor\, Cranfield University. \nThe event will consist of a mix of keynote talks from current awardees and alumni from across the portfolio of Academy’s research schemes. Delegates will have an opportunity to ask questions and interact with the speakers. \nProgramme\n\n\n\n5.30pm\nWelcome and introduction \nProfessor Sir Jim McDonald FREng FRSE\, President\, Royal Academy of Engineering\n\n\n5.40pm\nOverview of the Academy’s research programme \nProfessor Karen Holford CBE FREng FLSW\, Chair\, Research Committee and Chief Executive and Vice-Chancellor\, Cranfield University\n\n\n5.50pm\nResearch Awardee talks \n\nProfessor Eleanor Stride OBE FREng\, Professor\, Department of Engineering Science\, University of Oxford\nDr Oliver Payton\, University of Bristol\nDr Carolina Font-Palma\, Lecturer in Mechanical Engineering\, University of Hull\nProfessor Daniele Faccio FRSE\, Professor of Quantum Technologies\, University of Glasgow\nDr Michael Jennings\, Associate Professor\, Swansea University\nProfessor Tong Sun OBE FREng\, Professor of Sensor Engineering\, City\, University of London\n\n\n\n\n6.55pm\nClosing remarks \nProfessor Karen Holford CBE FREng FLSW\n\n\n7.00pm\nEnd of event\n\n\n\nTickets\nThis event is free of charge\, but registration is required.\nAfter registering your place\, you will receive an email that contains login details to join the online event.
URL:https://matrixni.org/event/royal-academy-of-engineering-research-forum/
LOCATION:Online
CATEGORIES:R&D
ATTACH;FMTTYPE=image/jpeg:https://matrixni.org/wp-content/uploads/2018/12/fa7f6c1381a0f5923141b255542b579c-e1613055324186.jpg
END:VEVENT
END:VCALENDAR