BEGIN:VCALENDAR
VERSION:2.0
PRODID:-//Matrix - ECPv6.15.20//NONSGML v1.0//EN
CALSCALE:GREGORIAN
METHOD:PUBLISH
X-WR-CALNAME:Matrix
X-ORIGINAL-URL:https://matrixni.org
X-WR-CALDESC:Events for Matrix
REFRESH-INTERVAL;VALUE=DURATION:PT1H
X-Robots-Tag:noindex
X-PUBLISHED-TTL:PT1H
BEGIN:VTIMEZONE
TZID:Europe/London
BEGIN:DAYLIGHT
TZOFFSETFROM:+0000
TZOFFSETTO:+0100
TZNAME:BST
DTSTART:20200329T010000
END:DAYLIGHT
BEGIN:STANDARD
TZOFFSETFROM:+0100
TZOFFSETTO:+0000
TZNAME:GMT
DTSTART:20201025T010000
END:STANDARD
BEGIN:DAYLIGHT
TZOFFSETFROM:+0000
TZOFFSETTO:+0100
TZNAME:BST
DTSTART:20210328T010000
END:DAYLIGHT
BEGIN:STANDARD
TZOFFSETFROM:+0100
TZOFFSETTO:+0000
TZNAME:GMT
DTSTART:20211031T010000
END:STANDARD
BEGIN:DAYLIGHT
TZOFFSETFROM:+0000
TZOFFSETTO:+0100
TZNAME:BST
DTSTART:20220327T010000
END:DAYLIGHT
BEGIN:STANDARD
TZOFFSETFROM:+0100
TZOFFSETTO:+0000
TZNAME:GMT
DTSTART:20221030T010000
END:STANDARD
END:VTIMEZONE
BEGIN:VEVENT
DTSTART;TZID=Europe/London:20211116T100000
DTEND;TZID=Europe/London:20211116T111500
DTSTAMP:20260424T075726
CREATED:20211012T161424Z
LAST-MODIFIED:20211012T161424Z
UID:25036-1637056800-1637061300@matrixni.org
SUMMARY:The Future is Explosive!
DESCRIPTION:This webinar will discuss Dstl’s Advanced Energetic  Materials research programme\, covering  scope\, opportunities\, and how to work with us.\n\n\nDstl’s webinars are designed to help small and medium-sized enterprises work with the defence sector. They are free to attend and you do not need to have experience working with Dstl or in defence.\n \nSign up to hear from our experts discussing Dstl’s Advanced Energetic  Materials research programme\, accelerating the discovery and delivery of new energetic materials to deliver more effect with less volume and mass. The session will include:\n \n\nScope of the programme and priority areas for future research and funding\n\nOpportunities to get involved\n\nHow to work with us
URL:https://matrixni.org/event/the-future-is-explosive/
LOCATION:Northern Ireland
CATEGORIES:Cybersecurity
ATTACH;FMTTYPE=image/jpeg:https://matrixni.org/wp-content/uploads/2021/10/a3cebacb47f4c6f5a1e4d04889ff73c0.jpg
END:VEVENT
BEGIN:VEVENT
DTSTART;TZID=Europe/London:20211116T110000
DTEND;TZID=Europe/London:20211116T123000
DTSTAMP:20260424T075726
CREATED:20210810T140243Z
LAST-MODIFIED:20210810T140243Z
UID:24666-1637060400-1637065800@matrixni.org
SUMMARY:The Net Zero series: Towards a sustainable future - Sustainable Energy
DESCRIPTION:The net zero series sheds light on the work already undertaken by UKRI’s flagship programme -the Industrial Strategy Challenge Fund.\n\n\nWe live in a time of unprecedented change. The way we live our lives and do business is impacting the planet and driving environmental change on a scale unique in the Earth’s history. We are consuming our natural resources at unprecedented levels whilst polluting our environment\, affecting our air\, soils\, water and biodiversity. This is increasing the challenges linked to extreme weather and a changing climate which can have devastating impacts on the environment and human life and hinder economic growth. To meet these challenges\, and recognising our leadership potential\, in 2019 the UK became the first major economy to commit to reducing greenhouse gas emissions to net zero by 2050.  \nThe net zero series sheds light on the work already undertaken by UKRI’s flagship programme -the Industrial Strategy Challenge Fund to address the key challenges that will help the UK build back greener. It will bring together world-renowned researchers and innovators across the breadth of our funding disciplines to discuss the need for innovative solutions to heat our homes\, travel to work\, develop and transform our industries\, cater to our diet\, enjoy our leisure time\, and prosper from a cleaner\, healthier environment in parallel with growing our economy. \nWe will run a monthly webinar from April to November featuring ISCF challenges\, UKRI councils and project leads\, as well as renowned external experts from academia\, industry and technology fields.  \nIn September we will be discussing Sustainable Energy: To succeed in limiting global warming\, the UK urgently needs to use energy efficiently while embracing clean energy sources to make things move\, heat up and cool down. How can we deliver cheaper\, clean energy systems across the world? In what ways will energy\, tech and auto firms converge and how will this impact the evolution of smart grids? What will be the business models that will succeed in 21st century energy markets? \n\n\nAll topic and dates:  \n\n20 July –  Sustainable Industry\n21 September – Sustainable Supply Chains\n19 October – Sustainable Materials\n16 November – Sustainable Energy\n\n\n\nView  recordings of previous topics  on YouTube:  \n\nSustainable Food \n\nSustainable Transport\n\nSustainable Buildings
URL:https://matrixni.org/event/the-net-zero-series-towards-a-sustainable-future-sustainable-energy/
LOCATION:Northern Ireland
CATEGORIES:Circular Green
ATTACH;FMTTYPE=image/jpeg:https://matrixni.org/wp-content/uploads/2021/08/0094cef7f84641c1aefabbf119872d08.jpg
END:VEVENT
END:VCALENDAR