BEGIN:VCALENDAR
VERSION:2.0
PRODID:-//Matrix - ECPv6.15.20//NONSGML v1.0//EN
CALSCALE:GREGORIAN
METHOD:PUBLISH
X-ORIGINAL-URL:https://matrixni.org
X-WR-CALDESC:Events for Matrix
REFRESH-INTERVAL;VALUE=DURATION:PT1H
X-Robots-Tag:noindex
X-PUBLISHED-TTL:PT1H
BEGIN:VTIMEZONE
TZID:Europe/London
BEGIN:DAYLIGHT
TZOFFSETFROM:+0000
TZOFFSETTO:+0100
TZNAME:BST
DTSTART:20200329T010000
END:DAYLIGHT
BEGIN:STANDARD
TZOFFSETFROM:+0100
TZOFFSETTO:+0000
TZNAME:GMT
DTSTART:20201025T010000
END:STANDARD
BEGIN:DAYLIGHT
TZOFFSETFROM:+0000
TZOFFSETTO:+0100
TZNAME:BST
DTSTART:20210328T010000
END:DAYLIGHT
BEGIN:STANDARD
TZOFFSETFROM:+0100
TZOFFSETTO:+0000
TZNAME:GMT
DTSTART:20211031T010000
END:STANDARD
BEGIN:DAYLIGHT
TZOFFSETFROM:+0000
TZOFFSETTO:+0100
TZNAME:BST
DTSTART:20220327T010000
END:DAYLIGHT
BEGIN:STANDARD
TZOFFSETFROM:+0100
TZOFFSETTO:+0000
TZNAME:GMT
DTSTART:20221030T010000
END:STANDARD
END:VTIMEZONE
BEGIN:VEVENT
DTSTART;TZID=Europe/London:20211026T130000
DTEND;TZID=Europe/London:20211026T141500
DTSTAMP:20260424T094805
CREATED:20211013T150747Z
LAST-MODIFIED:20211013T150747Z
UID:25048-1635253200-1635257700@matrixni.org
SUMMARY:Going Green: How do we win public support for the transition?
DESCRIPTION:Decarbonising homes is one of the biggest challenges in getting to net zero\, requiring investment in nearly all existing homes\, as well as considerable behaviour change from citizens. How might we win public support for the transition? \nIn this event\, NESTA brings together a panel of expert speakers to discuss what it might take to get everyone on the journey to a low-carbon home\, exploring the potential role of everything from subsidies and policy change to climate assemblies and deliberative democracy. \nThis is the first event in the Making the Switch Towards Cleaner\, Greener Homes event series.
URL:https://matrixni.org/event/going-green-how-do-we-win-public-support-for-the-transition/
LOCATION:Online
CATEGORIES:Climate Change
ATTACH;FMTTYPE=image/jpeg:https://matrixni.org/wp-content/uploads/2021/10/Matrix-Picture-8.jpg
END:VEVENT
END:VCALENDAR