BEGIN:VCALENDAR
VERSION:2.0
PRODID:-//Matrix - ECPv6.15.20//NONSGML v1.0//EN
CALSCALE:GREGORIAN
METHOD:PUBLISH
X-WR-CALNAME:Matrix
X-ORIGINAL-URL:https://matrixni.org
X-WR-CALDESC:Events for Matrix
REFRESH-INTERVAL;VALUE=DURATION:PT1H
X-Robots-Tag:noindex
X-PUBLISHED-TTL:PT1H
BEGIN:VTIMEZONE
TZID:Europe/London
BEGIN:DAYLIGHT
TZOFFSETFROM:+0000
TZOFFSETTO:+0100
TZNAME:BST
DTSTART:20200329T010000
END:DAYLIGHT
BEGIN:STANDARD
TZOFFSETFROM:+0100
TZOFFSETTO:+0000
TZNAME:GMT
DTSTART:20201025T010000
END:STANDARD
BEGIN:DAYLIGHT
TZOFFSETFROM:+0000
TZOFFSETTO:+0100
TZNAME:BST
DTSTART:20210328T010000
END:DAYLIGHT
BEGIN:STANDARD
TZOFFSETFROM:+0100
TZOFFSETTO:+0000
TZNAME:GMT
DTSTART:20211031T010000
END:STANDARD
BEGIN:DAYLIGHT
TZOFFSETFROM:+0000
TZOFFSETTO:+0100
TZNAME:BST
DTSTART:20220327T010000
END:DAYLIGHT
BEGIN:STANDARD
TZOFFSETFROM:+0100
TZOFFSETTO:+0000
TZNAME:GMT
DTSTART:20221030T010000
END:STANDARD
END:VTIMEZONE
BEGIN:VEVENT
DTSTART;TZID=Europe/London:20211011T080000
DTEND;TZID=Europe/London:20211014T170000
DTSTAMP:20260424T094648
CREATED:20211005T110518Z
LAST-MODIFIED:20211007T131135Z
UID:24958-1633939200-1634230800@matrixni.org
SUMMARY:SPACE2CONNECT 2021 Conference
DESCRIPTION:Join the European Space Agency’s first ever Space2Connect conference taking place between 11 to 14 October 2021. This virtual event will be streamed from ESA ESTEC in Noordwijk in the Netherlands\, and we invite you to participate! \nSpace2Connect is a place to explore and discuss emerging space-based solutions for today’s and tomorrow’s digital economy. Giving an outline across the whole satcom upstream and downstream business value chain\, we aim to foster partnerships and inspire new strategies for technology development and market growth. \nThe conference consists of both plenary and parallel sessions with virtual networking opportunities. The opening plenary sessions are where manufacturers\, satellite operators\, space agencies\, small companies\, entrepreneurs\, technical experts and investors are encouraged to quiz executive-level guests who deliver keynote speeches. \nDuring parallel sessions at Space2Connect we will continue to exchange ideas\, share plans\, develop relationships\, and seek inspiration to thrive in the new space age. You will be able to choose from a wide range of topics showing the latest developments in advanced technology\, products and services for satellite communications\, discuss the role of space in rail and maritime transport\, explore how space-enabled 5G/6G connectivity is transforming society\, and much more!
URL:https://matrixni.org/event/space2connect-2021-conference/
LOCATION:Online
CATEGORIES:Telecommunications
ATTACH;FMTTYPE=image/jpeg:https://matrixni.org/wp-content/uploads/2021/10/Matrix-Picture-4.jpg
END:VEVENT
BEGIN:VEVENT
DTSTART;TZID=Europe/London:20211011T080000
DTEND;TZID=Europe/London:20211015T170000
DTSTAMP:20260424T094648
CREATED:20211005T111415Z
LAST-MODIFIED:20211007T131606Z
UID:24962-1633939200-1634317200@matrixni.org
SUMMARY:Φ-week
DESCRIPTION:The European Space Agency invites you to participate to the fourth edition of Φ-week on 11–15 October 2021. \nThis event focuses on how to accelerate the future of Earth Observation (EO)\, presenting recent developments in EO Open Science and latest trends in EO markets\, exploring bold and transformative ideas that ESA’s Φ-lab and Data Applications Division supports and scales up along with researchers\, start-ups\, industry and private investors. \nThe main theme of Φ-week 2021 is the New Space economy and associated innovations. The sessions\, posters and side-events will highlight how the New Space economy is developing in Europe and alongside competition worldwide\, and how it can contribute to the EU Green Deal\, Digital Europe Programme\, Destination Earth initiative\, UN SDGs\, and in general to the EU Space Strategy and European space sector. \nIt will be a free-to-attend virtual event for the public and in person for invited speakers\, COVID situation allowing it.
URL:https://matrixni.org/event/%cf%86-week/
LOCATION:Online
CATEGORIES:Space technology
ATTACH;FMTTYPE=image/jpeg:https://matrixni.org/wp-content/uploads/2021/10/Matrix-Picture-4.jpg
END:VEVENT
BEGIN:VEVENT
DTSTART;TZID=Europe/London:20211012T100000
DTEND;TZID=Europe/London:20211012T130000
DTSTAMP:20260424T094648
CREATED:20211008T145727Z
LAST-MODIFIED:20211008T145727Z
UID:25021-1634032800-1634043600@matrixni.org
SUMMARY:TFI DEMO Competition Briefing & Capability for TFI Event
DESCRIPTION:Join Innovate UK and KTN for details of the new Transforming Foundation Industries Demonstrators Competition\, followed by the Capability for TFI Event where you can learn about Research Organisations expertise and find consortium partners for DEMO. \nTFI Demonstrators Competition provides the opportunity for UK businesses to apply for up to 2-year projects\, greater than £5m in size\, focussed upon sustainability developments for the foundation industries. The competition aim is to support the demonstration of the future technology required to improve the productivity and competitiveness of UK foundation industries\, piloted at active foundation industry sites\, de-risking future deployment for all foundation industries. This programme of events will help bring to life some of the key themes that will make up the competition and make connections across the industries.
URL:https://matrixni.org/event/tfi-demo-competition-briefing-capability-for-tfi-event/
LOCATION:Online
CATEGORIES:Engineering
ATTACH;FMTTYPE=image/jpeg:https://matrixni.org/wp-content/uploads/2017/06/nasa.jpg
END:VEVENT
BEGIN:VEVENT
DTSTART;TZID=Europe/London:20211012T150000
DTEND;TZID=Europe/London:20211012T160000
DTSTAMP:20260424T094648
CREATED:20211004T092237Z
LAST-MODIFIED:20211007T131936Z
UID:24928-1634050800-1634054400@matrixni.org
SUMMARY:An Introduction to the DHSC funded SBRI - Vaccines for epidemic diseases: Readiness for clinical development call for applications
DESCRIPTION:Innovate UK will be delivering a 1-year SBRI competition Vaccines for Epidemic Diseases: Readiness for clinical development\, on behalf of DHSC. The call will open on 11th October and close on 10th November 2021\, with a proposed start date of 1st April 2022. This call is being announced in advanced of the official call opening as Innovate UK and DHSC recognise this is a busy and trying time\, and wish to give organisations as much time as possible to plan potential applications. The call will be open to any organisation\, including academic\, research\, and industry institutions. \n  \nAgenda \n15:00 – Welcome & Logistics | Gabriela Juarez Martinez\, KTN \n15:05 – An update on the UKVN and the aims of the SBRI – Vaccines for epidemic diseases: Readiness for clinical developmentcall | Sarah Legrand\, DHSC \n15:25 – Details of the Call and Timelines | Phil Packer\, Innovate UK \n15:45 – Q&A \n16:00 – Close \n  \nFor any queries about this event please get in touch with KTN’s Gabriela Juarez Martinez.
URL:https://matrixni.org/event/an-introduction-to-the-dhsc-funded-sbri-vaccines-for-epidemic-diseases-readiness-for-clinical-development-call-for-applications/
LOCATION:Online
CATEGORIES:Health
ATTACH;FMTTYPE=image/jpeg:https://matrixni.org/wp-content/uploads/2021/10/Matrix-Picture-5.jpg
END:VEVENT
BEGIN:VEVENT
DTSTART;TZID=Europe/London:20211012T170000
DTEND;TZID=Europe/London:20211012T180000
DTSTAMP:20260424T094648
CREATED:20211007T150430Z
LAST-MODIFIED:20211007T150430Z
UID:25007-1634058000-1634061600@matrixni.org
SUMMARY:G-SIRT Briefing Webinar
DESCRIPTION:We are currently living through an unprecedented period of global challenges and change that increasingly threaten our planet. At the same time\, organisations are subject to ever more complex regulatory pressures that often stand in the way of innovation. Regulatory technology (RegTech) can support organisations to become more agile and resilient in fulfilling their regulatory obligations and provide a competitive advantage. \nCo-located in Belfast and Derry/Londonderry\, ‘G-SIRT’ will be the UK’s national institute in RegTech\, bringing together companies\, academics and public bodies to drive world-class research and innovation; to understand and address at pace the real-world\, cross-sectoral challenges within RegTech; and ensure the UK is acknowledged as the global hub for innovative and influential leadership in this area. If fully funded\, we anticipate G-SIRT would create up to 16\,500 (10\,200 direct with 6\,300 indirect and induced) new jobs and £931m in gross value added (GVA) by 2031. \nG-SIRT will work alongside other initiatives and industry groups\, such as the Centre for Finance Innovation Technology (as proposed by HM Treasury’s Kalifa Review) and the FinTech National Network\, to strengthen industry collaboration between all nations of the UK\, accelerate digital and data driven innovation\, and unlock the associated economic benefits. \nA proposition has been submitted into UK Government by Innovation City Belfast\, G-SIRT has received enthusiastic backing from industry\, academia and the NI Executive. Alongside Innovation City Belfast\, Fintech NI (the industry representative body)\, Invest NI\, Digital Catapult NI and Matrix (the science and industry panel) have all backed G-SIRT. The Department for Economy is also fully supportive\, particularly in relation to the ‘10x Vision’ for the NI economy and its focus on FinTech as a strategic cluster. \nGoals of the Session: \nTo share information on the G-SIRT proposal with a wider audience and answer any questions related to the proposal from this cross-functional RegTech group. \n\nLightning Share of the G-SIRT briefing document\nQ&A session\nAssess appetite from the group for a Phase 2 Working Session to solicit ideas\n\nDate: Tuesday 12th October\nTime: 5pm-6pm\nLocation: Online via Zoom\nMODERATOR \nJacqueline McCann – Catalyst \nPRESENTERS & PANELLIST \nAlex Lee – Director\, Fintech NI & Chair\, FSCom – one of the leading regulation and compliance advisors to FinTech firms with offices in London\, Dublin and Belfast. \nEmma Pollock – CTO FinTru \nAndrew Jenkins – Chairperson Fintech NI & Fintech Envoy for NI. \nMark Gillan – Interim Belfast Digital Commissioner at Belfast City Council/ Innovation City Belfast \nSteve Orr – CEO\, Catalyst \nAGENDA \n5.00pm Welcome and Set Up \n5.05pm Briefing Document Lightning Share \n5.35pm Q&A Session \n5.55pm Vote on Follow-Up Session & Wrap up \n6.00pm Close
URL:https://matrixni.org/event/g-sirt-briefing-webinar/
LOCATION:Online
CATEGORIES:FinTech
ATTACH;FMTTYPE=image/jpeg:https://matrixni.org/wp-content/uploads/2021/10/g-sirt-e1633618850850.jpg
END:VEVENT
END:VCALENDAR