BEGIN:VCALENDAR
VERSION:2.0
PRODID:-//Matrix - ECPv6.15.20//NONSGML v1.0//EN
CALSCALE:GREGORIAN
METHOD:PUBLISH
X-WR-CALNAME:Matrix
X-ORIGINAL-URL:https://matrixni.org
X-WR-CALDESC:Events for Matrix
REFRESH-INTERVAL;VALUE=DURATION:PT1H
X-Robots-Tag:noindex
X-PUBLISHED-TTL:PT1H
BEGIN:VTIMEZONE
TZID:Europe/London
BEGIN:DAYLIGHT
TZOFFSETFROM:+0000
TZOFFSETTO:+0100
TZNAME:BST
DTSTART:20200329T010000
END:DAYLIGHT
BEGIN:STANDARD
TZOFFSETFROM:+0100
TZOFFSETTO:+0000
TZNAME:GMT
DTSTART:20201025T010000
END:STANDARD
BEGIN:DAYLIGHT
TZOFFSETFROM:+0000
TZOFFSETTO:+0100
TZNAME:BST
DTSTART:20210328T010000
END:DAYLIGHT
BEGIN:STANDARD
TZOFFSETFROM:+0100
TZOFFSETTO:+0000
TZNAME:GMT
DTSTART:20211031T010000
END:STANDARD
BEGIN:DAYLIGHT
TZOFFSETFROM:+0000
TZOFFSETTO:+0100
TZNAME:BST
DTSTART:20220327T010000
END:DAYLIGHT
BEGIN:STANDARD
TZOFFSETFROM:+0100
TZOFFSETTO:+0000
TZNAME:GMT
DTSTART:20221030T010000
END:STANDARD
END:VTIMEZONE
BEGIN:VEVENT
DTSTART;VALUE=DATE:20210927
DTEND;VALUE=DATE:20211009
DTSTAMP:20260424T094744
CREATED:20210811T163904Z
LAST-MODIFIED:20210811T163904Z
UID:24706-1632700800-1633737599@matrixni.org
SUMMARY:From seeds to needs: Regenerating ecosystems services to halt the biodiversity crisis
DESCRIPTION:Where can interdisciplinary collaborations with engineering solutions make the largest impact? Apply to participate in the RAEng Frontiers Symposia – if successful you can bid for seed funding to take forward a collaborative project established at the event\, ensuring that partnerships are built to last. \nAttendance at a Frontiers symposia is by invitation only following a rigorous selection process. Applicants can self nominate or nominate an other person for a specific event or make a general application. \nApply to attend – Royal Academy of Engineering (raeng.org.uk) \nThe goal of the symposia is to facilitate introductions and collaboration between outstanding researchers\, innovators and practitioners working in the international development field. \nWhilst working jointly on concepts for engineering for development\, attendees share new techniques and approaches across disciplinary boundaries and build lasting connections. Delegates will be approximately 0-20 years post-doc\, or have equivalent experience in industry\, presenting a great opportunity to establish valuable contacts with the next generation of engineering leaders and beyond. \nSymposium content and themes\nWe face a global biodiversity crisis\, with unprecedented and accelerating rates of species extinctions and degradation of habitats. This will have grave impacts on the worlds human population dependent on the ecosystems services they provide.  However\, biodiversity is a broad theme with many challenges encompassed within it. There is a need to simultaneously identify the major challenges faced (such as those defined by the Sustainable Development Goals) and the areas where interdisciplinary environmental engineering and science can have the greatest impact to maximise the benefits gained relative to costs – “maximising the bang for the buck”. \nIt is recognised that the global biodiversity emergency affects lower- and middle-income countries the hardest. There are potential conflicts between conservation efforts and resource exploitation that can often negatively impact the communities in LMICs and undermine efforts of development. \nThis symposium will scope out those challenges that would most benefit from engineering solutions\, as part of interdisciplinary collaborations\, and explore this within the context of the themes: Marine\, Freshwater and Terrestrial. \nEach theme will be explored from a research\, policy and industry perspective\, facilitating dialogue from a wide range of disciplines\, including engineering\, environmental science and management\, social sciences\, and economics and governance. \nEvent Chairs\nPaul Kemp\, Professor of Ecological Engineering\, University of Southampton\n \nPaul Kemp is a Professor of Ecological Engineering and director of the International Centre for Ecohydraulics Research at University of Southampton and founding editor in chief of the IAHR Journal of Ecohydraulics. As a result of his interest in sustainable infrastructure and the built environment he is also director of the University of Southampton Future Towns Innovation Hub\, the EPSRC funded Centre for Doctoral Training (CDT) in Sustainable Infrastructure Systems\, and the UKCRIC CDT in Sustainable Infrastructure for Cities. \nPaul’s interests relate to the development of more environmentally friendly water\, energy and food systems\, and in particular sustainable fisheries management.  His research focuses on the application of behavioural ecology to understanding and solving challenges in water and energy engineering\, particularly how the physical environment (e.g. hydrodynamics and acoustics) influence the behaviour and physiological performance of fish\, and how manipulation of that environment by engineering means can be used to mitigate for negative impacts of water and energy resource development. Specific applications include fish pass and screening design\, assigning compensation flow regimes\, and improving habitat restoration strategies. \n*Second chair to be announced\n Symposium Format\nVirtual symposium\nDelegates meet and work together on the Frontiers’ virtual platform\, where they watch pre-recorded presentations\, engage in theme related content\, network with other delegates and collaborate on seed funding. \nThis leads to 2 days of live event in the second week where delegates participate in breakout rooms to workshop the ideas being discussed on the platform. \nParticipants are obliged to participate in every session to maximise the opportunity to make new contacts and build collaborative relationships. To ensure there is a balance of formal and informal networking opportunities\, informal networking will be organised. \nPost event funding\nFollowing the symposium\, there will be an opportunity to be awarded up to £20\,000 in seed funding for an idea generated from collaborations created during the event. \n\n\n 
URL:https://matrixni.org/event/from-seeds-to-needs-regenerating-ecosystems-services-to-halt-the-biodiversity-crisis/
LOCATION:Online
CATEGORIES:Circular Green,Engineering
ATTACH;FMTTYPE=image/jpeg:https://matrixni.org/wp-content/uploads/2021/04/bec0326927b237aaabf3decac819f2ea.jpg
END:VEVENT
BEGIN:VEVENT
DTSTART;VALUE=DATE:20210928
DTEND;VALUE=DATE:20210930
DTSTAMP:20260424T094744
CREATED:20210820T105041Z
LAST-MODIFIED:20210820T105041Z
UID:24753-1632787200-1632959999@matrixni.org
SUMMARY:Digital DNA 2021
DESCRIPTION:Join 1\,500+ attendees in-person at St Georges Market\, Belfast to hear from the brightest minds in the tech industry and discover the impact technology is having on our world. \n\n\n\nSince 2013\, Digital DNA has established itself as the biggest tech event in Northern Ireland and is back in person for 2021 on Tuesday 28 & Wednesday 29 September. \nWe bring together the regions leading tech talent\, investors\, multinational and indigenous companies as well as those genuinely interested in the world of technology and the impact it has on us all. \nWE DON’T DO VANILLA. You won’t find stuffy\, academic style talks that are deeply technical\, long and theoretical. All our talks are carefully curated to be thought provoking and provide knowledge to our audience. \n\n\n\n\n\n\n\nWe bring the energy and create the most exciting event experience for tech tech community.
URL:https://matrixni.org/event/digital-dna-2021/
LOCATION:St George’s Market\, East Bridge Street\, Belfast\, Northern Ireland\, BT1 3NQ\, United Kingdom
END:VEVENT
END:VCALENDAR